Workbook

Sheet Combined Rate
A1: PART 1 OF 2
E2: UTAH CODE TITLE 59, CHAPTER 12 - SALES & USE TAX ACT
E3: COMBINED SALES AND USE TAX RATES
E4: Tax Rates Subject to Streamline Sales Tax Rules
E5: OTHER TAXES APPLY TO CERTAIN TRANSACTIONS
E6: Rates In effect as of October 1, 2026
E7: Please see instructions below
C9: Cnty/ | D9: Code
C10: City | D10: for | E10: Common Rates | I10: Transit and Highways | R10: Hosp | S10: Arts & Zoo | T10: City/Town Opt. | V10: Impacted Comm. | Y10: Emergency | Z10: Combined
A11: Location | C11: Code | D11: P.S.D. | E11: ST* | G11: LS | H11: CO | I11: MT | J11: MA | K11: MF | L11: CT | M11: HT | N11: HH | O11: AT | P11: CP | Q11: SM | R11: RH | S11: CZ | T11: TO | U11: TN | V11: RR | W11: CF | X11: CR | Y11: FD | Z11: Sales Rate
A12: INSTRUCTIONS:
A13: The combined sales rate for the various localities in this section applies to all taxable sales in the state. Other taxes and fees, such as transient room, short-term vehicle leasing, restaurant, telecommunications and municipal energy are in addition to the combined rate. Please see the following section for these rates. Refer to Publication 25 for more information on the taxability of certain transactions.
A14: These rate charts should not be used for sourcing sales from out-of-state sellers to locations in Utah. Out-of-state sellers should source their sales based on the ZIP +4 of the customer's address. For more information, see https://tax.utah.gov/sales/non-nexus
A15: * The tax on food and food ingredients is 3.0% statewide. This includes the state rate of 1.75%, local option rate of 1.0% and county option rate of 0.25%.
A16: For sales of residential energy, the combined rate is reduced by 2.85%.
A18: Beaver County | C18: 01-000 | D18: 01-000 | E18: 0.0485 | F18: * | G18: 0.01 | H18: 0.0025 | O18: 0.0025 | Z18: 0.0635
A19: Beaver City | C19: 01-002 | D19: 01-002 | E19: 0.0485 | F19: * | G19: 0.01 | H19: 0.0025 | O19: 0.0025 | R19: 0.01 | Z19: 0.0735
A20: Milford | C20: 01-008 | D20: 01-000 | E20: 0.0485 | F20: * | G20: 0.01 | H20: 0.0025 | O20: 0.0025 | Z20: 0.0635
A21: Minersville | C21: 01-009 | D21: 01-000 | E21: 0.0485 | F21: * | G21: 0.01 | H21: 0.0025 | O21: 0.0025 | Z21: 0.0635
A22: UIPA Beaver County | B22: (a) | C22: 01-500 | E22: 0.0485 | F22: * | G22: 0.01 | H22: 0.0025 | O22: 0.0025 | Z22: 0.0635
A23: UIPA Beaver City | B23: (a) | C23: 01-501 | E23: 0.0485 | F23: * | G23: 0.01 | H23: 0.0025 | O23: 0.0025 | R23: 0.01 | Z23: 0.0735
A24: UIPA Milford | B24: (a) | C24: 01-502 | E24: 0.0485 | F24: * | G24: 0.01 | H24: 0.0025 | O24: 0.0025 | Z24: 0.0635
A26: Box Elder County | C26: 02-000 | D26: 02-000 | E26: 0.0485 | F26: * | G26: 0.01 | H26: 0.0025 | K26: 0.003 | O26: 0.0025 | Z26: 0.0665
A27: Bear River | C27: 02-004 | D27: 02-000 | E27: 0.0485 | F27: * | G27: 0.01 | H27: 0.0025 | K27: 0.003 | O27: 0.0025 | Z27: 0.0665
A28: Brigham | C28: 02-017 | D28: 02-017 | E28: 0.0485 | F28: * | G28: 0.01 | H28: 0.0025 | I28: 0.003 | K28: 0.003 | O28: 0.0025 | Z28: 0.0695
A29: Corinne | C29: 02-025 | D29: 02-000 | E29: 0.0485 | F29: * | G29: 0.01 | H29: 0.0025 | K29: 0.003 | O29: 0.0025 | Z29: 0.0665
A30: Deweyville | C30: 02-032 | D30: 02-000 | E30: 0.0485 | F30: * | G30: 0.01 | H30: 0.0025 | K30: 0.003 | O30: 0.0025 | Z30: 0.0665
A31: Elwood | C31: 02-035 | D31: 02-000 | E31: 0.0485 | F31: * | G31: 0.01 | H31: 0.0025 | K31: 0.003 | O31: 0.0025 | Z31: 0.0665
A32: Fielding | C32: 02-041 | D32: 02-000 | E32: 0.0485 | F32: * | G32: 0.01 | H32: 0.0025 | K32: 0.003 | O32: 0.0025 | Z32: 0.0665
A33: Garland | C33: 02-044 | D33: 02-000 | E33: 0.0485 | F33: * | G33: 0.01 | H33: 0.0025 | K33: 0.003 | O33: 0.0025 | Z33: 0.0665
A34: Honeyville | C34: 02-054 | D34: 02-000 | E34: 0.0485 | F34: * | G34: 0.01 | H34: 0.0025 | K34: 0.003 | O34: 0.0025 | Z34: 0.0665
A35: Howell | C35: 02-057 | D35: 02-000 | E35: 0.0485 | F35: * | G35: 0.01 | H35: 0.0025 | K35: 0.003 | O35: 0.0025 | Z35: 0.0665
A36: Mantua | C36: 02-069 | D36: 02-069 | E36: 0.0485 | F36: * | G36: 0.01 | H36: 0.0025 | K36: 0.003 | M36: 0.003 | O36: 0.0025 | Z36: 0.0695
A37: Perry | C37: 02-086 | D37: 02-086 | E37: 0.0485 | F37: * | G37: 0.01 | H37: 0.0025 | K37: 0.003 | M37: 0.003 | O37: 0.0025 | Z37: 0.0695
A38: Plymouth | C38: 02-090 | D38: 02-000 | E38: 0.0485 | F38: * | G38: 0.01 | H38: 0.0025 | K38: 0.003 | O38: 0.0025 | Z38: 0.0665
A39: Portage | C39: 02-092 | D39: 02-000 | E39: 0.0485 | F39: * | G39: 0.01 | H39: 0.0025 | K39: 0.003 | O39: 0.0025 | Z39: 0.0665
A40: Snowville | C40: 02-100 | D40: 02-100 | E40: 0.0485 | F40: * | G40: 0.01 | H40: 0.0025 | K40: 0.003 | O40: 0.0025 | T40: 0.01 | Z40: 0.0765
A41: Tremonton | C41: 02-113 | D41: 02-000 | E41: 0.0485 | F41: * | G41: 0.01 | H41: 0.0025 | K41: 0.003 | O41: 0.0025 | Z41: 0.0665
A42: Willard | C42: 02-120 | D42: 02-120 | E42: 0.0485 | F42: * | G42: 0.01 | H42: 0.0025 | K42: 0.003 | M42: 0.003 | O42: 0.0025 | Z42: 0.0695
A43: MIDA Brigham City | B43: (a) | C43: 02-301 | D43: 0 | E43: 0.0485 | F43: * | G43: 0.01 | H43: 0.0025 | I43: 0.003 | K43: 0.003 | O43: 0.0025 | Z43: 0.0695
A44: UIPA Box Elder County | B44: (a) | C44: 02-500 | E44: 0.0485 | F44: * | G44: 0.01 | H44: 0.0025 | K44: 0.003 | O44: 0.0025 | Z44: 0.0665
A45: UIPA Brigham City | B45: (a) | C45: 02-501 | E45: 0.0485 | F45: * | G45: 0.01 | H45: 0.0025 | I45: 0.003 | K45: 0.003 | O45: 0.0025 | Z45: 0.0695
A46: UIPA Garland | B46: (a) | C46: 02-502 | E46: 0.0485 | F46: * | G46: 0.01 | H46: 0.0025 | K46: 0.003 | O46: 0.0025 | Z46: 0.0665
A47: UIPA Tremonton | B47: (a) | C47: 02-503 | E47: 0.0485 | F47: * | G47: 0.01 | H47: 0.0025 | K47: 0.003 | O47: 0.0025 | Z47: 0.0665
A48: UIPA Willard | B48: (a) | C48: 02-504 | E48: 0.0485 | F48: * | G48: 0.01 | H48: 0.0025 | K48: 0.003 | M48: 0.003 | O48: 0.0025 | Z48: 0.0695
A50: Cache County | C50: 03-000 | D50: 03-000 | E50: 0.0485 | F50: * | G50: 0.01 | H50: 0.0025 | K50: 0.003 | L50: 0.0025 | O50: 0.0025 | S50: 0.001 | Z50: 0.07
A51: Amalga | C51: 03-001 | D51: 03-000 | E51: 0.0485 | F51: * | G51: 0.01 | H51: 0.0025 | K51: 0.003 | L51: 0.0025 | O51: 0.0025 | S51: 0.001 | Z51: 0.07
A52: Clarkston | C52: 03-014 | D52: 03-000 | E52: 0.0485 | F52: * | G52: 0.01 | H52: 0.0025 | K52: 0.003 | L52: 0.0025 | O52: 0.0025 | S52: 0.001 | Z52: 0.07
A53: Cornish | C53: 03-017 | D53: 03-000 | E53: 0.0485 | F53: * | G53: 0.01 | H53: 0.0025 | K53: 0.003 | L53: 0.0025 | O53: 0.0025 | S53: 0.001 | Z53: 0.07
A54: Hyde Park | C54: 03-032 | D54: 03-032 | E54: 0.0485 | F54: * | G54: 0.01 | H54: 0.0025 | I54: 0.0025 | K54: 0.003 | L54: 0.0025 | O54: 0.0025 | S54: 0.001 | Z54: 0.0725
A55: Hyrum | C55: 03-033 | D55: 03-033 | E55: 0.0485 | F55: * | G55: 0.01 | H55: 0.0025 | I55: 0.003 | K55: 0.003 | L55: 0.0025 | O55: 0.0025 | S55: 0.001 | Z55: 0.073
A56: Lewiston | C56: 03-036 | D56: 03-036 | E56: 0.0485 | F56: * | G56: 0.01 | H56: 0.0025 | I56: 0.0025 | K56: 0.003 | L56: 0.0025 | O56: 0.0025 | S56: 0.001 | Z56: 0.0725
A57: Logan | C57: 03-038 | D57: 03-038 | E57: 0.0485 | F57: * | G57: 0.01 | H57: 0.0025 | I57: 0.003 | K57: 0.003 | L57: 0.0025 | O57: 0.0025 | S57: 0.001 | Z57: 0.073
A58: Mendon | C58: 03-041 | D58: 03-000 | E58: 0.0485 | F58: * | G58: 0.01 | H58: 0.0025 | K58: 0.003 | L58: 0.0025 | O58: 0.0025 | S58: 0.001 | Z58: 0.07
A59: Millville | C59: 03-044 | D59: 03-044 | E59: 0.0485 | F59: * | G59: 0.01 | H59: 0.0025 | I59: 0.0025 | K59: 0.003 | L59: 0.0025 | O59: 0.0025 | S59: 0.001 | Z59: 0.0725
A60: Newton | C60: 03-047 | D60: 03-000 | E60: 0.0485 | F60: * | G60: 0.01 | H60: 0.0025 | K60: 0.003 | L60: 0.0025 | O60: 0.0025 | S60: 0.001 | Z60: 0.07
A61: North Logan | C61: 03-049 | D61: 03-049 | E61: 0.0485 | F61: * | G61: 0.01 | H61: 0.0025 | I61: 0.003 | K61: 0.003 | L61: 0.0025 | O61: 0.0025 | S61: 0.001 | Z61: 0.073
A62: Paradise | C62: 03-053 | D62: 03-000 | E62: 0.0485 | F62: * | G62: 0.01 | H62: 0.0025 | K62: 0.003 | L62: 0.0025 | O62: 0.0025 | S62: 0.001 | Z62: 0.07
A63: Providence | C63: 03-056 | D63: 03-056 | E63: 0.0485 | F63: * | G63: 0.01 | H63: 0.0025 | I63: 0.003 | K63: 0.003 | L63: 0.0025 | O63: 0.0025 | S63: 0.001 | Z63: 0.073
A64: Richmond | C64: 03-059 | D64: 03-059 | E64: 0.0485 | F64: * | G64: 0.01 | H64: 0.0025 | I64: 0.003 | K64: 0.003 | L64: 0.0025 | O64: 0.0025 | S64: 0.001 | Z64: 0.073
A65: River Heights | C65: 03-060 | D65: 03-060 | E65: 0.0485 | F65: * | G65: 0.01 | H65: 0.0025 | I65: 0.003 | K65: 0.003 | L65: 0.0025 | O65: 0.0025 | S65: 0.001 | Z65: 0.073
A66: Smithfield | C66: 03-062 | D66: 03-062 | E66: 0.0485 | F66: * | G66: 0.01 | H66: 0.0025 | I66: 0.003 | K66: 0.003 | L66: 0.0025 | O66: 0.0025 | S66: 0.001 | Z66: 0.073
A67: Wellsville | C67: 03-076 | D67: 03-000 | E67: 0.0485 | F67: * | G67: 0.01 | H67: 0.0025 | K67: 0.003 | L67: 0.0025 | O67: 0.0025 | S67: 0.001 | Z67: 0.07
A68: Trenton | C68: 03-081 | D68: 03-000 | E68: 0.0485 | F68: * | G68: 0.01 | H68: 0.0025 | K68: 0.003 | L68: 0.0025 | O68: 0.0025 | S68: 0.001 | Z68: 0.07
A69: Nibley | C69: 03-098 | D69: 03-098 | E69: 0.0485 | F69: * | G69: 0.01 | H69: 0.0025 | I69: 0.003 | K69: 0.003 | L69: 0.0025 | O69: 0.0025 | S69: 0.001 | Z69: 0.073
A70: MIDA Logan | B70: (a) | C70: 03-301 | D70: 03-900 | E70: 0.0485 | F70: * | G70: 0.01 | H70: 0.0025 | I70: 0.003 | K70: 0.003 | L70: 0.0025 | O70: 0.0025 | S70: 0.001 | Z70: 0.073
A71: Cache Valley Transit | B71: (a) | C71: 03-900 | D71: 03-900 | E71: 0.0485 | F71: * | G71: 0.01 | H71: 0.0025 | I71: 0.0025 | K71: 0.003 | L71: 0.0025 | O71: 0.0025 | S71: 0.001 | Z71: 0.0725
A73: Carbon County | C73: 04-000 | D73: 04-000 | E73: 0.0485 | F73: * | G73: 0.01 | H73: 0.0025 | O73: 0.0025 | Z73: 0.0635
A74: Helper | C74: 04-016 | D74: 04-016 | E74: 0.0485 | F74: * | G74: 0.01 | H74: 0.0025 | O74: 0.0025 | S74: 0.001 | Z74: 0.0645
A75: Price | C75: 04-035 | D75: 04-035 | E75: 0.0485 | F75: * | G75: 0.01 | H75: 0.0025 | M75: 0.003 | O75: 0.0025 | S75: 0.001 | Z75: 0.0675
A76: Scofield | C76: 04-040 | D76: 04-000 | E76: 0.0485 | F76: * | G76: 0.01 | H76: 0.0025 | O76: 0.0025 | Z76: 0.0635
A77: Wellington | C77: 04-053 | D77: 04-053 | E77: 0.0485 | F77: * | G77: 0.01 | H77: 0.0025 | M77: 0.003 | O77: 0.0025 | Z77: 0.0665
A78: East Carbon | C78: 04-058 | D78: 04-000 | E78: 0.0485 | F78: * | G78: 0.01 | H78: 0.0025 | O78: 0.0025 | Z78: 0.0635
A79: MIDA Carbon County | B79: (a) | C79: 04-300 | D79: 0 | E79: 0.0485 | F79: * | G79: 0.01 | H79: 0.0025 | O79: 0.0025 | Z79: 0.0635
A80: UIPA Carbon County | B80: (a) | C80: 04-500 | E80: 0.0485 | F80: * | G80: 0.01 | H80: 0.0025 | O80: 0.0025 | Z80: 0.0635
A81: UIPA Wellington | B81: (a) | C81: 04-501 | D81: 05-002 | E81: 0.0485 | F81: * | G81: 0.01 | H81: 0.0025 | M81: 0.003 | O81: 0.0025 | Z81: 0.0665
A83: Daggett County | C83: 05-000 | D83: 05-000 | E83: 0.0485 | F83: * | G83: 0.01 | H83: 0.0025 | K83: 0.003 | O83: 0.0025 | R83: 0.01 | Z83: 0.0765
A84: Dutch John | C84: 05-002 | D84: 05-002 | E84: 0.0485 | F84: * | G84: 0.01 | H84: 0.0025 | K84: 0.003 | O84: 0.0025 | R84: 0.01 | V84: 0.011 | Z84: 0.0875
A85: Manila | C85: 05-006 | D85: 05-000 | E85: 0.0485 | F85: * | G85: 0.01 | H85: 0.0025 | K85: 0.003 | O85: 0.0025 | R85: 0.01 | Z85: 0.0765
A87: Davis County | C87: 06-000 | D87: 06-000 | E87: 0.0485 | F87: * | G87: 0.01 | H87: 0.0025 | I87: 0.0025 | J87: 0.0025 | L87: 0.0025 | O87: 0.0025 | Q87: 0.0005 | Z87: 0.0715
A88: Bountiful | C88: 06-004 | D88: 06-004 | E88: 0.0485 | F88: * | G88: 0.01 | H88: 0.0025 | I88: 0.0025 | J88: 0.0025 | L88: 0.0025 | O88: 0.0025 | Q88: 0.0005 | S88: 0.001 | Z88: 0.0725
A89: Centerville | C89: 06-006 | D89: 06-006 | E89: 0.0485 | F89: * | G89: 0.01 | H89: 0.0025 | I89: 0.0025 | J89: 0.0025 | L89: 0.0025 | O89: 0.0025 | Q89: 0.0005 | S89: 0.001 | Z89: 0.0725
A90: Clearfield | C90: 06-008 | D90: 06-008 | E90: 0.0485 | F90: * | G90: 0.01 | H90: 0.0025 | I90: 0.0025 | J90: 0.0025 | L90: 0.0025 | O90: 0.0025 | Q90: 0.0005 | S90: 0.001 | Z90: 0.0725
A91: Fruit Heights | C91: 06-010 | D91: 06-000 | E91: 0.0485 | F91: * | G91: 0.01 | H91: 0.0025 | I91: 0.0025 | J91: 0.0025 | L91: 0.0025 | O91: 0.0025 | Q91: 0.0005 | Z91: 0.0715
A92: Farmington | C92: 06-017 | D92: 06-017 | E92: 0.0485 | F92: * | G92: 0.01 | H92: 0.0025 | I92: 0.0025 | J92: 0.0025 | L92: 0.0025 | O92: 0.0025 | Q92: 0.0005 | S92: 0.001 | Z92: 0.0725
A93: Kaysville | C93: 06-026 | D93: 06-026 | E93: 0.0485 | F93: * | G93: 0.01 | H93: 0.0025 | I93: 0.0025 | J93: 0.0025 | L93: 0.0025 | O93: 0.0025 | Q93: 0.0005 | S93: 0.001 | Z93: 0.0725
A94: Layton | C94: 06-030 | D94: 06-030 | E94: 0.0485 | F94: * | G94: 0.01 | H94: 0.0025 | I94: 0.0025 | J94: 0.0025 | L94: 0.0025 | O94: 0.0025 | Q94: 0.0005 | S94: 0.001 | Z94: 0.0725
A95: North Salt Lake | C95: 06-035 | D95: 06-035 | E95: 0.0485 | F95: * | G95: 0.01 | H95: 0.0025 | I95: 0.0025 | J95: 0.0025 | L95: 0.0025 | O95: 0.0025 | Q95: 0.0005 | S95: 0.001 | Z95: 0.0725
A96: South Weber | C96: 06-045 | D96: 06-045 | E96: 0.0485 | F96: * | G96: 0.01 | H96: 0.0025 | I96: 0.0025 | J96: 0.0025 | L96: 0.0025 | O96: 0.0025 | Q96: 0.0005 | S96: 0.001 | Z96: 0.0725
A97: Sunset | C97: 06-048 | D97: 06-000 | E97: 0.0485 | F97: * | G97: 0.01 | H97: 0.0025 | I97: 0.0025 | J97: 0.0025 | L97: 0.0025 | O97: 0.0025 | Q97: 0.0005 | Z97: 0.0715
A98: Syracuse | C98: 06-049 | D98: 06-049 | E98: 0.0485 | F98: * | G98: 0.01 | H98: 0.0025 | I98: 0.0025 | J98: 0.0025 | L98: 0.0025 | O98: 0.0025 | Q98: 0.0005 | S98: 0.001 | Z98: 0.0725
A99: West Point | C99: 06-056 | D99: 06-000 | E99: 0.0485 | F99: * | G99: 0.01 | H99: 0.0025 | I99: 0.0025 | J99: 0.0025 | L99: 0.0025 | O99: 0.0025 | Q99: 0.0005 | Z99: 0.0715
A100: Woods Cross | C100: 06-057 | D100: 06-057 | E100: 0.0485 | F100: * | G100: 0.01 | H100: 0.0025 | I100: 0.0025 | J100: 0.0025 | L100: 0.0025 | O100: 0.0025 | Q100: 0.0005 | S100: 0.001 | Z100: 0.0725
A101: Clinton | C101: 06-059 | D101: 06-059 | E101: 0.0485 | F101: * | G101: 0.01 | H101: 0.0025 | I101: 0.0025 | J101: 0.0025 | L101: 0.0025 | O101: 0.0025 | Q101: 0.0005 | S101: 0.001 | Z101: 0.0725
A102: West Bountiful | C102: 06-061 | D102: 06-061 | E102: 0.0485 | F102: * | G102: 0.01 | H102: 0.0025 | I102: 0.0025 | J102: 0.0025 | L102: 0.0025 | O102: 0.0025 | Q102: 0.0005 | S102: 0.001 | Z102: 0.0725
A103: MIDA Davis County | B103: (a) | C103: 06-300 | D103: 06-000 | E103: 0.0485 | F103: * | G103: 0.01 | H103: 0.0025 | I103: 0.0025 | J103: 0.0025 | L103: 0.0025 | O103: 0.0025 | Q103: 0.0005 | Z103: 0.0715
A104: MIDA Clearfield | B104: (a) | C104: 06-301 | D104: 06-301 | E104: 0.0485 | F104: * | G104: 0.01 | H104: 0.0025 | I104: 0.0025 | J104: 0.0025 | L104: 0.0025 | O104: 0.0025 | Q104: 0.0005 | S104: 0.001 | Z104: 0.0725
A105: MIDA Sunset | B105: (a) | C105: 06-302 | D105: 06-000 | E105: 0.0485 | F105: * | G105: 0.01 | H105: 0.0025 | I105: 0.0025 | J105: 0.0025 | L105: 0.0025 | O105: 0.0025 | Q105: 0.0005 | Z105: 0.0715
A107: Duchesne County | C107: 07-000 | D107: 07-000 | E107: 0.0485 | F107: * | G107: 0.01 | H107: 0.0025 | O107: 0.0025 | Z107: 0.0635
A108: Altamont | C108: 07-001 | D108: 07-000 | E108: 0.0485 | F108: * | G108: 0.01 | H108: 0.0025 | O108: 0.0025 | Z108: 0.0635
...

Sheet P.O.D. Worksheet
B1: Cnty/ | C1: Code
B2: City | C2: for | D2: Combined
A3: Location | B3: Code | C3: P.O.D. | D3: Sales Rate | E3: County Rate | F3: Lookup Area | J3: County Rate
A4: =+'Combined Rate'!A18 -> Beaver County | B4: =+'Combined Rate'!C18 -> 01-000 | C4: =IF(D4=J4,LEFT(B4,3)&"000",B4) -> 01-000 | D4: =+'Combined Rate'!Z18 -> 0.0635 | E4: =IF(RIGHT(B4,3)="000",D4,0) -> 0.0635 | F4: =LEFT(B4,2) -> 01 | G4: =IF(E4<>0,LEFT(B4,2),"") -> 01 | H4: =IF(E4<>0,A4,"") -> Beaver County | I4: =IF(E4<>0,E4,"") -> 0.0635 | J4: =VLOOKUP(F4,$G$4:$I$342,3,FALSE) -> 0.0635
A5: =+'Combined Rate'!A19 -> Beaver City | B5: =+'Combined Rate'!C19 -> 01-002 | C5: =IF(D5=J5,LEFT(B5,3)&"000",B5) -> 01-002 | D5: =+'Combined Rate'!Z19 -> 0.0735 | E5: =IF(RIGHT(B5,3)="000",D5,0) -> 0 | F5: =LEFT(B5,2) -> 01 | G5: =IF(E5<>0,LEFT(B5,2),"") | H5: =IF(E5<>0,A5,"") | I5: =IF(E5<>0,E5,"") | J5: =VLOOKUP(F5,$G$4:$I$342,3,FALSE) -> 0.0635
A6: =+'Combined Rate'!A20 -> Milford | B6: =+'Combined Rate'!C20 -> 01-008 | C6: =IF(D6=J6,LEFT(B6,3)&"000",B6) -> 01-000 | D6: =+'Combined Rate'!Z20 -> 0.0635 | E6: =IF(RIGHT(B6,3)="000",D6,0) -> 0 | F6: =LEFT(B6,2) -> 01 | G6: =IF(E6<>0,LEFT(B6,2),"") | H6: =IF(E6<>0,A6,"") | I6: =IF(E6<>0,E6,"") | J6: =VLOOKUP(F6,$G$4:$I$342,3,FALSE) -> 0.0635
A7: =+'Combined Rate'!A21 -> Minersville | B7: =+'Combined Rate'!C21 -> 01-009 | C7: =IF(D7=J7,LEFT(B7,3)&"000",B7) -> 01-000 | D7: =+'Combined Rate'!Z21 -> 0.0635 | E7: =IF(RIGHT(B7,3)="000",D7,0) -> 0 | F7: =LEFT(B7,2) -> 01 | G7: =IF(E7<>0,LEFT(B7,2),"") | H7: =IF(E7<>0,A7,"") | I7: =IF(E7<>0,E7,"") | J7: =VLOOKUP(F7,$G$4:$I$342,3,FALSE) -> 0.0635
A9: =+'Combined Rate'!A26 -> Box Elder County | B9: =+'Combined Rate'!C26 -> 02-000 | C9: =IF(D9=J9,LEFT(B9,3)&"000",B9) -> 02-000 | D9: =+'Combined Rate'!Z26 -> 0.0665 | E9: =IF(RIGHT(B9,3)="000",D9,0) -> 0.0665 | F9: =LEFT(B9,2) -> 02 | G9: =IF(E9<>0,LEFT(B9,2),"") -> 02 | H9: =IF(E9<>0,A9,"") -> Box Elder County | I9: =IF(E9<>0,E9,"") -> 0.0665 | J9: =VLOOKUP(F9,$G$4:$I$342,3,FALSE) -> 0.0665
A10: =+'Combined Rate'!A27 -> Bear River | B10: =+'Combined Rate'!C27 -> 02-004 | C10: =IF(D10=J10,LEFT(B10,3)&"000",B10) -> 02-000 | D10: =+'Combined Rate'!Z27 -> 0.0665 | E10: =IF(RIGHT(B10,3)="000",D10,0) -> 0 | F10: =LEFT(B10,2) -> 02 | G10: =IF(E10<>0,LEFT(B10,2),"") | H10: =IF(E10<>0,A10,"") | I10: =IF(E10<>0,E10,"") | J10: =VLOOKUP(F10,$G$4:$I$342,3,FALSE) -> 0.0665
A11: =+'Combined Rate'!A28 -> Brigham | B11: =+'Combined Rate'!C28 -> 02-017 | C11: =IF(D11=J11,LEFT(B11,3)&"000",B11) -> 02-017 | D11: =+'Combined Rate'!Z28 -> 0.0695 | E11: =IF(RIGHT(B11,3)="000",D11,0) -> 0 | F11: =LEFT(B11,2) -> 02 | G11: =IF(E11<>0,LEFT(B11,2),"") | H11: =IF(E11<>0,A11,"") | I11: =IF(E11<>0,E11,"") | J11: =VLOOKUP(F11,$G$4:$I$342,3,FALSE) -> 0.0665
A12: =+'Combined Rate'!A29 -> Corinne | B12: =+'Combined Rate'!C29 -> 02-025 | C12: =IF(D12=J12,LEFT(B12,3)&"000",B12) -> 02-000 | D12: =+'Combined Rate'!Z29 -> 0.0665 | E12: =IF(RIGHT(B12,3)="000",D12,0) -> 0 | F12: =LEFT(B12,2) -> 02 | G12: =IF(E12<>0,LEFT(B12,2),"") | H12: =IF(E12<>0,A12,"") | I12: =IF(E12<>0,E12,"") | J12: =VLOOKUP(F12,$G$4:$I$342,3,FALSE) -> 0.0665
A13: =+'Combined Rate'!A30 -> Deweyville | B13: =+'Combined Rate'!C30 -> 02-032 | C13: =IF(D13=J13,LEFT(B13,3)&"000",B13) -> 02-000 | D13: =+'Combined Rate'!Z30 -> 0.0665 | E13: =IF(RIGHT(B13,3)="000",D13,0) -> 0 | F13: =LEFT(B13,2) -> 02 | G13: =IF(E13<>0,LEFT(B13,2),"") | H13: =IF(E13<>0,A13,"") | I13: =IF(E13<>0,E13,"") | J13: =VLOOKUP(F13,$G$4:$I$342,3,FALSE) -> 0.0665
A14: =+'Combined Rate'!A31 -> Elwood | B14: =+'Combined Rate'!C31 -> 02-035 | C14: =IF(D14=J14,LEFT(B14,3)&"000",B14) -> 02-000 | D14: =+'Combined Rate'!Z31 -> 0.0665 | E14: =IF(RIGHT(B14,3)="000",D14,0) -> 0 | F14: =LEFT(B14,2) -> 02 | G14: =IF(E14<>0,LEFT(B14,2),"") | H14: =IF(E14<>0,A14,"") | I14: =IF(E14<>0,E14,"") | J14: =VLOOKUP(F14,$G$4:$I$342,3,FALSE) -> 0.0665
A15: =+'Combined Rate'!A32 -> Fielding | B15: =+'Combined Rate'!C32 -> 02-041 | C15: =IF(D15=J15,LEFT(B15,3)&"000",B15) -> 02-000 | D15: =+'Combined Rate'!Z32 -> 0.0665 | E15: =IF(RIGHT(B15,3)="000",D15,0) -> 0 | F15: =LEFT(B15,2) -> 02 | G15: =IF(E15<>0,LEFT(B15,2),"") | H15: =IF(E15<>0,A15,"") | I15: =IF(E15<>0,E15,"") | J15: =VLOOKUP(F15,$G$4:$I$342,3,FALSE) -> 0.0665
A16: =+'Combined Rate'!A33 -> Garland | B16: =+'Combined Rate'!C33 -> 02-044 | C16: =IF(D16=J16,LEFT(B16,3)&"000",B16) -> 02-000 | D16: =+'Combined Rate'!Z33 -> 0.0665 | E16: =IF(RIGHT(B16,3)="000",D16,0) -> 0 | F16: =LEFT(B16,2) -> 02 | G16: =IF(E16<>0,LEFT(B16,2),"") | H16: =IF(E16<>0,A16,"") | I16: =IF(E16<>0,E16,"") | J16: =VLOOKUP(F16,$G$4:$I$342,3,FALSE) -> 0.0665
A17: =+'Combined Rate'!A34 -> Honeyville | B17: =+'Combined Rate'!C34 -> 02-054 | C17: =IF(D17=J17,LEFT(B17,3)&"000",B17) -> 02-000 | D17: =+'Combined Rate'!Z34 -> 0.0665 | E17: =IF(RIGHT(B17,3)="000",D17,0) -> 0 | F17: =LEFT(B17,2) -> 02 | G17: =IF(E17<>0,LEFT(B17,2),"") | H17: =IF(E17<>0,A17,"") | I17: =IF(E17<>0,E17,"") | J17: =VLOOKUP(F17,$G$4:$I$342,3,FALSE) -> 0.0665
A18: =+'Combined Rate'!A35 -> Howell | B18: =+'Combined Rate'!C35 -> 02-057 | C18: =IF(D18=J18,LEFT(B18,3)&"000",B18) -> 02-000 | D18: =+'Combined Rate'!Z35 -> 0.0665 | E18: =IF(RIGHT(B18,3)="000",D18,0) -> 0 | F18: =LEFT(B18,2) -> 02 | G18: =IF(E18<>0,LEFT(B18,2),"") | H18: =IF(E18<>0,A18,"") | I18: =IF(E18<>0,E18,"") | J18: =VLOOKUP(F18,$G$4:$I$342,3,FALSE) -> 0.0665
A19: =+'Combined Rate'!A36 -> Mantua | B19: =+'Combined Rate'!C36 -> 02-069 | C19: =IF(D19=J19,LEFT(B19,3)&"000",B19) -> 02-069 | D19: =+'Combined Rate'!Z36 -> 0.0695 | E19: =IF(RIGHT(B19,3)="000",D19,0) -> 0 | F19: =LEFT(B19,2) -> 02 | G19: =IF(E19<>0,LEFT(B19,2),"") | H19: =IF(E19<>0,A19,"") | I19: =IF(E19<>0,E19,"") | J19: =VLOOKUP(F19,$G$4:$I$342,3,FALSE) -> 0.0665
A20: =+'Combined Rate'!A37 -> Perry | B20: =+'Combined Rate'!C37 -> 02-086 | C20: =IF(D20=J20,LEFT(B20,3)&"000",B20) -> 02-086 | D20: =+'Combined Rate'!Z37 -> 0.0695 | E20: =IF(RIGHT(B20,3)="000",D20,0) -> 0 | F20: =LEFT(B20,2) -> 02 | G20: =IF(E20<>0,LEFT(B20,2),"") | H20: =IF(E20<>0,A20,"") | I20: =IF(E20<>0,E20,"") | J20: =VLOOKUP(F20,$G$4:$I$342,3,FALSE) -> 0.0665
... A25: =+'Combined Rate'!A42 -> Willard | B25: =+'Combined Rate'!C42 -> 02-120 | C25: =IF(D25=J25,LEFT(B25,3)&"000",B25) -> 02-120 | D25: =+'Combined Rate'!Z42 -> 0.0695 | E25: =IF(RIGHT(B25,3)="000",D25,0) -> 0 | F25: =LEFT(B25,2) -> 02 | G25: =IF(E25<>0,LEFT(B25,2),"") | H25: =IF(E25<>0,A25,"") | I25: =IF(E25<>0,E25,"") | J25: =VLOOKUP(F25,$G$4:$I$342,3,FALSE) -> 0.0665
A27: =+'Combined Rate'!A50 -> Cache County | B27: =+'Combined Rate'!C50 -> 03-000 | C27: =IF(D27=J27,LEFT(B27,3)&"000",B27) -> 03-000 | D27: =+'Combined Rate'!Z50 -> 0.07 | E27: =IF(RIGHT(B27,3)="000",D27,0) -> 0.07 | F27: =LEFT(B27,2) -> 03 | G27: =IF(E27<>0,LEFT(B27,2),"") -> 03 | H27: =IF(E27<>0,A27,"") -> Cache County | I27: =IF(E27<>0,E27,"") -> 0.07 | J27: =VLOOKUP(F27,$G$4:$I$342,3,FALSE) -> 0.07
A28: =+'Combined Rate'!A51 -> Amalga | B28: =+'Combined Rate'!C51 -> 03-001 | C28: =IF(D28=J28,LEFT(B28,3)&"000",B28) -> 03-000 | D28: =+'Combined Rate'!Z51 -> 0.07 | E28: =IF(RIGHT(B28,3)="000",D28,0) -> 0 | F28: =LEFT(B28,2) -> 03 | G28: =IF(E28<>0,LEFT(B28,2),"") | H28: =IF(E28<>0,A28,"") | I28: =IF(E28<>0,E28,"") | J28: =VLOOKUP(F28,$G$4:$I$342,3,FALSE) -> 0.07
A29: =+'Combined Rate'!A52 -> Clarkston | B29: =+'Combined Rate'!C52 -> 03-014 | C29: =IF(D29=J29,LEFT(B29,3)&"000",B29) -> 03-000 | D29: =+'Combined Rate'!Z52 -> 0.07 | E29: =IF(RIGHT(B29,3)="000",D29,0) -> 0 | F29: =LEFT(B29,2) -> 03 | G29: =IF(E29<>0,LEFT(B29,2),"") | H29: =IF(E29<>0,A29,"") | I29: =IF(E29<>0,E29,"") | J29: =VLOOKUP(F29,$G$4:$I$342,3,FALSE) -> 0.07
A30: =+'Combined Rate'!A53 -> Cornish | B30: =+'Combined Rate'!C53 -> 03-017 | C30: =IF(D30=J30,LEFT(B30,3)&"000",B30) -> 03-000 | D30: =+'Combined Rate'!Z53 -> 0.07 | E30: =IF(RIGHT(B30,3)="000",D30,0) -> 0 | F30: =LEFT(B30,2) -> 03 | G30: =IF(E30<>0,LEFT(B30,2),"") | H30: =IF(E30<>0,A30,"") | I30: =IF(E30<>0,E30,"") | J30: =VLOOKUP(F30,$G$4:$I$342,3,FALSE) -> 0.07
A31: =+'Combined Rate'!A54 -> Hyde Park | B31: =+'Combined Rate'!C54 -> 03-032 | C31: =IF(D31=J31,LEFT(B31,3)&"000",B31) -> 03-032 | D31: =+'Combined Rate'!Z54 -> 0.0725 | E31: =IF(RIGHT(B31,3)="000",D31,0) -> 0 | F31: =LEFT(B31,2) -> 03 | G31: =IF(E31<>0,LEFT(B31,2),"") | H31: =IF(E31<>0,A31,"") | I31: =IF(E31<>0,E31,"") | J31: =VLOOKUP(F31,$G$4:$I$342,3,FALSE) -> 0.07
A32: =+'Combined Rate'!A55 -> Hyrum | B32: =+'Combined Rate'!C55 -> 03-033 | C32: =IF(D32=J32,LEFT(B32,3)&"000",B32) -> 03-033 | D32: =+'Combined Rate'!Z55 -> 0.073 | E32: =IF(RIGHT(B32,3)="000",D32,0) -> 0 | F32: =LEFT(B32,2) -> 03 | G32: =IF(E32<>0,LEFT(B32,2),"") | H32: =IF(E32<>0,A32,"") | I32: =IF(E32<>0,E32,"") | J32: =VLOOKUP(F32,$G$4:$I$342,3,FALSE) -> 0.07
A33: =+'Combined Rate'!A56 -> Lewiston | B33: =+'Combined Rate'!C56 -> 03-036 | C33: =IF(D33=J33,LEFT(B33,3)&"000",B33) -> 03-036 | D33: =+'Combined Rate'!Z56 -> 0.0725 | E33: =IF(RIGHT(B33,3)="000",D33,0) -> 0 | F33: =LEFT(B33,2) -> 03 | G33: =IF(E33<>0,LEFT(B33,2),"") | H33: =IF(E33<>0,A33,"") | I33: =IF(E33<>0,E33,"") | J33: =VLOOKUP(F33,$G$4:$I$342,3,FALSE) -> 0.07
A34: =+'Combined Rate'!A57 -> Logan | B34: =+'Combined Rate'!C57 -> 03-038 | C34: =IF(D34=J34,LEFT(B34,3)&"000",B34) -> 03-038 | D34: =+'Combined Rate'!Z57 -> 0.073 | E34: =IF(RIGHT(B34,3)="000",D34,0) -> 0 | F34: =LEFT(B34,2) -> 03 | G34: =IF(E34<>0,LEFT(B34,2),"") | H34: =IF(E34<>0,A34,"") | I34: =IF(E34<>0,E34,"") | J34: =VLOOKUP(F34,$G$4:$I$342,3,FALSE) -> 0.07
A35: =+'Combined Rate'!A58 -> Mendon | B35: =+'Combined Rate'!C58 -> 03-041 | C35: =IF(D35=J35,LEFT(B35,3)&"000",B35) -> 03-000 | D35: =+'Combined Rate'!Z58 -> 0.07 | E35: =IF(RIGHT(B35,3)="000",D35,0) -> 0 | F35: =LEFT(B35,2) -> 03 | G35: =IF(E35<>0,LEFT(B35,2),"") | H35: =IF(E35<>0,A35,"") | I35: =IF(E35<>0,E35,"") | J35: =VLOOKUP(F35,$G$4:$I$342,3,FALSE) -> 0.07
A36: =+'Combined Rate'!A59 -> Millville | B36: =+'Combined Rate'!C59 -> 03-044 | C36: =IF(D36=J36,LEFT(B36,3)&"000",B36) -> 03-044 | D36: =+'Combined Rate'!Z59 -> 0.0725 | E36: =IF(RIGHT(B36,3)="000",D36,0) -> 0 | F36: =LEFT(B36,2) -> 03 | G36: =IF(E36<>0,LEFT(B36,2),"") | H36: =IF(E36<>0,A36,"") | I36: =IF(E36<>0,E36,"") | J36: =VLOOKUP(F36,$G$4:$I$342,3,FALSE) -> 0.07
A37: =+'Combined Rate'!A60 -> Newton | B37: =+'Combined Rate'!C60 -> 03-047 | C37: =IF(D37=J37,LEFT(B37,3)&"000",B37) -> 03-000 | D37: =+'Combined Rate'!Z60 -> 0.07 | E37: =IF(RIGHT(B37,3)="000",D37,0) -> 0 | F37: =LEFT(B37,2) -> 03 | G37: =IF(E37<>0,LEFT(B37,2),"") | H37: =IF(E37<>0,A37,"") | I37: =IF(E37<>0,E37,"") | J37: =VLOOKUP(F37,$G$4:$I$342,3,FALSE) -> 0.07
A38: =+'Combined Rate'!A61 -> North Logan | B38: =+'Combined Rate'!C61 -> 03-049 | C38: =IF(D38=J38,LEFT(B38,3)&"000",B38) -> 03-049 | D38: =+'Combined Rate'!Z61 -> 0.073 | E38: =IF(RIGHT(B38,3)="000",D38,0) -> 0 | F38: =LEFT(B38,2) -> 03 | G38: =IF(E38<>0,LEFT(B38,2),"") | H38: =IF(E38<>0,A38,"") | I38: =IF(E38<>0,E38,"") | J38: =VLOOKUP(F38,$G$4:$I$342,3,FALSE) -> 0.07
... A46: =+'Combined Rate'!A69 -> Nibley | B46: =+'Combined Rate'!C69 -> 03-098 | C46: =IF(D46=J46,LEFT(B46,3)&"000",B46) -> 03-098 | D46: =+'Combined Rate'!Z69 -> 0.073 | E46: =IF(RIGHT(B46,3)="000",D46,0) -> 0 | F46: =LEFT(B46,2) -> 03 | G46: =IF(E46<>0,LEFT(B46,2),"") | H46: =IF(E46<>0,A46,"") | I46: =IF(E46<>0,E46,"") | J46: =VLOOKUP(F46,$G$4:$I$342,3,FALSE) -> 0.07
A47: =+'Combined Rate'!A71 -> Cache Valley Transit | B47: =+'Combined Rate'!C71 -> 03-900 | C47: =IF(D47=J47,LEFT(B47,3)&"000",B47) -> 03-900 | D47: =+'Combined Rate'!Z71 -> 0.0725 | E47: =IF(RIGHT(B47,3)="000",D47,0) -> 0 | F47: =LEFT(B47,2) -> 03 | G47: =IF(E47<>0,LEFT(B47,2),"") | H47: =IF(E47<>0,A47,"") | I47: =IF(E47<>0,E47,"") | J47: =VLOOKUP(F47,$G$4:$I$342,3,FALSE) -> 0.07
A49: =+'Combined Rate'!A73 -> Carbon County | B49: =+'Combined Rate'!C73 -> 04-000 | C49: =IF(D49=J49,LEFT(B49,3)&"000",B49) -> 04-000 | D49: =+'Combined Rate'!Z73 -> 0.0635 | E49: =IF(RIGHT(B49,3)="000",D49,0) -> 0.0635 | F49: =LEFT(B49,2) -> 04 | G49: =IF(E49<>0,LEFT(B49,2),"") -> 04 | H49: =IF(E49<>0,A49,"") -> Carbon County | I49: =IF(E49<>0,E49,"") -> 0.0635 | J49: =VLOOKUP(F49,$G$4:$I$342,3,FALSE) -> 0.0635
A50: =+'Combined Rate'!A74 -> Helper | B50: =+'Combined Rate'!C74 -> 04-016 | C50: =IF(D50=J50,LEFT(B50,3)&"000",B50) -> 04-016 | D50: =+'Combined Rate'!Z74 -> 0.0645 | E50: =IF(RIGHT(B50,3)="000",D50,0) -> 0 | F50: =LEFT(B50,2) -> 04 | G50: =IF(E50<>0,LEFT(B50,2),"") | H50: =IF(E50<>0,A50,"") | I50: =IF(E50<>0,E50,"") | J50: =VLOOKUP(F50,$G$4:$I$342,3,FALSE) -> 0.0635
A51: =+'Combined Rate'!A75 -> Price | B51: =+'Combined Rate'!C75 -> 04-035 | C51: =IF(D51=J51,LEFT(B51,3)&"000",B51) -> 04-035 | D51: =+'Combined Rate'!Z75 -> 0.0675 | E51: =IF(RIGHT(B51,3)="000",D51,0) -> 0 | F51: =LEFT(B51,2) -> 04 | G51: =IF(E51<>0,LEFT(B51,2),"") | H51: =IF(E51<>0,A51,"") | I51: =IF(E51<>0,E51,"") | J51: =VLOOKUP(F51,$G$4:$I$342,3,FALSE) -> 0.0635
A52: =+'Combined Rate'!A76 -> Scofield | B52: =+'Combined Rate'!C76 -> 04-040 | C52: =IF(D52=J52,LEFT(B52,3)&"000",B52) -> 04-000 | D52: =+'Combined Rate'!Z76 -> 0.0635 | E52: =IF(RIGHT(B52,3)="000",D52,0) -> 0 | F52: =LEFT(B52,2) -> 04 | G52: =IF(E52<>0,LEFT(B52,2),"") | H52: =IF(E52<>0,A52,"") | I52: =IF(E52<>0,E52,"") | J52: =VLOOKUP(F52,$G$4:$I$342,3,FALSE) -> 0.0635
A53: =+'Combined Rate'!A77 -> Wellington | B53: =+'Combined Rate'!C77 -> 04-053 | C53: =IF(D53=J53,LEFT(B53,3)&"000",B53) -> 04-053 | D53: =+'Combined Rate'!Z77 -> 0.0665 | E53: =IF(RIGHT(B53,3)="000",D53,0) -> 0 | F53: =LEFT(B53,2) -> 04 | G53: =IF(E53<>0,LEFT(B53,2),"") | H53: =IF(E53<>0,A53,"") | I53: =IF(E53<>0,E53,"") | J53: =VLOOKUP(F53,$G$4:$I$342,3,FALSE) -> 0.0635
A54: =+'Combined Rate'!A78 -> East Carbon | B54: =+'Combined Rate'!C78 -> 04-058 | C54: =IF(D54=J54,LEFT(B54,3)&"000",B54) -> 04-000 | D54: =+'Combined Rate'!Z78 -> 0.0635 | E54: =IF(RIGHT(B54,3)="000",D54,0) -> 0 | F54: =LEFT(B54,2) -> 04 | G54: =IF(E54<>0,LEFT(B54,2),"") | H54: =IF(E54<>0,A54,"") | I54: =IF(E54<>0,E54,"") | J54: =VLOOKUP(F54,$G$4:$I$342,3,FALSE) -> 0.0635
A56: =+'Combined Rate'!A83 -> Daggett County | B56: =+'Combined Rate'!C83 -> 05-000 | C56: =IF(D56=J56,LEFT(B56,3)&"000",B56) -> 05-000 | D56: =+'Combined Rate'!Z83 -> 0.0765 | E56: =IF(RIGHT(B56,3)="000",D56,0) -> 0.0765 | F56: =LEFT(B56,2) -> 05 | G56: =IF(E56<>0,LEFT(B56,2),"") -> 05 | H56: =IF(E56<>0,A56,"") -> Daggett County | I56: =IF(E56<>0,E56,"") -> 0.0765 | J56: =VLOOKUP(F56,$G$4:$I$342,3,FALSE) -> 0.0765
A57: =+'Combined Rate'!A84 -> Dutch John | B57: =+'Combined Rate'!C84 -> 05-002 | C57: =IF(D57=J57,LEFT(B57,3)&"000",B57) -> 05-002 | D57: =+'Combined Rate'!Z84 -> 0.0875 | E57: =IF(RIGHT(B57,3)="000",D57,0) -> 0 | F57: =LEFT(B57,2) -> 05 | G57: =IF(E57<>0,LEFT(B57,2),"") | H57: =IF(E57<>0,A57,"") | I57: =IF(E57<>0,E57,"") | J57: =VLOOKUP(F57,$G$4:$I$342,3,FALSE) -> 0.0765
A58: =+'Combined Rate'!A85 -> Manila | B58: =+'Combined Rate'!C85 -> 05-006 | C58: =IF(D58=J58,LEFT(B58,3)&"000",B58) -> 05-000 | D58: =+'Combined Rate'!Z85 -> 0.0765 | E58: =IF(RIGHT(B58,3)="000",D58,0) -> 0 | F58: =LEFT(B58,2) -> 05 | G58: =IF(E58<>0,LEFT(B58,2),"") | H58: =IF(E58<>0,A58,"") | I58: =IF(E58<>0,E58,"") | J58: =VLOOKUP(F58,$G$4:$I$342,3,FALSE) -> 0.0765
A60: =+'Combined Rate'!A87 -> Davis County | B60: =+'Combined Rate'!C87 -> 06-000 | C60: =IF(D60=J60,LEFT(B60,3)&"000",B60) -> 06-000 | D60: =+'Combined Rate'!Z87 -> 0.0715 | E60: =IF(RIGHT(B60,3)="000",D60,0) -> 0.0715 | F60: =LEFT(B60,2) -> 06 | G60: =IF(E60<>0,LEFT(B60,2),"") -> 06 | H60: =IF(E60<>0,A60,"") -> Davis County | I60: =IF(E60<>0,E60,"") -> 0.0715 | J60: =VLOOKUP(F60,$G$4:$I$342,3,FALSE) -> 0.0715
A61: =+'Combined Rate'!A88 -> Bountiful | B61: =+'Combined Rate'!C88 -> 06-004 | C61: =IF(D61=J61,LEFT(B61,3)&"000",B61) -> 06-004 | D61: =+'Combined Rate'!Z88 -> 0.0725 | E61: =IF(RIGHT(B61,3)="000",D61,0) -> 0 | F61: =LEFT(B61,2) -> 06 | G61: =IF(E61<>0,LEFT(B61,2),"") | H61: =IF(E61<>0,A61,"") | I61: =IF(E61<>0,E61,"") | J61: =VLOOKUP(F61,$G$4:$I$342,3,FALSE) -> 0.0715
A62: =+'Combined Rate'!A89 -> Centerville | B62: =+'Combined Rate'!C89 -> 06-006 | C62: =IF(D62=J62,LEFT(B62,3)&"000",B62) -> 06-006 | D62: =+'Combined Rate'!Z89 -> 0.0725 | E62: =IF(RIGHT(B62,3)="000",D62,0) -> 0 | F62: =LEFT(B62,2) -> 06 | G62: =IF(E62<>0,LEFT(B62,2),"") | H62: =IF(E62<>0,A62,"") | I62: =IF(E62<>0,E62,"") | J62: =VLOOKUP(F62,$G$4:$I$342,3,FALSE) -> 0.0715
A63: =+'Combined Rate'!A90 -> Clearfield | B63: =+'Combined Rate'!C90 -> 06-008 | C63: =IF(D63=J63,LEFT(B63,3)&"000",B63) -> 06-008 | D63: =+'Combined Rate'!Z90 -> 0.0725 | E63: =IF(RIGHT(B63,3)="000",D63,0) -> 0 | F63: =LEFT(B63,2) -> 06 | G63: =IF(E63<>0,LEFT(B63,2),"") | H63: =IF(E63<>0,A63,"") | I63: =IF(E63<>0,E63,"") | J63: =VLOOKUP(F63,$G$4:$I$342,3,FALSE) -> 0.0715
A64: =+'Combined Rate'!A91 -> Fruit Heights | B64: =+'Combined Rate'!C91 -> 06-010 | C64: =IF(D64=J64,LEFT(B64,3)&"000",B64) -> 06-000 | D64: =+'Combined Rate'!Z91 -> 0.0715 | E64: =IF(RIGHT(B64,3)="000",D64,0) -> 0 | F64: =LEFT(B64,2) -> 06 | G64: =IF(E64<>0,LEFT(B64,2),"") | H64: =IF(E64<>0,A64,"") | I64: =IF(E64<>0,E64,"") | J64: =VLOOKUP(F64,$G$4:$I$342,3,FALSE) -> 0.0715
A65: =+'Combined Rate'!A92 -> Farmington | B65: =+'Combined Rate'!C92 -> 06-017 | C65: =IF(D65=J65,LEFT(B65,3)&"000",B65) -> 06-017 | D65: =+'Combined Rate'!Z92 -> 0.0725 | E65: =IF(RIGHT(B65,3)="000",D65,0) -> 0 | F65: =LEFT(B65,2) -> 06 | G65: =IF(E65<>0,LEFT(B65,2),"") | H65: =IF(E65<>0,A65,"") | I65: =IF(E65<>0,E65,"") | J65: =VLOOKUP(F65,$G$4:$I$342,3,FALSE) -> 0.0715
A66: =+'Combined Rate'!A93 -> Kaysville | B66: =+'Combined Rate'!C93 -> 06-026 | C66: =IF(D66=J66,LEFT(B66,3)&"000",B66) -> 06-026 | D66: =+'Combined Rate'!Z93 -> 0.0725 | E66: =IF(RIGHT(B66,3)="000",D66,0) -> 0 | F66: =LEFT(B66,2) -> 06 | G66: =IF(E66<>0,LEFT(B66,2),"") | H66: =IF(E66<>0,A66,"") | I66: =IF(E66<>0,E66,"") | J66: =VLOOKUP(F66,$G$4:$I$342,3,FALSE) -> 0.0715
A67: =+'Combined Rate'!A94 -> Layton | B67: =+'Combined Rate'!C94 -> 06-030 | C67: =IF(D67=J67,LEFT(B67,3)&"000",B67) -> 06-030 | D67: =+'Combined Rate'!Z94 -> 0.0725 | E67: =IF(RIGHT(B67,3)="000",D67,0) -> 0 | F67: =LEFT(B67,2) -> 06 | G67: =IF(E67<>0,LEFT(B67,2),"") | H67: =IF(E67<>0,A67,"") | I67: =IF(E67<>0,E67,"") | J67: =VLOOKUP(F67,$G$4:$I$342,3,FALSE) -> 0.0715
A68: =+'Combined Rate'!A95 -> North Salt Lake | B68: =+'Combined Rate'!C95 -> 06-035 | C68: =IF(D68=J68,LEFT(B68,3)&"000",B68) -> 06-035 | D68: =+'Combined Rate'!Z95 -> 0.0725 | E68: =IF(RIGHT(B68,3)="000",D68,0) -> 0 | F68: =LEFT(B68,2) -> 06 | G68: =IF(E68<>0,LEFT(B68,2),"") | H68: =IF(E68<>0,A68,"") | I68: =IF(E68<>0,E68,"") | J68: =VLOOKUP(F68,$G$4:$I$342,3,FALSE) -> 0.0715
... A85: =+'Combined Rate'!A112 -> Tabiona | B85: =+'Combined Rate'!C112 -> 07-020 | C85: =IF(D85=J85,LEFT(B85,3)&"000",B85) -> 07-000 | D85: =+'Combined Rate'!Z112 -> 0.0635 | E85: =IF(RIGHT(B85,3)="000",D85,0) -> 0 | F85: =LEFT(B85,2) -> 07 | G85: =IF(E85<>0,LEFT(B85,2),"") | H85: =IF(E85<>0,A85,"") | I85: =IF(E85<>0,E85,"") | J85: =VLOOKUP(F85,$G$4:$I$342,3,FALSE) -> 0.0635
A87: =+'Combined Rate'!A116 -> Emery County | B87: =+'Combined Rate'!C116 -> 08-000 | C87: =IF(D87=J87,LEFT(B87,3)&"000",B87) -> 08-000 | D87: =+'Combined Rate'!Z116 -> 0.0635 | E87: =IF(RIGHT(B87,3)="000",D87,0) -> 0.0635 | F87: =LEFT(B87,2) -> 08 | G87: =IF(E87<>0,LEFT(B87,2),"") -> 08 | H87: =IF(E87<>0,A87,"") -> Emery County | I87: =IF(E87<>0,E87,"") -> 0.0635 | J87: =VLOOKUP(F87,$G$4:$I$342,3,FALSE) -> 0.0635
A88: =+'Combined Rate'!A117 -> Castle Dale | B88: =+'Combined Rate'!C117 -> 08-001 | C88: =IF(D88=J88,LEFT(B88,3)&"000",B88) -> 08-000 | D88: =+'Combined Rate'!Z117 -> 0.0635 | E88: =IF(RIGHT(B88,3)="000",D88,0) -> 0 | F88: =LEFT(B88,2) -> 08 | G88: =IF(E88<>0,LEFT(B88,2),"") | H88: =IF(E88<>0,A88,"") | I88: =IF(E88<>0,E88,"") | J88: =VLOOKUP(F88,$G$4:$I$342,3,FALSE) -> 0.0635
A89: =+'Combined Rate'!A118 -> Clawson | B89: =+'Combined Rate'!C118 -> 08-003 | C89: =IF(D89=J89,LEFT(B89,3)&"000",B89) -> 08-000 | D89: =+'Combined Rate'!Z118 -> 0.0635 | E89: =IF(RIGHT(B89,3)="000",D89,0) -> 0 | F89: =LEFT(B89,2) -> 08 | G89: =IF(E89<>0,LEFT(B89,2),"") | H89: =IF(E89<>0,A89,"") | I89: =IF(E89<>0,E89,"") | J89: =VLOOKUP(F89,$G$4:$I$342,3,FALSE) -> 0.0635
A90: =+'Combined Rate'!A119 -> Cleveland | B90: =+'Combined Rate'!C119 -> 08-004 | C90: =IF(D90=J90,LEFT(B90,3)&"000",B90) -> 08-000 | D90: =+'Combined Rate'!Z119 -> 0.0635 | E90: =IF(RIGHT(B90,3)="000",D90,0) -> 0 | F90: =LEFT(B90,2) -> 08 | G90: =IF(E90<>0,LEFT(B90,2),"") | H90: =IF(E90<>0,A90,"") | I90: =IF(E90<>0,E90,"") | J90: =VLOOKUP(F90,$G$4:$I$342,3,FALSE) -> 0.0635
A91: =+'Combined Rate'!A120 -> Elmo | B91: =+'Combined Rate'!C120 -> 08-007 | C91: =IF(D91=J91,LEFT(B91,3)&"000",B91) -> 08-000 | D91: =+'Combined Rate'!Z120 -> 0.0635 | E91: =IF(RIGHT(B91,3)="000",D91,0) -> 0 | F91: =LEFT(B91,2) -> 08 | G91: =IF(E91<>0,LEFT(B91,2),"") | H91: =IF(E91<>0,A91,"") | I91: =IF(E91<>0,E91,"") | J91: =VLOOKUP(F91,$G$4:$I$342,3,FALSE) -> 0.0635
A92: =+'Combined Rate'!A121 -> Emery City | B92: =+'Combined Rate'!C121 -> 08-008 | C92: =IF(D92=J92,LEFT(B92,3)&"000",B92) -> 08-000 | D92: =+'Combined Rate'!Z121 -> 0.0635 | E92: =IF(RIGHT(B92,3)="000",D92,0) -> 0 | F92: =LEFT(B92,2) -> 08 | G92: =IF(E92<>0,LEFT(B92,2),"") | H92: =IF(E92<>0,A92,"") | I92: =IF(E92<>0,E92,"") | J92: =VLOOKUP(F92,$G$4:$I$342,3,FALSE) -> 0.0635
A93: =+'Combined Rate'!A122 -> Ferron | B93: =+'Combined Rate'!C122 -> 08-009 | C93: =IF(D93=J93,LEFT(B93,3)&"000",B93) -> 08-000 | D93: =+'Combined Rate'!Z122 -> 0.0635 | E93: =IF(RIGHT(B93,3)="000",D93,0) -> 0 | F93: =LEFT(B93,2) -> 08 | G93: =IF(E93<>0,LEFT(B93,2),"") | H93: =IF(E93<>0,A93,"") | I93: =IF(E93<>0,E93,"") | J93: =VLOOKUP(F93,$G$4:$I$342,3,FALSE) -> 0.0635
A94: =+'Combined Rate'!A123 -> Green River | B94: =+'Combined Rate'!C123 -> 08-011 | C94: =IF(D94=J94,LEFT(B94,3)&"000",B94) -> 08-011 | D94: =+'Combined Rate'!Z123 -> 0.0825 | E94: =IF(RIGHT(B94,3)="000",D94,0) -> 0 | F94: =LEFT(B94,2) -> 08 | G94: =IF(E94<>0,LEFT(B94,2),"") | H94: =IF(E94<>0,A94,"") | I94: =IF(E94<>0,E94,"") | J94: =VLOOKUP(F94,$G$4:$I$342,3,FALSE) -> 0.0635
A95: =+'Combined Rate'!A124 -> Huntington | B95: =+'Combined Rate'!C124 -> 08-012 | C95: =IF(D95=J95,LEFT(B95,3)&"000",B95) -> 08-000 | D95: =+'Combined Rate'!Z124 -> 0.0635 | E95: =IF(RIGHT(B95,3)="000",D95,0) -> 0 | F95: =LEFT(B95,2) -> 08 | G95: =IF(E95<>0,LEFT(B95,2),"") | H95: =IF(E95<>0,A95,"") | I95: =IF(E95<>0,E95,"") | J95: =VLOOKUP(F95,$G$4:$I$342,3,FALSE) -> 0.0635
A96: =+'Combined Rate'!A125 -> Orangeville | B96: =+'Combined Rate'!C125 -> 08-016 | C96: =IF(D96=J96,LEFT(B96,3)&"000",B96) -> 08-000 | D96: =+'Combined Rate'!Z125 -> 0.0635 | E96: =IF(RIGHT(B96,3)="000",D96,0) -> 0 | F96: =LEFT(B96,2) -> 08 | G96: =IF(E96<>0,LEFT(B96,2),"") | H96: =IF(E96<>0,A96,"") | I96: =IF(E96<>0,E96,"") | J96: =VLOOKUP(F96,$G$4:$I$342,3,FALSE) -> 0.0635
A98: =+'Combined Rate'!A129 -> Garfield County | B98: =+'Combined Rate'!C129 -> 09-000 | C98: =IF(D98=J98,LEFT(B98,3)&"000",B98) -> 09-000 | D98: =+'Combined Rate'!Z129 -> 0.0735 | E98: =IF(RIGHT(B98,3)="000",D98,0) -> 0.0735 | F98: =LEFT(B98,2) -> 09 | G98: =IF(E98<>0,LEFT(B98,2),"") -> 09 | H98: =IF(E98<>0,A98,"") -> Garfield County | I98: =IF(E98<>0,E98,"") -> 0.0735 | J98: =VLOOKUP(F98,$G$4:$I$342,3,FALSE) -> 0.0735
A99: =+'Combined Rate'!A130 -> Antimony | B99: =+'Combined Rate'!C130 -> 09-001 | C99: =IF(D99=J99,LEFT(B99,3)&"000",B99) -> 09-000 | D99: =+'Combined Rate'!Z130 -> 0.0735 | E99: =IF(RIGHT(B99,3)="000",D99,0) -> 0 | F99: =LEFT(B99,2) -> 09 | G99: =IF(E99<>0,LEFT(B99,2),"") | H99: =IF(E99<>0,A99,"") | I99: =IF(E99<>0,E99,"") | J99: =VLOOKUP(F99,$G$4:$I$342,3,FALSE) -> 0.0735
A100: =+'Combined Rate'!A131 -> Boulder | B100: =+'Combined Rate'!C131 -> 09-002 | C100: =IF(D100=J100,LEFT(B100,3)&"000",B100) -> 09-002 | D100: =+'Combined Rate'!Z131 -> 0.0835 | E100: =IF(RIGHT(B100,3)="000",D100,0) -> 0 | F100: =LEFT(B100,2) -> 09 | G100: =IF(E100<>0,LEFT(B100,2),"") | H100: =IF(E100<>0,A100,"") | I100: =IF(E100<>0,E100,"") | J100: =VLOOKUP(F100,$G$4:$I$342,3,FALSE) -> 0.0735
A101: =+'Combined Rate'!A132 -> Bryce Canyon | B101: =+'Combined Rate'!C132 -> 09-003 | C101: =IF(D101=J101,LEFT(B101,3)&"000",B101) -> 09-003 | D101: =+'Combined Rate'!Z132 -> 0.0855 | E101: =IF(RIGHT(B101,3)="000",D101,0) -> 0 | F101: =LEFT(B101,2) -> 09 | G101: =IF(E101<>0,LEFT(B101,2),"") | H101: =IF(E101<>0,A101,"") | I101: =IF(E101<>0,E101,"") | J101: =VLOOKUP(F101,$G$4:$I$342,3,FALSE) -> 0.0735
A102: =+'Combined Rate'!A133 -> Cannonville | B102: =+'Combined Rate'!C133 -> 09-004 | C102: =IF(D102=J102,LEFT(B102,3)&"000",B102) -> 09-000 | D102: =+'Combined Rate'!Z133 -> 0.0735 | E102: =IF(RIGHT(B102,3)="000",D102,0) -> 0 | F102: =LEFT(B102,2) -> 09 | G102: =IF(E102<>0,LEFT(B102,2),"") | H102: =IF(E102<>0,A102,"") | I102: =IF(E102<>0,E102,"") | J102: =VLOOKUP(F102,$G$4:$I$342,3,FALSE) -> 0.0735
A103: =+'Combined Rate'!A134 -> Escalante | B103: =+'Combined Rate'!C134 -> 09-005 | C103: =IF(D103=J103,LEFT(B103,3)&"000",B103) -> 09-005 | D103: =+'Combined Rate'!Z134 -> 0.0845 | E103: =IF(RIGHT(B103,3)="000",D103,0) -> 0 | F103: =LEFT(B103,2) -> 09 | G103: =IF(E103<>0,LEFT(B103,2),"") | H103: =IF(E103<>0,A103,"") | I103: =IF(E103<>0,E103,"") | J103: =VLOOKUP(F103,$G$4:$I$342,3,FALSE) -> 0.0735
A104: =+'Combined Rate'!A135 -> Hatch | B104: =+'Combined Rate'!C135 -> 09-006 | C104: =IF(D104=J104,LEFT(B104,3)&"000",B104) -> 09-006 | D104: =+'Combined Rate'!Z135 -> 0.0845 | E104: =IF(RIGHT(B104,3)="000",D104,0) -> 0 | F104: =LEFT(B104,2) -> 09 | G104: =IF(E104<>0,LEFT(B104,2),"") | H104: =IF(E104<>0,A104,"") | I104: =IF(E104<>0,E104,"") | J104: =VLOOKUP(F104,$G$4:$I$342,3,FALSE) -> 0.0735
A105: =+'Combined Rate'!A136 -> Henrieville | B105: =+'Combined Rate'!C136 -> 09-008 | C105: =IF(D105=J105,LEFT(B105,3)&"000",B105) -> 09-000 | D105: =+'Combined Rate'!Z136 -> 0.0735 | E105: =IF(RIGHT(B105,3)="000",D105,0) -> 0 | F105: =LEFT(B105,2) -> 09 | G105: =IF(E105<>0,LEFT(B105,2),"") | H105: =IF(E105<>0,A105,"") | I105: =IF(E105<>0,E105,"") | J105: =VLOOKUP(F105,$G$4:$I$342,3,FALSE) -> 0.0735
A106: =+'Combined Rate'!A137 -> Panguitch | B106: =+'Combined Rate'!C137 -> 09-011 | C106: =IF(D106=J106,LEFT(B106,3)&"000",B106) -> 09-011 | D106: =+'Combined Rate'!Z137 -> 0.0835 | E106: =IF(RIGHT(B106,3)="000",D106,0) -> 0 | F106: =LEFT(B106,2) -> 09 | G106: =IF(E106<>0,LEFT(B106,2),"") | H106: =IF(E106<>0,A106,"") | I106: =IF(E106<>0,E106,"") | J106: =VLOOKUP(F106,$G$4:$I$342,3,FALSE) -> 0.0735
A107: =+'Combined Rate'!A138 -> Tropic | B107: =+'Combined Rate'!C138 -> 09-015 | C107: =IF(D107=J107,LEFT(B107,3)&"000",B107) -> 09-015 | D107: =+'Combined Rate'!Z138 -> 0.0835 | E107: =IF(RIGHT(B107,3)="000",D107,0) -> 0 | F107: =LEFT(B107,2) -> 09 | G107: =IF(E107<>0,LEFT(B107,2),"") | H107: =IF(E107<>0,A107,"") | I107: =IF(E107<>0,E107,"") | J107: =VLOOKUP(F107,$G$4:$I$342,3,FALSE) -> 0.0735
A109: =+'Combined Rate'!A140 -> Grand County | B109: =+'Combined Rate'!C140 -> 10-000 | C109: =IF(D109=J109,LEFT(B109,3)&"000",B109) -> 10-000 | D109: =+'Combined Rate'!Z140 -> 0.0735 | E109: =IF(RIGHT(B109,3)="000",D109,0) -> 0.0735 | F109: =LEFT(B109,2) -> 10 | G109: =IF(E109<>0,LEFT(B109,2),"") -> 10 | H109: =IF(E109<>0,A109,"") -> Grand County | I109: =IF(E109<>0,E109,"") -> 0.0735 | J109: =VLOOKUP(F109,$G$4:$I$342,3,FALSE) -> 0.0735
A110: =+'Combined Rate'!A141 -> Castle Valley | B110: =+'Combined Rate'!C141 -> 10-005 | C110: =IF(D110=J110,LEFT(B110,3)&"000",B110) -> 10-000 | D110: =+'Combined Rate'!Z141 -> 0.0735 | E110: =IF(RIGHT(B110,3)="000",D110,0) -> 0 | F110: =LEFT(B110,2) -> 10 | G110: =IF(E110<>0,LEFT(B110,2),"") | H110: =IF(E110<>0,A110,"") | I110: =IF(E110<>0,E110,"") | J110: =VLOOKUP(F110,$G$4:$I$342,3,FALSE) -> 0.0735
... A119: =+'Combined Rate'!A150 -> Brian Head | B119: =+'Combined Rate'!C150 -> 11-028 | C119: =IF(D119=J119,LEFT(B119,3)&"000",B119) -> 11-028 | D119: =+'Combined Rate'!Z150 -> 0.0865 | E119: =IF(RIGHT(B119,3)="000",D119,0) -> 0 | F119: =LEFT(B119,2) -> 11 | G119: =IF(E119<>0,LEFT(B119,2),"") | H119: =IF(E119<>0,A119,"") | I119: =IF(E119<>0,E119,"") | J119: =VLOOKUP(F119,$G$4:$I$342,3,FALSE) -> 0.0665
A120: =+'Combined Rate'!A152 -> UIPA Iron County | B120: =+'Combined Rate'!C152 -> 11-501 | C120: =IF(D120=J120,LEFT(B120,3)&"000",B120) -> 11-000 | D120: =+'Combined Rate'!Z152 -> 0.0665 | E120: =IF(RIGHT(B120,3)="000",D120,0) -> 0 | F120: =LEFT(B120,2) -> 11 | G120: =IF(E120<>0,LEFT(B120,2),"") | H120: =IF(E120<>0,A120,"") | I120: =IF(E120<>0,E120,"") | J120: =VLOOKUP(F120,$G$4:$I$342,3,FALSE) -> 0.0665
A122: =+'Combined Rate'!A157 -> Juab County | B122: =+'Combined Rate'!C157 -> 12-000 | C122: =IF(D122=J122,LEFT(B122,3)&"000",B122) -> 12-000 | D122: =+'Combined Rate'!Z157 -> 0.0665 | E122: =IF(RIGHT(B122,3)="000",D122,0) -> 0.0665 | F122: =LEFT(B122,2) -> 12 | G122: =IF(E122<>0,LEFT(B122,2),"") -> 12 | H122: =IF(E122<>0,A122,"") -> Juab County | I122: =IF(E122<>0,E122,"") -> 0.0665 | J122: =VLOOKUP(F122,$G$4:$I$342,3,FALSE) -> 0.0665
A123: =+'Combined Rate'!A158 -> Eureka | B123: =+'Combined Rate'!C158 -> 12-009 | C123: =IF(D123=J123,LEFT(B123,3)&"000",B123) -> 12-009 | D123: =+'Combined Rate'!Z158 -> 0.0695 | E123: =IF(RIGHT(B123,3)="000",D123,0) -> 0 | F123: =LEFT(B123,2) -> 12 | G123: =IF(E123<>0,LEFT(B123,2),"") | H123: =IF(E123<>0,A123,"") | I123: =IF(E123<>0,E123,"") | J123: =VLOOKUP(F123,$G$4:$I$342,3,FALSE) -> 0.0665
A124: =+'Combined Rate'!A159 -> Levan | B124: =+'Combined Rate'!C159 -> 12-019 | C124: =IF(D124=J124,LEFT(B124,3)&"000",B124) -> 12-000 | D124: =+'Combined Rate'!Z159 -> 0.0665 | E124: =IF(RIGHT(B124,3)="000",D124,0) -> 0 | F124: =LEFT(B124,2) -> 12 | G124: =IF(E124<>0,LEFT(B124,2),"") | H124: =IF(E124<>0,A124,"") | I124: =IF(E124<>0,E124,"") | J124: =VLOOKUP(F124,$G$4:$I$342,3,FALSE) -> 0.0665
A125: =+'Combined Rate'!A160 -> Mona | B125: =+'Combined Rate'!C160 -> 12-024 | C125: =IF(D125=J125,LEFT(B125,3)&"000",B125) -> 12-024 | D125: =+'Combined Rate'!Z160 -> 0.0705 | E125: =IF(RIGHT(B125,3)="000",D125,0) -> 0 | F125: =LEFT(B125,2) -> 12 | G125: =IF(E125<>0,LEFT(B125,2),"") | H125: =IF(E125<>0,A125,"") | I125: =IF(E125<>0,E125,"") | J125: =VLOOKUP(F125,$G$4:$I$342,3,FALSE) -> 0.0665
A126: =+'Combined Rate'!A161 -> Nephi | B126: =+'Combined Rate'!C161 -> 12-026 | C126: =IF(D126=J126,LEFT(B126,3)&"000",B126) -> 12-026 | D126: =+'Combined Rate'!Z161 -> 0.0705 | E126: =IF(RIGHT(B126,3)="000",D126,0) -> 0 | F126: =LEFT(B126,2) -> 12 | G126: =IF(E126<>0,LEFT(B126,2),"") | H126: =IF(E126<>0,A126,"") | I126: =IF(E126<>0,E126,"") | J126: =VLOOKUP(F126,$G$4:$I$342,3,FALSE) -> 0.0665
A127: =+'Combined Rate'!A162 -> Rocky Ridge Town | B127: =+'Combined Rate'!C162 -> 12-030 | C127: =IF(D127=J127,LEFT(B127,3)&"000",B127) -> 12-000 | D127: =+'Combined Rate'!Z162 -> 0.0665 | E127: =IF(RIGHT(B127,3)="000",D127,0) -> 0 | F127: =LEFT(B127,2) -> 12 | G127: =IF(E127<>0,LEFT(B127,2),"") | H127: =IF(E127<>0,A127,"") | I127: =IF(E127<>0,E127,"") | J127: =VLOOKUP(F127,$G$4:$I$342,3,FALSE) -> 0.0665
A128: =+'Combined Rate'!A163 -> Santaquin South | B128: =+'Combined Rate'!C163 -> 12-050 | C128: =IF(D128=J128,LEFT(B128,3)&"000",B128) -> 12-050 | D128: =+'Combined Rate'!Z163 -> 0.0675 | E128: =IF(RIGHT(B128,3)="000",D128,0) -> 0 | F128: =LEFT(B128,2) -> 12 | G128: =IF(E128<>0,LEFT(B128,2),"") | H128: =IF(E128<>0,A128,"") | I128: =IF(E128<>0,E128,"") | J128: =VLOOKUP(F128,$G$4:$I$342,3,FALSE) -> 0.0665
A130: =+'Combined Rate'!A167 -> Kane County | B130: =+'Combined Rate'!C167 -> 13-000 | C130: =IF(D130=J130,LEFT(B130,3)&"000",B130) -> 13-000 | D130: =+'Combined Rate'!Z167 -> 0.0735 | E130: =IF(RIGHT(B130,3)="000",D130,0) -> 0.0735 | F130: =LEFT(B130,2) -> 13 | G130: =IF(E130<>0,LEFT(B130,2),"") -> 13 | H130: =IF(E130<>0,A130,"") -> Kane County | I130: =IF(E130<>0,E130,"") -> 0.0735 | J130: =VLOOKUP(F130,$G$4:$I$342,3,FALSE) -> 0.0735
A131: =+'Combined Rate'!A168 -> Alton | B131: =+'Combined Rate'!C168 -> 13-001 | C131: =IF(D131=J131,LEFT(B131,3)&"000",B131) -> 13-000 | D131: =+'Combined Rate'!Z168 -> 0.0735 | E131: =IF(RIGHT(B131,3)="000",D131,0) -> 0 | F131: =LEFT(B131,2) -> 13 | G131: =IF(E131<>0,LEFT(B131,2),"") | H131: =IF(E131<>0,A131,"") | I131: =IF(E131<>0,E131,"") | J131: =VLOOKUP(F131,$G$4:$I$342,3,FALSE) -> 0.0735
A132: =+'Combined Rate'!A169 -> Glendale | B132: =+'Combined Rate'!C169 -> 13-002 | C132: =IF(D132=J132,LEFT(B132,3)&"000",B132) -> 13-000 | D132: =+'Combined Rate'!Z169 -> 0.0735 | E132: =IF(RIGHT(B132,3)="000",D132,0) -> 0 | F132: =LEFT(B132,2) -> 13 | G132: =IF(E132<>0,LEFT(B132,2),"") | H132: =IF(E132<>0,A132,"") | I132: =IF(E132<>0,E132,"") | J132: =VLOOKUP(F132,$G$4:$I$342,3,FALSE) -> 0.0735
A133: =+'Combined Rate'!A170 -> Kanab | B133: =+'Combined Rate'!C170 -> 13-004 | C133: =IF(D133=J133,LEFT(B133,3)&"000",B133) -> 13-004 | D133: =+'Combined Rate'!Z170 -> 0.0845 | E133: =IF(RIGHT(B133,3)="000",D133,0) -> 0 | F133: =LEFT(B133,2) -> 13 | G133: =IF(E133<>0,LEFT(B133,2),"") | H133: =IF(E133<>0,A133,"") | I133: =IF(E133<>0,E133,"") | J133: =VLOOKUP(F133,$G$4:$I$342,3,FALSE) -> 0.0735
A134: =+'Combined Rate'!A171 -> Orderville | B134: =+'Combined Rate'!C171 -> 13-007 | C134: =IF(D134=J134,LEFT(B134,3)&"000",B134) -> 13-007 | D134: =+'Combined Rate'!Z171 -> 0.0835 | E134: =IF(RIGHT(B134,3)="000",D134,0) -> 0 | F134: =LEFT(B134,2) -> 13 | G134: =IF(E134<>0,LEFT(B134,2),"") | H134: =IF(E134<>0,A134,"") | I134: =IF(E134<>0,E134,"") | J134: =VLOOKUP(F134,$G$4:$I$342,3,FALSE) -> 0.0735
A135: =+'Combined Rate'!A172 -> Big Water | B135: =+'Combined Rate'!C172 -> 13-010 | C135: =IF(D135=J135,LEFT(B135,3)&"000",B135) -> 13-010 | D135: =+'Combined Rate'!Z172 -> 0.0845 | E135: =IF(RIGHT(B135,3)="000",D135,0) -> 0 | F135: =LEFT(B135,2) -> 13 | G135: =IF(E135<>0,LEFT(B135,2),"") | H135: =IF(E135<>0,A135,"") | I135: =IF(E135<>0,E135,"") | J135: =VLOOKUP(F135,$G$4:$I$342,3,FALSE) -> 0.0735
A137: =+'Combined Rate'!A174 -> Millard County | B137: =+'Combined Rate'!C174 -> 14-000 | C137: =IF(D137=J137,LEFT(B137,3)&"000",B137) -> 14-000 | D137: =+'Combined Rate'!Z174 -> 0.0635 | E137: =IF(RIGHT(B137,3)="000",D137,0) -> 0.0635 | F137: =LEFT(B137,2) -> 14 | G137: =IF(E137<>0,LEFT(B137,2),"") -> 14 | H137: =IF(E137<>0,A137,"") -> Millard County | I137: =IF(E137<>0,E137,"") -> 0.0635 | J137: =VLOOKUP(F137,$G$4:$I$342,3,FALSE) -> 0.0635
A138: =+'Combined Rate'!A175 -> Delta | B138: =+'Combined Rate'!C175 -> 14-010 | C138: =IF(D138=J138,LEFT(B138,3)&"000",B138) -> 14-010 | D138: =+'Combined Rate'!Z175 -> 0.0665 | E138: =IF(RIGHT(B138,3)="000",D138,0) -> 0 | F138: =LEFT(B138,2) -> 14 | G138: =IF(E138<>0,LEFT(B138,2),"") | H138: =IF(E138<>0,A138,"") | I138: =IF(E138<>0,E138,"") | J138: =VLOOKUP(F138,$G$4:$I$342,3,FALSE) -> 0.0635
A139: =+'Combined Rate'!A176 -> Fillmore | B139: =+'Combined Rate'!C176 -> 14-014 | C139: =IF(D139=J139,LEFT(B139,3)&"000",B139) -> 14-014 | D139: =+'Combined Rate'!Z176 -> 0.0675 | E139: =IF(RIGHT(B139,3)="000",D139,0) -> 0 | F139: =LEFT(B139,2) -> 14 | G139: =IF(E139<>0,LEFT(B139,2),"") | H139: =IF(E139<>0,A139,"") | I139: =IF(E139<>0,E139,"") | J139: =VLOOKUP(F139,$G$4:$I$342,3,FALSE) -> 0.0635
A140: =+'Combined Rate'!A177 -> Hinckley | B140: =+'Combined Rate'!C177 -> 14-023 | C140: =IF(D140=J140,LEFT(B140,3)&"000",B140) -> 14-000 | D140: =+'Combined Rate'!Z177 -> 0.0635 | E140: =IF(RIGHT(B140,3)="000",D140,0) -> 0 | F140: =LEFT(B140,2) -> 14 | G140: =IF(E140<>0,LEFT(B140,2),"") | H140: =IF(E140<>0,A140,"") | I140: =IF(E140<>0,E140,"") | J140: =VLOOKUP(F140,$G$4:$I$342,3,FALSE) -> 0.0635
A141: =+'Combined Rate'!A178 -> Holden | B141: =+'Combined Rate'!C178 -> 14-024 | C141: =IF(D141=J141,LEFT(B141,3)&"000",B141) -> 14-000 | D141: =+'Combined Rate'!Z178 -> 0.0635 | E141: =IF(RIGHT(B141,3)="000",D141,0) -> 0 | F141: =LEFT(B141,2) -> 14 | G141: =IF(E141<>0,LEFT(B141,2),"") | H141: =IF(E141<>0,A141,"") | I141: =IF(E141<>0,E141,"") | J141: =VLOOKUP(F141,$G$4:$I$342,3,FALSE) -> 0.0635
A142: =+'Combined Rate'!A179 -> Kanosh | B142: =+'Combined Rate'!C179 -> 14-026 | C142: =IF(D142=J142,LEFT(B142,3)&"000",B142) -> 14-000 | D142: =+'Combined Rate'!Z179 -> 0.0635 | E142: =IF(RIGHT(B142,3)="000",D142,0) -> 0 | F142: =LEFT(B142,2) -> 14 | G142: =IF(E142<>0,LEFT(B142,2),"") | H142: =IF(E142<>0,A142,"") | I142: =IF(E142<>0,E142,"") | J142: =VLOOKUP(F142,$G$4:$I$342,3,FALSE) -> 0.0635
... A147: =+'Combined Rate'!A184 -> Scipio | B147: =+'Combined Rate'!C184 -> 14-040 | C147: =IF(D147=J147,LEFT(B147,3)&"000",B147) -> 14-040 | D147: =+'Combined Rate'!Z184 -> 0.0665 | E147: =IF(RIGHT(B147,3)="000",D147,0) -> 0 | F147: =LEFT(B147,2) -> 14 | G147: =IF(E147<>0,LEFT(B147,2),"") | H147: =IF(E147<>0,A147,"") | I147: =IF(E147<>0,E147,"") | J147: =VLOOKUP(F147,$G$4:$I$342,3,FALSE) -> 0.0635
A149: =+'Combined Rate'!A189 -> Morgan County | B149: =+'Combined Rate'!C189 -> 15-000 | C149: =IF(D149=J149,LEFT(B149,3)&"000",B149) -> 15-000 | D149: =+'Combined Rate'!Z189 -> 0.067 | E149: =IF(RIGHT(B149,3)="000",D149,0) -> 0.067 | F149: =LEFT(B149,2) -> 15 | G149: =IF(E149<>0,LEFT(B149,2),"") -> 15 | H149: =IF(E149<>0,A149,"") -> Morgan County | I149: =IF(E149<>0,E149,"") -> 0.067 | J149: =VLOOKUP(F149,$G$4:$I$342,3,FALSE) -> 0.067
A150: =+'Combined Rate'!A190 -> Morgan City | B150: =+'Combined Rate'!C190 -> 15-007 | C150: =IF(D150=J150,LEFT(B150,3)&"000",B150) -> 15-007 | D150: =+'Combined Rate'!Z190 -> 0.0695 | E150: =IF(RIGHT(B150,3)="000",D150,0) -> 0 | F150: =LEFT(B150,2) -> 15 | G150: =IF(E150<>0,LEFT(B150,2),"") | H150: =IF(E150<>0,A150,"") | I150: =IF(E150<>0,E150,"") | J150: =VLOOKUP(F150,$G$4:$I$342,3,FALSE) -> 0.067
A152: =+'Combined Rate'!A192 -> Piute County | B152: =+'Combined Rate'!C192 -> 16-000 | C152: =IF(D152=J152,LEFT(B152,3)&"000",B152) -> 16-000 | D152: =+'Combined Rate'!Z192 -> 0.0635 | E152: =IF(RIGHT(B152,3)="000",D152,0) -> 0.0635 | F152: =LEFT(B152,2) -> 16 | G152: =IF(E152<>0,LEFT(B152,2),"") -> 16 | H152: =IF(E152<>0,A152,"") -> Piute County | I152: =IF(E152<>0,E152,"") -> 0.0635 | J152: =VLOOKUP(F152,$G$4:$I$342,3,FALSE) -> 0.0635
...

Sheet Both
A1: Code | B1: Location | C1: ST | D1: SF | E1: LS | F1: CO | G1: MT | H1: MA | I1: MF | J1: CT | K1: HT | L1: HH | M1: AT | N1: CP | O1: SM | P1: RH | Q1: CZ | R1: TO | S1: TN | T1: RR | U1: CF | V1: TR | W1: SR | X1: TM | Y1: TT | Z1: MD | AA1: MV | AB1: FF | AC1: OH | AD1: FG | AE1: ES | AF1: SE | AG1: RN | AH1: TL | AI1: ET | AJ1: Locality Total
A2: 01000 | B2: Beaver County | C2: =+'Combined Rate'!E18 -> 0.0485 | D2: 0.0175 | E2: =+'Combined Rate'!G18 -> 0.01 | F2: =+'Combined Rate'!H18 -> 0.0025 | G2: =+'Combined Rate'!I18 -> 0 | H2: =+'Combined Rate'!J18 -> 0 | I2: =+'Combined Rate'!K18 -> 0 | J2: =+'Combined Rate'!L18 -> 0 | K2: =+'Combined Rate'!M18 -> 0 | L2: =+'Combined Rate'!N18 -> 0 | ... U2: =+'Combined Rate'!W18 -> 0 | V2: =+#REF! -> #REF! | W2: =+#REF! -> #REF! | X2: =+#REF! -> #REF! | Y2: =+#REF! -> #REF! | Z2: =+#REF! -> #REF! | AA2: =+#REF! -> #REF! | AB2: =+#REF! -> #REF! | AC2: =+#REF! -> #REF! | ... AI2: =+#REF! -> #REF! | AJ2: =SUM(C2:AI2) -> #REF!
A3: 01002 | B3: Beaver City | C3: =+'Combined Rate'!E19 -> 0.0485 | D3: 0.0175 | E3: =+'Combined Rate'!G19 -> 0.01 | F3: =+'Combined Rate'!H19 -> 0.0025 | G3: =+'Combined Rate'!I19 -> 0 | H3: =+'Combined Rate'!J19 -> 0 | I3: =+'Combined Rate'!K19 -> 0 | J3: =+'Combined Rate'!L19 -> 0 | K3: =+'Combined Rate'!M19 -> 0 | L3: =+'Combined Rate'!N19 -> 0 | ... U3: =+'Combined Rate'!W19 -> 0 | V3: =+#REF! -> #REF! | W3: =+#REF! -> #REF! | X3: =+#REF! -> #REF! | Y3: =+#REF! -> #REF! | Z3: =+#REF! -> #REF! | AA3: =+#REF! -> #REF! | AB3: =+#REF! -> #REF! | AC3: =+#REF! -> #REF! | ... AI3: =+#REF! -> #REF! | AJ3: =SUM(C3:AI3) -> #REF!
A4: 01008 | B4: Milford | C4: =+'Combined Rate'!E20 -> 0.0485 | D4: 0.0175 | E4: =+'Combined Rate'!G20 -> 0.01 | F4: =+'Combined Rate'!H20 -> 0.0025 | G4: =+'Combined Rate'!I20 -> 0 | H4: =+'Combined Rate'!J20 -> 0 | I4: =+'Combined Rate'!K20 -> 0 | J4: =+'Combined Rate'!L20 -> 0 | K4: =+'Combined Rate'!M20 -> 0 | L4: =+'Combined Rate'!N20 -> 0 | ... U4: =+'Combined Rate'!W20 -> 0 | V4: =+#REF! -> #REF! | W4: =+#REF! -> #REF! | X4: =+#REF! -> #REF! | Y4: =+#REF! -> #REF! | Z4: =+#REF! -> #REF! | AA4: =+#REF! -> #REF! | AB4: =+#REF! -> #REF! | AC4: =+#REF! -> #REF! | ... AI4: =+#REF! -> #REF! | AJ4: =SUM(C4:AI4) -> #REF!
A5: 01009 | B5: Minersville | C5: =+'Combined Rate'!E21 -> 0.0485 | D5: 0.0175 | E5: =+'Combined Rate'!G21 -> 0.01 | F5: =+'Combined Rate'!H21 -> 0.0025 | G5: =+'Combined Rate'!I21 -> 0 | H5: =+'Combined Rate'!J21 -> 0 | I5: =+'Combined Rate'!K21 -> 0 | J5: =+'Combined Rate'!L21 -> 0 | K5: =+'Combined Rate'!M21 -> 0 | L5: =+'Combined Rate'!N21 -> 0 | ... U5: =+'Combined Rate'!W21 -> 0 | V5: =+#REF! -> #REF! | W5: =+#REF! -> #REF! | X5: =+#REF! -> #REF! | Y5: =+#REF! -> #REF! | Z5: =+#REF! -> #REF! | AA5: =+#REF! -> #REF! | AB5: =+#REF! -> #REF! | AC5: =+#REF! -> #REF! | ... AI5: =+#REF! -> #REF! | AJ5: =SUM(C5:AI5) -> #REF!
A6: 02000 | B6: Box Elder County | C6: =+'Combined Rate'!E26 -> 0.0485 | D6: 0.0175 | E6: =+'Combined Rate'!G26 -> 0.01 | F6: =+'Combined Rate'!H26 -> 0.0025 | G6: =+'Combined Rate'!I26 -> 0 | H6: =+'Combined Rate'!J26 -> 0 | I6: =+'Combined Rate'!K26 -> 0.003 | J6: =+'Combined Rate'!L26 -> 0 | K6: =+'Combined Rate'!M26 -> 0 | L6: =+'Combined Rate'!N26 -> 0 | ... U6: =+'Combined Rate'!W26 -> 0 | V6: =+#REF! -> #REF! | W6: =+#REF! -> #REF! | X6: =+#REF! -> #REF! | Y6: =+#REF! -> #REF! | Z6: =+#REF! -> #REF! | AA6: =+#REF! -> #REF! | AB6: =+#REF! -> #REF! | AC6: =+#REF! -> #REF! | ... AI6: =+#REF! -> #REF! | AJ6: =SUM(C6:AI6) -> #REF!
A7: 02004 | B7: Bear River | C7: =+'Combined Rate'!E27 -> 0.0485 | D7: 0.0175 | E7: =+'Combined Rate'!G27 -> 0.01 | F7: =+'Combined Rate'!H27 -> 0.0025 | G7: =+'Combined Rate'!I27 -> 0 | H7: =+'Combined Rate'!J27 -> 0 | I7: =+'Combined Rate'!K27 -> 0.003 | J7: =+'Combined Rate'!L27 -> 0 | K7: =+'Combined Rate'!M27 -> 0 | L7: =+'Combined Rate'!N27 -> 0 | ... U7: =+'Combined Rate'!W27 -> 0 | V7: =+#REF! -> #REF! | W7: =+#REF! -> #REF! | X7: =+#REF! -> #REF! | Y7: =+#REF! -> #REF! | Z7: =+#REF! -> #REF! | AA7: =+#REF! -> #REF! | AB7: =+#REF! -> #REF! | AC7: =+#REF! -> #REF! | ... AI7: =+#REF! -> #REF! | AJ7: =SUM(C7:AI7) -> #REF!
A8: 02017 | B8: Brigham | C8: =+'Combined Rate'!E28 -> 0.0485 | D8: 0.0175 | E8: =+'Combined Rate'!G28 -> 0.01 | F8: =+'Combined Rate'!H28 -> 0.0025 | G8: =+'Combined Rate'!I28 -> 0.003 | H8: =+'Combined Rate'!J28 -> 0 | I8: =+'Combined Rate'!K28 -> 0.003 | J8: =+'Combined Rate'!L28 -> 0 | K8: =+'Combined Rate'!M28 -> 0 | L8: =+'Combined Rate'!N28 -> 0 | ... U8: =+'Combined Rate'!W28 -> 0 | V8: =+#REF! -> #REF! | W8: =+#REF! -> #REF! | X8: =+#REF! -> #REF! | Y8: =+#REF! -> #REF! | Z8: =+#REF! -> #REF! | AA8: =+#REF! -> #REF! | AB8: =+#REF! -> #REF! | AC8: =+#REF! -> #REF! | ... AI8: =+#REF! -> #REF! | AJ8: =SUM(C8:AI8) -> #REF!
A9: 02025 | B9: Corinne | C9: =+'Combined Rate'!E29 -> 0.0485 | D9: 0.0175 | E9: =+'Combined Rate'!G29 -> 0.01 | F9: =+'Combined Rate'!H29 -> 0.0025 | G9: =+'Combined Rate'!I29 -> 0 | H9: =+'Combined Rate'!J29 -> 0 | I9: =+'Combined Rate'!K29 -> 0.003 | J9: =+'Combined Rate'!L29 -> 0 | K9: =+'Combined Rate'!M29 -> 0 | L9: =+'Combined Rate'!N29 -> 0 | ... U9: =+'Combined Rate'!W29 -> 0 | V9: =+#REF! -> #REF! | W9: =+#REF! -> #REF! | X9: =+#REF! -> #REF! | Y9: =+#REF! -> #REF! | Z9: =+#REF! -> #REF! | AA9: =+#REF! -> #REF! | AB9: =+#REF! -> #REF! | AC9: =+#REF! -> #REF! | ... AI9: =+#REF! -> #REF! | AJ9: =SUM(C9:AI9) -> #REF!
A10: 02032 | B10: Deweyville | C10: =+'Combined Rate'!E30 -> 0.0485 | D10: 0.0175 | E10: =+'Combined Rate'!G30 -> 0.01 | F10: =+'Combined Rate'!H30 -> 0.0025 | G10: =+'Combined Rate'!I30 -> 0 | H10: =+'Combined Rate'!J30 -> 0 | I10: =+'Combined Rate'!K30 -> 0.003 | J10: =+'Combined Rate'!L30 -> 0 | K10: =+'Combined Rate'!M30 -> 0 | L10: =+'Combined Rate'!N30 -> 0 | ... U10: =+'Combined Rate'!W30 -> 0 | V10: =+#REF! -> #REF! | W10: =+#REF! -> #REF! | X10: =+#REF! -> #REF! | Y10: =+#REF! -> #REF! | Z10: =+#REF! -> #REF! | AA10: =+#REF! -> #REF! | AB10: =+#REF! -> #REF! | AC10: =+#REF! -> #REF! | ... AI10: =+#REF! -> #REF! | AJ10: =SUM(C10:AI10) -> #REF!
A11: 02035 | B11: Elwood | C11: =+'Combined Rate'!E31 -> 0.0485 | D11: 0.0175 | E11: =+'Combined Rate'!G31 -> 0.01 | F11: =+'Combined Rate'!H31 -> 0.0025 | G11: =+'Combined Rate'!I31 -> 0 | H11: =+'Combined Rate'!J31 -> 0 | I11: =+'Combined Rate'!K31 -> 0.003 | J11: =+'Combined Rate'!L31 -> 0 | K11: =+'Combined Rate'!M31 -> 0 | L11: =+'Combined Rate'!N31 -> 0 | ... U11: =+'Combined Rate'!W31 -> 0 | V11: =+#REF! -> #REF! | W11: =+#REF! -> #REF! | X11: =+#REF! -> #REF! | Y11: =+#REF! -> #REF! | Z11: =+#REF! -> #REF! | AA11: =+#REF! -> #REF! | AB11: =+#REF! -> #REF! | AC11: =+#REF! -> #REF! | ... AI11: =+#REF! -> #REF! | AJ11: =SUM(C11:AI11) -> #REF!
A12: 02041 | B12: Fielding | C12: =+'Combined Rate'!E32 -> 0.0485 | D12: 0.0175 | E12: =+'Combined Rate'!G32 -> 0.01 | F12: =+'Combined Rate'!H32 -> 0.0025 | G12: =+'Combined Rate'!I32 -> 0 | H12: =+'Combined Rate'!J32 -> 0 | I12: =+'Combined Rate'!K32 -> 0.003 | J12: =+'Combined Rate'!L32 -> 0 | K12: =+'Combined Rate'!M32 -> 0 | L12: =+'Combined Rate'!N32 -> 0 | ... U12: =+'Combined Rate'!W32 -> 0 | V12: =+#REF! -> #REF! | W12: =+#REF! -> #REF! | X12: =+#REF! -> #REF! | Y12: =+#REF! -> #REF! | Z12: =+#REF! -> #REF! | AA12: =+#REF! -> #REF! | AB12: =+#REF! -> #REF! | AC12: =+#REF! -> #REF! | ... AI12: =+#REF! -> #REF! | AJ12: =SUM(C12:AI12) -> #REF!
A13: 02044 | B13: Garland | C13: =+'Combined Rate'!E33 -> 0.0485 | D13: 0.0175 | E13: =+'Combined Rate'!G33 -> 0.01 | F13: =+'Combined Rate'!H33 -> 0.0025 | G13: =+'Combined Rate'!I33 -> 0 | H13: =+'Combined Rate'!J33 -> 0 | I13: =+'Combined Rate'!K33 -> 0.003 | J13: =+'Combined Rate'!L33 -> 0 | K13: =+'Combined Rate'!M33 -> 0 | L13: =+'Combined Rate'!N33 -> 0 | ... U13: =+'Combined Rate'!W33 -> 0 | V13: =+#REF! -> #REF! | W13: =+#REF! -> #REF! | X13: =+#REF! -> #REF! | Y13: =+#REF! -> #REF! | Z13: =+#REF! -> #REF! | AA13: =+#REF! -> #REF! | AB13: =+#REF! -> #REF! | AC13: =+#REF! -> #REF! | ... AI13: =+#REF! -> #REF! | AJ13: =SUM(C13:AI13) -> #REF!
A14: 02054 | B14: Honeyville | C14: =+'Combined Rate'!E34 -> 0.0485 | D14: 0.0175 | E14: =+'Combined Rate'!G34 -> 0.01 | F14: =+'Combined Rate'!H34 -> 0.0025 | G14: =+'Combined Rate'!I34 -> 0 | H14: =+'Combined Rate'!J34 -> 0 | I14: =+'Combined Rate'!K34 -> 0.003 | J14: =+'Combined Rate'!L34 -> 0 | K14: =+'Combined Rate'!M34 -> 0 | L14: =+'Combined Rate'!N34 -> 0 | ... U14: =+'Combined Rate'!W34 -> 0 | V14: =+#REF! -> #REF! | W14: =+#REF! -> #REF! | X14: =+#REF! -> #REF! | Y14: =+#REF! -> #REF! | Z14: =+#REF! -> #REF! | AA14: =+#REF! -> #REF! | AB14: =+#REF! -> #REF! | AC14: =+#REF! -> #REF! | ... AI14: =+#REF! -> #REF! | AJ14: =SUM(C14:AI14) -> #REF!
A15: 02057 | B15: Howell | C15: =+'Combined Rate'!E35 -> 0.0485 | D15: 0.0175 | E15: =+'Combined Rate'!G35 -> 0.01 | F15: =+'Combined Rate'!H35 -> 0.0025 | G15: =+'Combined Rate'!I35 -> 0 | H15: =+'Combined Rate'!J35 -> 0 | I15: =+'Combined Rate'!K35 -> 0.003 | J15: =+'Combined Rate'!L35 -> 0 | K15: =+'Combined Rate'!M35 -> 0 | L15: =+'Combined Rate'!N35 -> 0 | ... U15: =+'Combined Rate'!W35 -> 0 | V15: =+#REF! -> #REF! | W15: =+#REF! -> #REF! | X15: =+#REF! -> #REF! | Y15: =+#REF! -> #REF! | Z15: =+#REF! -> #REF! | AA15: =+#REF! -> #REF! | AB15: =+#REF! -> #REF! | AC15: =+#REF! -> #REF! | ... AI15: =+#REF! -> #REF! | AJ15: =SUM(C15:AI15) -> #REF!
A16: 02069 | B16: Mantua | C16: =+'Combined Rate'!E36 -> 0.0485 | D16: 0.0175 | E16: =+'Combined Rate'!G36 -> 0.01 | F16: =+'Combined Rate'!H36 -> 0.0025 | G16: =+'Combined Rate'!I36 -> 0 | H16: =+'Combined Rate'!J36 -> 0 | I16: =+'Combined Rate'!K36 -> 0.003 | J16: =+'Combined Rate'!L36 -> 0 | K16: =+'Combined Rate'!M36 -> 0.003 | L16: =+'Combined Rate'!N36 -> 0 | ... U16: =+'Combined Rate'!W36 -> 0 | V16: =+#REF! -> #REF! | W16: =+#REF! -> #REF! | X16: =+#REF! -> #REF! | Y16: =+#REF! -> #REF! | Z16: =+#REF! -> #REF! | AA16: =+#REF! -> #REF! | AB16: =+#REF! -> #REF! | AC16: =+#REF! -> #REF! | ... AI16: =+#REF! -> #REF! | AJ16: =SUM(C16:AI16) -> #REF!
A17: 02086 | B17: Perry | C17: =+'Combined Rate'!E37 -> 0.0485 | D17: 0.0175 | E17: =+'Combined Rate'!G37 -> 0.01 | F17: =+'Combined Rate'!H37 -> 0.0025 | G17: =+'Combined Rate'!I37 -> 0 | H17: =+'Combined Rate'!J37 -> 0 | I17: =+'Combined Rate'!K37 -> 0.003 | J17: =+'Combined Rate'!L37 -> 0 | K17: =+'Combined Rate'!M37 -> 0.003 | L17: =+'Combined Rate'!N37 -> 0 | ... U17: =+'Combined Rate'!W37 -> 0 | V17: =+#REF! -> #REF! | W17: =+#REF! -> #REF! | X17: =+#REF! -> #REF! | Y17: =+#REF! -> #REF! | Z17: =+#REF! -> #REF! | AA17: =+#REF! -> #REF! | AB17: =+#REF! -> #REF! | AC17: =+#REF! -> #REF! | ... AI17: =+#REF! -> #REF! | AJ17: =SUM(C17:AI17) -> #REF!
... A22: 02120 | B22: Willard | C22: =+'Combined Rate'!E42 -> 0.0485 | D22: 0.0175 | E22: =+'Combined Rate'!G42 -> 0.01 | F22: =+'Combined Rate'!H42 -> 0.0025 | G22: =+'Combined Rate'!I42 -> 0 | H22: =+'Combined Rate'!J42 -> 0 | I22: =+'Combined Rate'!K42 -> 0.003 | J22: =+'Combined Rate'!L42 -> 0 | K22: =+'Combined Rate'!M42 -> 0.003 | L22: =+'Combined Rate'!N42 -> 0 | ... U22: =+'Combined Rate'!W42 -> 0 | V22: =+#REF! -> #REF! | W22: =+#REF! -> #REF! | X22: =+#REF! -> #REF! | Y22: =+#REF! -> #REF! | Z22: =+#REF! -> #REF! | AA22: =+#REF! -> #REF! | AB22: =+#REF! -> #REF! | AC22: =+#REF! -> #REF! | ... AI22: =+#REF! -> #REF! | AJ22: =SUM(C22:AI22) -> #REF!
A23: 03000 | B23: Cache County | C23: =+'Combined Rate'!E50 -> 0.0485 | D23: 0.0175 | E23: =+'Combined Rate'!G50 -> 0.01 | F23: =+'Combined Rate'!H50 -> 0.0025 | G23: =+'Combined Rate'!I50 -> 0 | H23: =+'Combined Rate'!J50 -> 0 | I23: =+'Combined Rate'!K50 -> 0.003 | J23: =+'Combined Rate'!L50 -> 0.0025 | K23: =+'Combined Rate'!M50 -> 0 | L23: =+'Combined Rate'!N50 -> 0 | ... U23: =+'Combined Rate'!W50 -> 0 | V23: =+#REF! -> #REF! | W23: =+#REF! -> #REF! | X23: =+#REF! -> #REF! | Y23: =+#REF! -> #REF! | Z23: =+#REF! -> #REF! | AA23: =+#REF! -> #REF! | AB23: =+#REF! -> #REF! | AC23: =+#REF! -> #REF! | ... AI23: =+#REF! -> #REF! | AJ23: =SUM(C23:AI23) -> #REF!
A24: 03001 | B24: Amalga | C24: =+'Combined Rate'!E51 -> 0.0485 | D24: 0.0175 | E24: =+'Combined Rate'!G51 -> 0.01 | F24: =+'Combined Rate'!H51 -> 0.0025 | G24: =+'Combined Rate'!I51 -> 0 | H24: =+'Combined Rate'!J51 -> 0 | I24: =+'Combined Rate'!K51 -> 0.003 | J24: =+'Combined Rate'!L51 -> 0.0025 | K24: =+'Combined Rate'!M51 -> 0 | L24: =+'Combined Rate'!N51 -> 0 | ... U24: =+'Combined Rate'!W51 -> 0 | V24: =+#REF! -> #REF! | W24: =+#REF! -> #REF! | X24: =+#REF! -> #REF! | Y24: =+#REF! -> #REF! | Z24: =+#REF! -> #REF! | AA24: =+#REF! -> #REF! | AB24: =+#REF! -> #REF! | AC24: =+#REF! -> #REF! | ... AI24: =+#REF! -> #REF! | AJ24: =SUM(C24:AI24) -> #REF!
A25: 03014 | B25: Clarkston | C25: =+'Combined Rate'!E52 -> 0.0485 | D25: 0.0175 | E25: =+'Combined Rate'!G52 -> 0.01 | F25: =+'Combined Rate'!H52 -> 0.0025 | G25: =+'Combined Rate'!I52 -> 0 | H25: =+'Combined Rate'!J52 -> 0 | I25: =+'Combined Rate'!K52 -> 0.003 | J25: =+'Combined Rate'!L52 -> 0.0025 | K25: =+'Combined Rate'!M52 -> 0 | L25: =+'Combined Rate'!N52 -> 0 | ... U25: =+'Combined Rate'!W52 -> 0 | V25: =+#REF! -> #REF! | W25: =+#REF! -> #REF! | X25: =+#REF! -> #REF! | Y25: =+#REF! -> #REF! | Z25: =+#REF! -> #REF! | AA25: =+#REF! -> #REF! | AB25: =+#REF! -> #REF! | AC25: =+#REF! -> #REF! | ... AI25: =+#REF! -> #REF! | AJ25: =SUM(C25:AI25) -> #REF!
A26: 03017 | B26: Cornish | C26: =+'Combined Rate'!E53 -> 0.0485 | D26: 0.0175 | E26: =+'Combined Rate'!G53 -> 0.01 | F26: =+'Combined Rate'!H53 -> 0.0025 | G26: =+'Combined Rate'!I53 -> 0 | H26: =+'Combined Rate'!J53 -> 0 | I26: =+'Combined Rate'!K53 -> 0.003 | J26: =+'Combined Rate'!L53 -> 0.0025 | K26: =+'Combined Rate'!M53 -> 0 | L26: =+'Combined Rate'!N53 -> 0 | ... U26: =+'Combined Rate'!W53 -> 0 | V26: =+#REF! -> #REF! | W26: =+#REF! -> #REF! | X26: =+#REF! -> #REF! | Y26: =+#REF! -> #REF! | Z26: =+#REF! -> #REF! | AA26: =+#REF! -> #REF! | AB26: =+#REF! -> #REF! | AC26: =+#REF! -> #REF! | ... AI26: =+#REF! -> #REF! | AJ26: =SUM(C26:AI26) -> #REF!
A27: 03032 | B27: Hyde Park | C27: =+'Combined Rate'!E54 -> 0.0485 | D27: 0.0175 | E27: =+'Combined Rate'!G54 -> 0.01 | F27: =+'Combined Rate'!H54 -> 0.0025 | G27: =+'Combined Rate'!I54 -> 0.0025 | H27: =+'Combined Rate'!J54 -> 0 | I27: =+'Combined Rate'!K54 -> 0.003 | J27: =+'Combined Rate'!L54 -> 0.0025 | K27: =+'Combined Rate'!M54 -> 0 | L27: =+'Combined Rate'!N54 -> 0 | ... U27: =+'Combined Rate'!W54 -> 0 | V27: =+#REF! -> #REF! | W27: =+#REF! -> #REF! | X27: =+#REF! -> #REF! | Y27: =+#REF! -> #REF! | Z27: =+#REF! -> #REF! | AA27: =+#REF! -> #REF! | AB27: =+#REF! -> #REF! | AC27: =+#REF! -> #REF! | ... AI27: =+#REF! -> #REF! | AJ27: =SUM(C27:AI27) -> #REF!
A28: 03033 | B28: Hyrum | C28: =+'Combined Rate'!E55 -> 0.0485 | D28: 0.0175 | E28: =+'Combined Rate'!G55 -> 0.01 | F28: =+'Combined Rate'!H55 -> 0.0025 | G28: =+'Combined Rate'!I55 -> 0.003 | H28: =+'Combined Rate'!J55 -> 0 | I28: =+'Combined Rate'!K55 -> 0.003 | J28: =+'Combined Rate'!L55 -> 0.0025 | K28: =+'Combined Rate'!M55 -> 0 | L28: =+'Combined Rate'!N55 -> 0 | ... U28: =+'Combined Rate'!W55 -> 0 | V28: =+#REF! -> #REF! | W28: =+#REF! -> #REF! | X28: =+#REF! -> #REF! | Y28: =+#REF! -> #REF! | Z28: =+#REF! -> #REF! | AA28: =+#REF! -> #REF! | AB28: =+#REF! -> #REF! | AC28: =+#REF! -> #REF! | ... AI28: =+#REF! -> #REF! | AJ28: =SUM(C28:AI28) -> #REF!
A29: 03036 | B29: Lewiston | C29: =+'Combined Rate'!E56 -> 0.0485 | D29: 0.0175 | E29: =+'Combined Rate'!G56 -> 0.01 | F29: =+'Combined Rate'!H56 -> 0.0025 | G29: =+'Combined Rate'!I56 -> 0.0025 | H29: =+'Combined Rate'!J56 -> 0 | I29: =+'Combined Rate'!K56 -> 0.003 | J29: =+'Combined Rate'!L56 -> 0.0025 | K29: =+'Combined Rate'!M56 -> 0 | L29: =+'Combined Rate'!N56 -> 0 | ... U29: =+'Combined Rate'!W56 -> 0 | V29: =+#REF! -> #REF! | W29: =+#REF! -> #REF! | X29: =+#REF! -> #REF! | Y29: =+#REF! -> #REF! | Z29: =+#REF! -> #REF! | AA29: =+#REF! -> #REF! | AB29: =+#REF! -> #REF! | AC29: =+#REF! -> #REF! | ... AI29: =+#REF! -> #REF! | AJ29: =SUM(C29:AI29) -> #REF!
A30: 03038 | B30: Logan | C30: =+'Combined Rate'!E57 -> 0.0485 | D30: 0.0175 | E30: =+'Combined Rate'!G57 -> 0.01 | F30: =+'Combined Rate'!H57 -> 0.0025 | G30: =+'Combined Rate'!I57 -> 0.003 | H30: =+'Combined Rate'!J57 -> 0 | I30: =+'Combined Rate'!K57 -> 0.003 | J30: =+'Combined Rate'!L57 -> 0.0025 | K30: =+'Combined Rate'!M57 -> 0 | L30: =+'Combined Rate'!N57 -> 0 | ... U30: =+'Combined Rate'!W57 -> 0 | V30: =+#REF! -> #REF! | W30: =+#REF! -> #REF! | X30: =+#REF! -> #REF! | Y30: =+#REF! -> #REF! | Z30: =+#REF! -> #REF! | AA30: =+#REF! -> #REF! | AB30: =+#REF! -> #REF! | AC30: =+#REF! -> #REF! | ... AI30: =+#REF! -> #REF! | AJ30: =SUM(C30:AI30) -> #REF!
A31: 03041 | B31: Mendon | C31: =+'Combined Rate'!E58 -> 0.0485 | D31: 0.0175 | E31: =+'Combined Rate'!G58 -> 0.01 | F31: =+'Combined Rate'!H58 -> 0.0025 | G31: =+'Combined Rate'!I58 -> 0 | H31: =+'Combined Rate'!J58 -> 0 | I31: =+'Combined Rate'!K58 -> 0.003 | J31: =+'Combined Rate'!L58 -> 0.0025 | K31: =+'Combined Rate'!M58 -> 0 | L31: =+'Combined Rate'!N58 -> 0 | ... U31: =+'Combined Rate'!W58 -> 0 | V31: =+#REF! -> #REF! | W31: =+#REF! -> #REF! | X31: =+#REF! -> #REF! | Y31: =+#REF! -> #REF! | Z31: =+#REF! -> #REF! | AA31: =+#REF! -> #REF! | AB31: =+#REF! -> #REF! | AC31: =+#REF! -> #REF! | ... AI31: =+#REF! -> #REF! | AJ31: =SUM(C31:AI31) -> #REF!
A32: 03044 | B32: Millville | C32: =+'Combined Rate'!E59 -> 0.0485 | D32: 0.0175 | E32: =+'Combined Rate'!G59 -> 0.01 | F32: =+'Combined Rate'!H59 -> 0.0025 | G32: =+'Combined Rate'!I59 -> 0.0025 | H32: =+'Combined Rate'!J59 -> 0 | I32: =+'Combined Rate'!K59 -> 0.003 | J32: =+'Combined Rate'!L59 -> 0.0025 | K32: =+'Combined Rate'!M59 -> 0 | L32: =+'Combined Rate'!N59 -> 0 | ... U32: =+'Combined Rate'!W59 -> 0 | V32: =+#REF! -> #REF! | W32: =+#REF! -> #REF! | X32: =+#REF! -> #REF! | Y32: =+#REF! -> #REF! | Z32: =+#REF! -> #REF! | AA32: =+#REF! -> #REF! | AB32: =+#REF! -> #REF! | AC32: =+#REF! -> #REF! | ... AI32: =+#REF! -> #REF! | AJ32: =SUM(C32:AI32) -> #REF!
A33: 03047 | B33: Newton | C33: =+'Combined Rate'!E60 -> 0.0485 | D33: 0.0175 | E33: =+'Combined Rate'!G60 -> 0.01 | F33: =+'Combined Rate'!H60 -> 0.0025 | G33: =+'Combined Rate'!I60 -> 0 | H33: =+'Combined Rate'!J60 -> 0 | I33: =+'Combined Rate'!K60 -> 0.003 | J33: =+'Combined Rate'!L60 -> 0.0025 | K33: =+'Combined Rate'!M60 -> 0 | L33: =+'Combined Rate'!N60 -> 0 | ... U33: =+'Combined Rate'!W60 -> 0 | V33: =+#REF! -> #REF! | W33: =+#REF! -> #REF! | X33: =+#REF! -> #REF! | Y33: =+#REF! -> #REF! | Z33: =+#REF! -> #REF! | AA33: =+#REF! -> #REF! | AB33: =+#REF! -> #REF! | AC33: =+#REF! -> #REF! | ... AI33: =+#REF! -> #REF! | AJ33: =SUM(C33:AI33) -> #REF!
A34: 03049 | B34: North Logan | C34: =+'Combined Rate'!E61 -> 0.0485 | D34: 0.0175 | E34: =+'Combined Rate'!G61 -> 0.01 | F34: =+'Combined Rate'!H61 -> 0.0025 | G34: =+'Combined Rate'!I61 -> 0.003 | H34: =+'Combined Rate'!J61 -> 0 | I34: =+'Combined Rate'!K61 -> 0.003 | J34: =+'Combined Rate'!L61 -> 0.0025 | K34: =+'Combined Rate'!M61 -> 0 | L34: =+'Combined Rate'!N61 -> 0 | ... U34: =+'Combined Rate'!W61 -> 0 | V34: =+#REF! -> #REF! | W34: =+#REF! -> #REF! | X34: =+#REF! -> #REF! | Y34: =+#REF! -> #REF! | Z34: =+#REF! -> #REF! | AA34: =+#REF! -> #REF! | AB34: =+#REF! -> #REF! | AC34: =+#REF! -> #REF! | ... AI34: =+#REF! -> #REF! | AJ34: =SUM(C34:AI34) -> #REF!
... A42: 03098 | B42: Nibley | C42: =+'Combined Rate'!E69 -> 0.0485 | D42: 0.0175 | E42: =+'Combined Rate'!G69 -> 0.01 | F42: =+'Combined Rate'!H69 -> 0.0025 | G42: =+'Combined Rate'!I69 -> 0.003 | H42: =+'Combined Rate'!J69 -> 0 | I42: =+'Combined Rate'!K69 -> 0.003 | J42: =+'Combined Rate'!L69 -> 0.0025 | K42: =+'Combined Rate'!M69 -> 0 | L42: =+'Combined Rate'!N69 -> 0 | ... U42: =+'Combined Rate'!W69 -> 0 | V42: =+#REF! -> #REF! | W42: =+#REF! -> #REF! | X42: =+#REF! -> #REF! | Y42: =+#REF! -> #REF! | Z42: =+#REF! -> #REF! | AA42: =+#REF! -> #REF! | AB42: =+#REF! -> #REF! | AC42: =+#REF! -> #REF! | ... AI42: =+#REF! -> #REF! | AJ42: =SUM(C42:AI42) -> #REF!
A43: 03900 | B43: Cache Valley Transit | C43: =+'Combined Rate'!E71 -> 0.0485 | D43: 0.0175 | E43: =+'Combined Rate'!G71 -> 0.01 | F43: =+'Combined Rate'!H71 -> 0.0025 | G43: =+'Combined Rate'!I71 -> 0.0025 | H43: =+'Combined Rate'!J71 -> 0 | I43: =+'Combined Rate'!K71 -> 0.003 | J43: =+'Combined Rate'!L71 -> 0.0025 | K43: =+'Combined Rate'!M71 -> 0 | L43: =+'Combined Rate'!N71 -> 0 | ... U43: =+'Combined Rate'!W71 -> 0 | V43: =+#REF! -> #REF! | W43: =+#REF! -> #REF! | X43: =+#REF! -> #REF! | Y43: =+#REF! -> #REF! | Z43: =+#REF! -> #REF! | AA43: =+#REF! -> #REF! | AB43: =+#REF! -> #REF! | AC43: =+#REF! -> #REF! | ... AI43: =+#REF! -> #REF! | AJ43: =SUM(C43:AI43) -> #REF!
A44: 04000 | B44: Carbon County | C44: =+'Combined Rate'!E73 -> 0.0485 | D44: 0.0175 | E44: =+'Combined Rate'!G73 -> 0.01 | F44: =+'Combined Rate'!H73 -> 0.0025 | G44: =+'Combined Rate'!I73 -> 0 | H44: =+'Combined Rate'!J73 -> 0 | I44: =+'Combined Rate'!K73 -> 0 | J44: =+'Combined Rate'!L73 -> 0 | K44: =+'Combined Rate'!M73 -> 0 | L44: =+'Combined Rate'!N73 -> 0 | ... U44: =+'Combined Rate'!W73 -> 0 | V44: =+#REF! -> #REF! | W44: =+#REF! -> #REF! | X44: =+#REF! -> #REF! | Y44: =+#REF! -> #REF! | Z44: =+#REF! -> #REF! | AA44: =+#REF! -> #REF! | AB44: =+#REF! -> #REF! | AC44: =+#REF! -> #REF! | ... AI44: =+#REF! -> #REF! | AJ44: =SUM(C44:AI44) -> #REF!
A45: 04016 | B45: Helper | C45: =+'Combined Rate'!E74 -> 0.0485 | D45: 0.0175 | E45: =+'Combined Rate'!G74 -> 0.01 | F45: =+'Combined Rate'!H74 -> 0.0025 | G45: =+'Combined Rate'!I74 -> 0 | H45: =+'Combined Rate'!J74 -> 0 | I45: =+'Combined Rate'!K74 -> 0 | J45: =+'Combined Rate'!L74 -> 0 | K45: =+'Combined Rate'!M74 -> 0 | L45: =+'Combined Rate'!N74 -> 0 | ... U45: =+'Combined Rate'!W74 -> 0 | V45: =+#REF! -> #REF! | W45: =+#REF! -> #REF! | X45: =+#REF! -> #REF! | Y45: =+#REF! -> #REF! | Z45: =+#REF! -> #REF! | AA45: =+#REF! -> #REF! | AB45: =+#REF! -> #REF! | AC45: =+#REF! -> #REF! | ... AI45: =+#REF! -> #REF! | AJ45: =SUM(C45:AI45) -> #REF!
A46: 04035 | B46: Price | C46: =+'Combined Rate'!E75 -> 0.0485 | D46: 0.0175 | E46: =+'Combined Rate'!G75 -> 0.01 | F46: =+'Combined Rate'!H75 -> 0.0025 | G46: =+'Combined Rate'!I75 -> 0 | H46: =+'Combined Rate'!J75 -> 0 | I46: =+'Combined Rate'!K75 -> 0 | J46: =+'Combined Rate'!L75 -> 0 | K46: =+'Combined Rate'!M75 -> 0.003 | L46: =+'Combined Rate'!N75 -> 0 | ... U46: =+'Combined Rate'!W75 -> 0 | V46: =+#REF! -> #REF! | W46: =+#REF! -> #REF! | X46: =+#REF! -> #REF! | Y46: =+#REF! -> #REF! | Z46: =+#REF! -> #REF! | AA46: =+#REF! -> #REF! | AB46: =+#REF! -> #REF! | AC46: =+#REF! -> #REF! | ... AI46: =+#REF! -> #REF! | AJ46: =SUM(C46:AI46) -> #REF!
A47: 04040 | B47: Scofield | C47: =+'Combined Rate'!E76 -> 0.0485 | D47: 0.0175 | E47: =+'Combined Rate'!G76 -> 0.01 | F47: =+'Combined Rate'!H76 -> 0.0025 | G47: =+'Combined Rate'!I76 -> 0 | H47: =+'Combined Rate'!J76 -> 0 | I47: =+'Combined Rate'!K76 -> 0 | J47: =+'Combined Rate'!L76 -> 0 | K47: =+'Combined Rate'!M76 -> 0 | L47: =+'Combined Rate'!N76 -> 0 | ... U47: =+'Combined Rate'!W76 -> 0 | V47: =+#REF! -> #REF! | W47: =+#REF! -> #REF! | X47: =+#REF! -> #REF! | Y47: =+#REF! -> #REF! | Z47: =+#REF! -> #REF! | AA47: =+#REF! -> #REF! | AB47: =+#REF! -> #REF! | AC47: =+#REF! -> #REF! | ... AI47: =+#REF! -> #REF! | AJ47: =SUM(C47:AI47) -> #REF!
A48: 04053 | B48: Wellington | C48: =+'Combined Rate'!E77 -> 0.0485 | D48: 0.0175 | E48: =+'Combined Rate'!G77 -> 0.01 | F48: =+'Combined Rate'!H77 -> 0.0025 | G48: =+'Combined Rate'!I77 -> 0 | H48: =+'Combined Rate'!J77 -> 0 | I48: =+'Combined Rate'!K77 -> 0 | J48: =+'Combined Rate'!L77 -> 0 | K48: =+'Combined Rate'!M77 -> 0.003 | L48: =+'Combined Rate'!N77 -> 0 | ... U48: =+'Combined Rate'!W77 -> 0 | V48: =+#REF! -> #REF! | W48: =+#REF! -> #REF! | X48: =+#REF! -> #REF! | Y48: =+#REF! -> #REF! | Z48: =+#REF! -> #REF! | AA48: =+#REF! -> #REF! | AB48: =+#REF! -> #REF! | AC48: =+#REF! -> #REF! | ... AI48: =+#REF! -> #REF! | AJ48: =SUM(C48:AI48) -> #REF!
A49: 04058 | B49: East Carbon | C49: =+'Combined Rate'!E78 -> 0.0485 | D49: 0.0175 | E49: =+'Combined Rate'!G78 -> 0.01 | F49: =+'Combined Rate'!H78 -> 0.0025 | G49: =+'Combined Rate'!I78 -> 0 | H49: =+'Combined Rate'!J78 -> 0 | I49: =+'Combined Rate'!K78 -> 0 | J49: =+'Combined Rate'!L78 -> 0 | K49: =+'Combined Rate'!M78 -> 0 | L49: =+'Combined Rate'!N78 -> 0 | ... U49: =+'Combined Rate'!W78 -> 0 | V49: =+#REF! -> #REF! | W49: =+#REF! -> #REF! | X49: =+#REF! -> #REF! | Y49: =+#REF! -> #REF! | Z49: =+#REF! -> #REF! | AA49: =+#REF! -> #REF! | AB49: =+#REF! -> #REF! | AC49: =+#REF! -> #REF! | ... AI49: =+#REF! -> #REF! | AJ49: =SUM(C49:AI49) -> #REF!
A50: 05000 | B50: Daggett County | C50: =+'Combined Rate'!E83 -> 0.0485 | D50: 0.0175 | E50: =+'Combined Rate'!G83 -> 0.01 | F50: =+'Combined Rate'!H83 -> 0.0025 | G50: =+'Combined Rate'!I83 -> 0 | H50: =+'Combined Rate'!J83 -> 0 | I50: =+'Combined Rate'!K83 -> 0.003 | J50: =+'Combined Rate'!L83 -> 0 | K50: =+'Combined Rate'!M83 -> 0 | L50: =+'Combined Rate'!N83 -> 0 | ... U50: =+'Combined Rate'!W83 -> 0 | V50: =+#REF! -> #REF! | W50: =+#REF! -> #REF! | X50: =+#REF! -> #REF! | Y50: =+#REF! -> #REF! | Z50: =+#REF! -> #REF! | AA50: =+#REF! -> #REF! | AB50: =+#REF! -> #REF! | AC50: =+#REF! -> #REF! | ... AI50: =+#REF! -> #REF! | AJ50: =SUM(C50:AI50) -> #REF!
A51: 05002 | B51: Dutch John | C51: =+'Combined Rate'!E84 -> 0.0485 | D51: 0.0175 | E51: =+'Combined Rate'!G84 -> 0.01 | F51: =+'Combined Rate'!H84 -> 0.0025 | G51: =+'Combined Rate'!I84 -> 0 | H51: =+'Combined Rate'!J84 -> 0 | I51: =+'Combined Rate'!K84 -> 0.003 | J51: =+'Combined Rate'!L84 -> 0 | K51: =+'Combined Rate'!M84 -> 0 | L51: =+'Combined Rate'!N84 -> 0 | ... U51: =+'Combined Rate'!W84 -> 0 | V51: =+#REF! -> #REF! | W51: =+#REF! -> #REF! | X51: =+#REF! -> #REF! | Y51: =+#REF! -> #REF! | Z51: =+#REF! -> #REF! | AA51: =+#REF! -> #REF! | AB51: =+#REF! -> #REF! | AC51: =+#REF! -> #REF! | ... AI51: =+#REF! -> #REF! | AJ51: =SUM(C51:AI51) -> #REF!
A52: 05006 | B52: Manila | C52: =+'Combined Rate'!E85 -> 0.0485 | D52: 0.0175 | E52: =+'Combined Rate'!G85 -> 0.01 | F52: =+'Combined Rate'!H85 -> 0.0025 | G52: =+'Combined Rate'!I85 -> 0 | H52: =+'Combined Rate'!J85 -> 0 | I52: =+'Combined Rate'!K85 -> 0.003 | J52: =+'Combined Rate'!L85 -> 0 | K52: =+'Combined Rate'!M85 -> 0 | L52: =+'Combined Rate'!N85 -> 0 | ... U52: =+'Combined Rate'!W85 -> 0 | V52: =+#REF! -> #REF! | W52: =+#REF! -> #REF! | X52: =+#REF! -> #REF! | Y52: =+#REF! -> #REF! | Z52: =+#REF! -> #REF! | AA52: =+#REF! -> #REF! | AB52: =+#REF! -> #REF! | AC52: =+#REF! -> #REF! | ... AI52: =+#REF! -> #REF! | AJ52: =SUM(C52:AI52) -> #REF!
A53: 06000 | B53: Davis County | C53: =+'Combined Rate'!E87 -> 0.0485 | D53: 0.0175 | E53: =+'Combined Rate'!G87 -> 0.01 | F53: =+'Combined Rate'!H87 -> 0.0025 | G53: =+'Combined Rate'!I87 -> 0.0025 | H53: =+'Combined Rate'!J87 -> 0.0025 | I53: =+'Combined Rate'!K87 -> 0 | J53: =+'Combined Rate'!L87 -> 0.0025 | K53: =+'Combined Rate'!M87 -> 0 | L53: =+'Combined Rate'!N87 -> 0 | ... U53: =+'Combined Rate'!W87 -> 0 | V53: =+#REF! -> #REF! | W53: =+#REF! -> #REF! | X53: =+#REF! -> #REF! | Y53: =+#REF! -> #REF! | Z53: =+#REF! -> #REF! | AA53: =+#REF! -> #REF! | AB53: =+#REF! -> #REF! | AC53: =+#REF! -> #REF! | ... AI53: =+#REF! -> #REF! | AJ53: =SUM(C53:AI53) -> #REF!
A54: 06004 | B54: Bountiful | C54: =+'Combined Rate'!E88 -> 0.0485 | D54: 0.0175 | E54: =+'Combined Rate'!G88 -> 0.01 | F54: =+'Combined Rate'!H88 -> 0.0025 | G54: =+'Combined Rate'!I88 -> 0.0025 | H54: =+'Combined Rate'!J88 -> 0.0025 | I54: =+'Combined Rate'!K88 -> 0 | J54: =+'Combined Rate'!L88 -> 0.0025 | K54: =+'Combined Rate'!M88 -> 0 | L54: =+'Combined Rate'!N88 -> 0 | ... U54: =+'Combined Rate'!W88 -> 0 | V54: =+#REF! -> #REF! | W54: =+#REF! -> #REF! | X54: =+#REF! -> #REF! | Y54: =+#REF! -> #REF! | Z54: =+#REF! -> #REF! | AA54: =+#REF! -> #REF! | AB54: =+#REF! -> #REF! | AC54: =+#REF! -> #REF! | ... AI54: =+#REF! -> #REF! | AJ54: =SUM(C54:AI54) -> #REF!
A55: 06006 | B55: Centerville | C55: =+'Combined Rate'!E89 -> 0.0485 | D55: 0.0175 | E55: =+'Combined Rate'!G89 -> 0.01 | F55: =+'Combined Rate'!H89 -> 0.0025 | G55: =+'Combined Rate'!I89 -> 0.0025 | H55: =+'Combined Rate'!J89 -> 0.0025 | I55: =+'Combined Rate'!K89 -> 0 | J55: =+'Combined Rate'!L89 -> 0.0025 | K55: =+'Combined Rate'!M89 -> 0 | L55: =+'Combined Rate'!N89 -> 0 | ... U55: =+'Combined Rate'!W89 -> 0 | V55: =+#REF! -> #REF! | W55: =+#REF! -> #REF! | X55: =+#REF! -> #REF! | Y55: =+#REF! -> #REF! | Z55: =+#REF! -> #REF! | AA55: =+#REF! -> #REF! | AB55: =+#REF! -> #REF! | AC55: =+#REF! -> #REF! | ... AI55: =+#REF! -> #REF! | AJ55: =SUM(C55:AI55) -> #REF!
A56: 06008 | B56: Clearfield | C56: =+'Combined Rate'!E90 -> 0.0485 | D56: 0.0175 | E56: =+'Combined Rate'!G90 -> 0.01 | F56: =+'Combined Rate'!H90 -> 0.0025 | G56: =+'Combined Rate'!I90 -> 0.0025 | H56: =+'Combined Rate'!J90 -> 0.0025 | I56: =+'Combined Rate'!K90 -> 0 | J56: =+'Combined Rate'!L90 -> 0.0025 | K56: =+'Combined Rate'!M90 -> 0 | L56: =+'Combined Rate'!N90 -> 0 | ... U56: =+'Combined Rate'!W90 -> 0 | V56: =+#REF! -> #REF! | W56: =+#REF! -> #REF! | X56: =+#REF! -> #REF! | Y56: =+#REF! -> #REF! | Z56: =+#REF! -> #REF! | AA56: =+#REF! -> #REF! | AB56: =+#REF! -> #REF! | AC56: =+#REF! -> #REF! | ... AI56: =+#REF! -> #REF! | AJ56: =SUM(C56:AI56) -> #REF!
A57: 06010 | B57: Fruit Heights | C57: =+'Combined Rate'!E91 -> 0.0485 | D57: 0.0175 | E57: =+'Combined Rate'!G91 -> 0.01 | F57: =+'Combined Rate'!H91 -> 0.0025 | G57: =+'Combined Rate'!I91 -> 0.0025 | H57: =+'Combined Rate'!J91 -> 0.0025 | I57: =+'Combined Rate'!K91 -> 0 | J57: =+'Combined Rate'!L91 -> 0.0025 | K57: =+'Combined Rate'!M91 -> 0 | L57: =+'Combined Rate'!N91 -> 0 | ... U57: =+'Combined Rate'!W91 -> 0 | V57: =+#REF! -> #REF! | W57: =+#REF! -> #REF! | X57: =+#REF! -> #REF! | Y57: =+#REF! -> #REF! | Z57: =+#REF! -> #REF! | AA57: =+#REF! -> #REF! | AB57: =+#REF! -> #REF! | AC57: =+#REF! -> #REF! | ... AI57: =+#REF! -> #REF! | AJ57: =SUM(C57:AI57) -> #REF!
A58: 06017 | B58: Farmington | C58: =+'Combined Rate'!E92 -> 0.0485 | D58: 0.0175 | E58: =+'Combined Rate'!G92 -> 0.01 | F58: =+'Combined Rate'!H92 -> 0.0025 | G58: =+'Combined Rate'!I92 -> 0.0025 | H58: =+'Combined Rate'!J92 -> 0.0025 | I58: =+'Combined Rate'!K92 -> 0 | J58: =+'Combined Rate'!L92 -> 0.0025 | K58: =+'Combined Rate'!M92 -> 0 | L58: =+'Combined Rate'!N92 -> 0 | ... U58: =+'Combined Rate'!W92 -> 0 | V58: =+#REF! -> #REF! | W58: =+#REF! -> #REF! | X58: =+#REF! -> #REF! | Y58: =+#REF! -> #REF! | Z58: =+#REF! -> #REF! | AA58: =+#REF! -> #REF! | AB58: =+#REF! -> #REF! | AC58: =+#REF! -> #REF! | ... AI58: =+#REF! -> #REF! | AJ58: =SUM(C58:AI58) -> #REF!
A59: 06026 | B59: Kaysville | C59: =+'Combined Rate'!E93 -> 0.0485 | D59: 0.0175 | E59: =+'Combined Rate'!G93 -> 0.01 | F59: =+'Combined Rate'!H93 -> 0.0025 | G59: =+'Combined Rate'!I93 -> 0.0025 | H59: =+'Combined Rate'!J93 -> 0.0025 | I59: =+'Combined Rate'!K93 -> 0 | J59: =+'Combined Rate'!L93 -> 0.0025 | K59: =+'Combined Rate'!M93 -> 0 | L59: =+'Combined Rate'!N93 -> 0 | ... U59: =+'Combined Rate'!W93 -> 0 | V59: =+#REF! -> #REF! | W59: =+#REF! -> #REF! | X59: =+#REF! -> #REF! | Y59: =+#REF! -> #REF! | Z59: =+#REF! -> #REF! | AA59: =+#REF! -> #REF! | AB59: =+#REF! -> #REF! | AC59: =+#REF! -> #REF! | ... AI59: =+#REF! -> #REF! | AJ59: =SUM(C59:AI59) -> #REF!
A60: 06030 | B60: Layton | C60: =+'Combined Rate'!E94 -> 0.0485 | D60: 0.0175 | E60: =+'Combined Rate'!G94 -> 0.01 | F60: =+'Combined Rate'!H94 -> 0.0025 | G60: =+'Combined Rate'!I94 -> 0.0025 | H60: =+'Combined Rate'!J94 -> 0.0025 | I60: =+'Combined Rate'!K94 -> 0 | J60: =+'Combined Rate'!L94 -> 0.0025 | K60: =+'Combined Rate'!M94 -> 0 | L60: =+'Combined Rate'!N94 -> 0 | ... U60: =+'Combined Rate'!W94 -> 0 | V60: =+#REF! -> #REF! | W60: =+#REF! -> #REF! | X60: =+#REF! -> #REF! | Y60: =+#REF! -> #REF! | Z60: =+#REF! -> #REF! | AA60: =+#REF! -> #REF! | AB60: =+#REF! -> #REF! | AC60: =+#REF! -> #REF! | ... AI60: =+#REF! -> #REF! | AJ60: =SUM(C60:AI60) -> #REF!
A61: 06035 | B61: North Salt Lake | C61: =+'Combined Rate'!E95 -> 0.0485 | D61: 0.0175 | E61: =+'Combined Rate'!G95 -> 0.01 | F61: =+'Combined Rate'!H95 -> 0.0025 | G61: =+'Combined Rate'!I95 -> 0.0025 | H61: =+'Combined Rate'!J95 -> 0.0025 | I61: =+'Combined Rate'!K95 -> 0 | J61: =+'Combined Rate'!L95 -> 0.0025 | K61: =+'Combined Rate'!M95 -> 0 | L61: =+'Combined Rate'!N95 -> 0 | ... U61: =+'Combined Rate'!W95 -> 0 | V61: =+#REF! -> #REF! | W61: =+#REF! -> #REF! | X61: =+#REF! -> #REF! | Y61: =+#REF! -> #REF! | Z61: =+#REF! -> #REF! | AA61: =+#REF! -> #REF! | AB61: =+#REF! -> #REF! | AC61: =+#REF! -> #REF! | ... AI61: =+#REF! -> #REF! | AJ61: =SUM(C61:AI61) -> #REF!
A62: 06045 | B62: South Weber | C62: =+'Combined Rate'!E96 -> 0.0485 | D62: 0.0175 | E62: =+'Combined Rate'!G96 -> 0.01 | F62: =+'Combined Rate'!H96 -> 0.0025 | G62: =+'Combined Rate'!I96 -> 0.0025 | H62: =+'Combined Rate'!J96 -> 0.0025 | I62: =+'Combined Rate'!K96 -> 0 | J62: =+'Combined Rate'!L96 -> 0.0025 | K62: =+'Combined Rate'!M96 -> 0 | L62: =+'Combined Rate'!N96 -> 0 | ... U62: =+'Combined Rate'!W96 -> 0 | V62: =+#REF! -> #REF! | W62: =+#REF! -> #REF! | X62: =+#REF! -> #REF! | Y62: =+#REF! -> #REF! | Z62: =+#REF! -> #REF! | AA62: =+#REF! -> #REF! | AB62: =+#REF! -> #REF! | AC62: =+#REF! -> #REF! | ... AI62: =+#REF! -> #REF! | AJ62: =SUM(C62:AI62) -> #REF!
A63: 06048 | B63: Sunset | C63: =+'Combined Rate'!E97 -> 0.0485 | D63: 0.0175 | E63: =+'Combined Rate'!G97 -> 0.01 | F63: =+'Combined Rate'!H97 -> 0.0025 | G63: =+'Combined Rate'!I97 -> 0.0025 | H63: =+'Combined Rate'!J97 -> 0.0025 | I63: =+'Combined Rate'!K97 -> 0 | J63: =+'Combined Rate'!L97 -> 0.0025 | K63: =+'Combined Rate'!M97 -> 0 | L63: =+'Combined Rate'!N97 -> 0 | ... U63: =+'Combined Rate'!W97 -> 0 | V63: =+#REF! -> #REF! | W63: =+#REF! -> #REF! | X63: =+#REF! -> #REF! | Y63: =+#REF! -> #REF! | Z63: =+#REF! -> #REF! | AA63: =+#REF! -> #REF! | AB63: =+#REF! -> #REF! | AC63: =+#REF! -> #REF! | ... AI63: =+#REF! -> #REF! | AJ63: =SUM(C63:AI63) -> #REF!
A64: 06049 | B64: Syracuse | C64: =+'Combined Rate'!E98 -> 0.0485 | D64: 0.0175 | E64: =+'Combined Rate'!G98 -> 0.01 | F64: =+'Combined Rate'!H98 -> 0.0025 | G64: =+'Combined Rate'!I98 -> 0.0025 | H64: =+'Combined Rate'!J98 -> 0.0025 | I64: =+'Combined Rate'!K98 -> 0 | J64: =+'Combined Rate'!L98 -> 0.0025 | K64: =+'Combined Rate'!M98 -> 0 | L64: =+'Combined Rate'!N98 -> 0 | ... U64: =+'Combined Rate'!W98 -> 0 | V64: =+#REF! -> #REF! | W64: =+#REF! -> #REF! | X64: =+#REF! -> #REF! | Y64: =+#REF! -> #REF! | Z64: =+#REF! -> #REF! | AA64: =+#REF! -> #REF! | AB64: =+#REF! -> #REF! | AC64: =+#REF! -> #REF! | ... AI64: =+#REF! -> #REF! | AJ64: =SUM(C64:AI64) -> #REF!
... A71: 06302 | B71: Falcon Hill Sunset | C71: =+'Combined Rate'!E105 -> 0.0485 | D71: 0.0175 | E71: =+'Combined Rate'!G105 -> 0.01 | F71: =+'Combined Rate'!H105 -> 0.0025 | G71: =+'Combined Rate'!I105 -> 0.0025 | H71: =+'Combined Rate'!J105 -> 0.0025 | I71: =+'Combined Rate'!K105 -> 0 | J71: =+'Combined Rate'!L105 -> 0.0025 | K71: =+'Combined Rate'!M105 -> 0 | L71: =+'Combined Rate'!N105 -> 0 | ... U71: =+'Combined Rate'!W105 -> 0 | V71: =+#REF! -> #REF! | W71: =+#REF! -> #REF! | X71: =+#REF! -> #REF! | Y71: =+#REF! -> #REF! | Z71: =+#REF! -> #REF! | AA71: =+#REF! -> #REF! | AB71: =+#REF! -> #REF! | AC71: =+#REF! -> #REF! | ... AI71: =+#REF! -> #REF! | AJ71: =SUM(C71:AI71) -> #REF!
A72: 07000 | B72: Duchesne County | C72: =+'Combined Rate'!E107 -> 0.0485 | D72: 0.0175 | E72: =+'Combined Rate'!G107 -> 0.01 | F72: =+'Combined Rate'!H107 -> 0.0025 | G72: =+'Combined Rate'!I107 -> 0 | H72: =+'Combined Rate'!J107 -> 0 | I72: =+'Combined Rate'!K107 -> 0 | J72: =+'Combined Rate'!L107 -> 0 | K72: =+'Combined Rate'!M107 -> 0 | L72: =+'Combined Rate'!N107 -> 0 | ... U72: =+'Combined Rate'!W107 -> 0 | V72: =+#REF! -> #REF! | W72: =+#REF! -> #REF! | X72: =+#REF! -> #REF! | Y72: =+#REF! -> #REF! | Z72: =+#REF! -> #REF! | AA72: =+#REF! -> #REF! | AB72: =+#REF! -> #REF! | AC72: =+#REF! -> #REF! | ... AI72: =+#REF! -> #REF! | AJ72: =SUM(C72:AI72) -> #REF!
A73: 07001 | B73: Altamont | C73: =+'Combined Rate'!E108 -> 0.0485 | D73: 0.0175 | E73: =+'Combined Rate'!G108 -> 0.01 | F73: =+'Combined Rate'!H108 -> 0.0025 | G73: =+'Combined Rate'!I108 -> 0 | H73: =+'Combined Rate'!J108 -> 0 | I73: =+'Combined Rate'!K108 -> 0 | J73: =+'Combined Rate'!L108 -> 0 | K73: =+'Combined Rate'!M108 -> 0 | L73: =+'Combined Rate'!N108 -> 0 | ... U73: =+'Combined Rate'!W108 -> 0 | V73: =+#REF! -> #REF! | W73: =+#REF! -> #REF! | X73: =+#REF! -> #REF! | Y73: =+#REF! -> #REF! | Z73: =+#REF! -> #REF! | AA73: =+#REF! -> #REF! | AB73: =+#REF! -> #REF! | AC73: =+#REF! -> #REF! | ... AI73: =+#REF! -> #REF! | AJ73: =SUM(C73:AI73) -> #REF!
A74: 07008 | B74: Duchesne City | C74: =+'Combined Rate'!E109 -> 0.0485 | D74: 0.0175 | E74: =+'Combined Rate'!G109 -> 0.01 | F74: =+'Combined Rate'!H109 -> 0.0025 | G74: =+'Combined Rate'!I109 -> 0 | H74: =+'Combined Rate'!J109 -> 0 | I74: =+'Combined Rate'!K109 -> 0 | J74: =+'Combined Rate'!L109 -> 0 | K74: =+'Combined Rate'!M109 -> 0 | L74: =+'Combined Rate'!N109 -> 0 | ... U74: =+'Combined Rate'!W109 -> 0 | V74: =+#REF! -> #REF! | W74: =+#REF! -> #REF! | X74: =+#REF! -> #REF! | Y74: =+#REF! -> #REF! | Z74: =+#REF! -> #REF! | AA74: =+#REF! -> #REF! | AB74: =+#REF! -> #REF! | AC74: =+#REF! -> #REF! | ... AI74: =+#REF! -> #REF! | AJ74: =SUM(C74:AI74) -> #REF!
A75: 07017 | B75: Myton | C75: =+'Combined Rate'!E110 -> 0.0485 | D75: 0.0175 | E75: =+'Combined Rate'!G110 -> 0.01 | F75: =+'Combined Rate'!H110 -> 0.0025 | G75: =+'Combined Rate'!I110 -> 0 | H75: =+'Combined Rate'!J110 -> 0 | I75: =+'Combined Rate'!K110 -> 0 | J75: =+'Combined Rate'!L110 -> 0 | K75: =+'Combined Rate'!M110 -> 0 | L75: =+'Combined Rate'!N110 -> 0 | ... U75: =+'Combined Rate'!W110 -> 0 | V75: =+#REF! -> #REF! | W75: =+#REF! -> #REF! | X75: =+#REF! -> #REF! | Y75: =+#REF! -> #REF! | Z75: =+#REF! -> #REF! | AA75: =+#REF! -> #REF! | AB75: =+#REF! -> #REF! | AC75: =+#REF! -> #REF! | ... AI75: =+#REF! -> #REF! | AJ75: =SUM(C75:AI75) -> #REF!
A76: 07019 | B76: Roosevelt | C76: =+'Combined Rate'!E111 -> 0.0485 | D76: 0.0175 | E76: =+'Combined Rate'!G111 -> 0.01 | F76: =+'Combined Rate'!H111 -> 0.0025 | G76: =+'Combined Rate'!I111 -> 0 | H76: =+'Combined Rate'!J111 -> 0 | I76: =+'Combined Rate'!K111 -> 0 | J76: =+'Combined Rate'!L111 -> 0 | K76: =+'Combined Rate'!M111 -> 0.003 | L76: =+'Combined Rate'!N111 -> 0 | ... U76: =+'Combined Rate'!W111 -> 0 | V76: =+#REF! -> #REF! | W76: =+#REF! -> #REF! | X76: =+#REF! -> #REF! | Y76: =+#REF! -> #REF! | Z76: =+#REF! -> #REF! | AA76: =+#REF! -> #REF! | AB76: =+#REF! -> #REF! | AC76: =+#REF! -> #REF! | ... AI76: =+#REF! -> #REF! | AJ76: =SUM(C76:AI76) -> #REF!
A77: 07020 | B77: Tabiona | C77: =+'Combined Rate'!E112 -> 0.0485 | D77: 0.0175 | E77: =+'Combined Rate'!G112 -> 0.01 | F77: =+'Combined Rate'!H112 -> 0.0025 | G77: =+'Combined Rate'!I112 -> 0 | H77: =+'Combined Rate'!J112 -> 0 | I77: =+'Combined Rate'!K112 -> 0 | J77: =+'Combined Rate'!L112 -> 0 | K77: =+'Combined Rate'!M112 -> 0 | L77: =+'Combined Rate'!N112 -> 0 | ... U77: =+'Combined Rate'!W112 -> 0 | V77: =+#REF! -> #REF! | W77: =+#REF! -> #REF! | X77: =+#REF! -> #REF! | Y77: =+#REF! -> #REF! | Z77: =+#REF! -> #REF! | AA77: =+#REF! -> #REF! | AB77: =+#REF! -> #REF! | AC77: =+#REF! -> #REF! | ... AI77: =+#REF! -> #REF! | AJ77: =SUM(C77:AI77) -> #REF!
A78: 08000 | B78: Emery County | C78: =+'Combined Rate'!E116 -> 0.0485 | D78: 0.0175 | E78: =+'Combined Rate'!G116 -> 0.01 | F78: =+'Combined Rate'!H116 -> 0.0025 | G78: =+'Combined Rate'!I116 -> 0 | H78: =+'Combined Rate'!J116 -> 0 | I78: =+'Combined Rate'!K116 -> 0 | J78: =+'Combined Rate'!L116 -> 0 | K78: =+'Combined Rate'!M116 -> 0 | L78: =+'Combined Rate'!N116 -> 0 | ... U78: =+'Combined Rate'!W116 -> 0 | V78: =+#REF! -> #REF! | W78: =+#REF! -> #REF! | X78: =+#REF! -> #REF! | Y78: =+#REF! -> #REF! | Z78: =+#REF! -> #REF! | AA78: =+#REF! -> #REF! | AB78: =+#REF! -> #REF! | AC78: =+#REF! -> #REF! | ... AI78: =+#REF! -> #REF! | AJ78: =SUM(C78:AI78) -> #REF!
A79: 08001 | B79: Castle Dale | C79: =+'Combined Rate'!E117 -> 0.0485 | D79: 0.0175 | E79: =+'Combined Rate'!G117 -> 0.01 | F79: =+'Combined Rate'!H117 -> 0.0025 | G79: =+'Combined Rate'!I117 -> 0 | H79: =+'Combined Rate'!J117 -> 0 | I79: =+'Combined Rate'!K117 -> 0 | J79: =+'Combined Rate'!L117 -> 0 | K79: =+'Combined Rate'!M117 -> 0 | L79: =+'Combined Rate'!N117 -> 0 | ... U79: =+'Combined Rate'!W117 -> 0 | V79: =+#REF! -> #REF! | W79: =+#REF! -> #REF! | X79: =+#REF! -> #REF! | Y79: =+#REF! -> #REF! | Z79: =+#REF! -> #REF! | AA79: =+#REF! -> #REF! | AB79: =+#REF! -> #REF! | AC79: =+#REF! -> #REF! | ... AI79: =+#REF! -> #REF! | AJ79: =SUM(C79:AI79) -> #REF!
A80: 08003 | B80: Clawson | C80: =+'Combined Rate'!E118 -> 0.0485 | D80: 0.0175 | E80: =+'Combined Rate'!G118 -> 0.01 | F80: =+'Combined Rate'!H118 -> 0.0025 | G80: =+'Combined Rate'!I118 -> 0 | H80: =+'Combined Rate'!J118 -> 0 | I80: =+'Combined Rate'!K118 -> 0 | J80: =+'Combined Rate'!L118 -> 0 | K80: =+'Combined Rate'!M118 -> 0 | L80: =+'Combined Rate'!N118 -> 0 | ... U80: =+'Combined Rate'!W118 -> 0 | V80: =+#REF! -> #REF! | W80: =+#REF! -> #REF! | X80: =+#REF! -> #REF! | Y80: =+#REF! -> #REF! | Z80: =+#REF! -> #REF! | AA80: =+#REF! -> #REF! | AB80: =+#REF! -> #REF! | AC80: =+#REF! -> #REF! | ... AI80: =+#REF! -> #REF! | AJ80: =SUM(C80:AI80) -> #REF!
A81: 08004 | B81: Cleveland | C81: =+'Combined Rate'!E119 -> 0.0485 | D81: 0.0175 | E81: =+'Combined Rate'!G119 -> 0.01 | F81: =+'Combined Rate'!H119 -> 0.0025 | G81: =+'Combined Rate'!I119 -> 0 | H81: =+'Combined Rate'!J119 -> 0 | I81: =+'Combined Rate'!K119 -> 0 | J81: =+'Combined Rate'!L119 -> 0 | K81: =+'Combined Rate'!M119 -> 0 | L81: =+'Combined Rate'!N119 -> 0 | ... U81: =+'Combined Rate'!W119 -> 0 | V81: =+#REF! -> #REF! | W81: =+#REF! -> #REF! | X81: =+#REF! -> #REF! | Y81: =+#REF! -> #REF! | Z81: =+#REF! -> #REF! | AA81: =+#REF! -> #REF! | AB81: =+#REF! -> #REF! | AC81: =+#REF! -> #REF! | ... AI81: =+#REF! -> #REF! | AJ81: =SUM(C81:AI81) -> #REF!
A82: 08007 | B82: Elmo | C82: =+'Combined Rate'!E120 -> 0.0485 | D82: 0.0175 | E82: =+'Combined Rate'!G120 -> 0.01 | F82: =+'Combined Rate'!H120 -> 0.0025 | G82: =+'Combined Rate'!I120 -> 0 | H82: =+'Combined Rate'!J120 -> 0 | I82: =+'Combined Rate'!K120 -> 0 | J82: =+'Combined Rate'!L120 -> 0 | K82: =+'Combined Rate'!M120 -> 0 | L82: =+'Combined Rate'!N120 -> 0 | ... U82: =+'Combined Rate'!W120 -> 0 | V82: =+#REF! -> #REF! | W82: =+#REF! -> #REF! | X82: =+#REF! -> #REF! | Y82: =+#REF! -> #REF! | Z82: =+#REF! -> #REF! | AA82: =+#REF! -> #REF! | AB82: =+#REF! -> #REF! | AC82: =+#REF! -> #REF! | ... AI82: =+#REF! -> #REF! | AJ82: =SUM(C82:AI82) -> #REF!
A83: 08008 | B83: Emery City | C83: =+'Combined Rate'!E121 -> 0.0485 | D83: 0.0175 | E83: =+'Combined Rate'!G121 -> 0.01 | F83: =+'Combined Rate'!H121 -> 0.0025 | G83: =+'Combined Rate'!I121 -> 0 | H83: =+'Combined Rate'!J121 -> 0 | I83: =+'Combined Rate'!K121 -> 0 | J83: =+'Combined Rate'!L121 -> 0 | K83: =+'Combined Rate'!M121 -> 0 | L83: =+'Combined Rate'!N121 -> 0 | ... U83: =+'Combined Rate'!W121 -> 0 | V83: =+#REF! -> #REF! | W83: =+#REF! -> #REF! | X83: =+#REF! -> #REF! | Y83: =+#REF! -> #REF! | Z83: =+#REF! -> #REF! | AA83: =+#REF! -> #REF! | AB83: =+#REF! -> #REF! | AC83: =+#REF! -> #REF! | ... AI83: =+#REF! -> #REF! | AJ83: =SUM(C83:AI83) -> #REF!
A84: 08009 | B84: Ferron | C84: =+'Combined Rate'!E122 -> 0.0485 | D84: 0.0175 | E84: =+'Combined Rate'!G122 -> 0.01 | F84: =+'Combined Rate'!H122 -> 0.0025 | G84: =+'Combined Rate'!I122 -> 0 | H84: =+'Combined Rate'!J122 -> 0 | I84: =+'Combined Rate'!K122 -> 0 | J84: =+'Combined Rate'!L122 -> 0 | K84: =+'Combined Rate'!M122 -> 0 | L84: =+'Combined Rate'!N122 -> 0 | ... U84: =+'Combined Rate'!W122 -> 0 | V84: =+#REF! -> #REF! | W84: =+#REF! -> #REF! | X84: =+#REF! -> #REF! | Y84: =+#REF! -> #REF! | Z84: =+#REF! -> #REF! | AA84: =+#REF! -> #REF! | AB84: =+#REF! -> #REF! | AC84: =+#REF! -> #REF! | ... AI84: =+#REF! -> #REF! | AJ84: =SUM(C84:AI84) -> #REF!
A85: 08011 | B85: Green River | C85: =+'Combined Rate'!E123 -> 0.0485 | D85: 0.0175 | E85: =+'Combined Rate'!G123 -> 0.01 | F85: =+'Combined Rate'!H123 -> 0.0025 | G85: =+'Combined Rate'!I123 -> 0 | H85: =+'Combined Rate'!J123 -> 0 | I85: =+'Combined Rate'!K123 -> 0 | J85: =+'Combined Rate'!L123 -> 0 | K85: =+'Combined Rate'!M123 -> 0.003 | L85: =+'Combined Rate'!N123 -> 0 | ... U85: =+'Combined Rate'!W123 -> 0 | V85: =+#REF! -> #REF! | W85: =+#REF! -> #REF! | X85: =+#REF! -> #REF! | Y85: =+#REF! -> #REF! | Z85: =+#REF! -> #REF! | AA85: =+#REF! -> #REF! | AB85: =+#REF! -> #REF! | AC85: =+#REF! -> #REF! | ... AI85: =+#REF! -> #REF! | AJ85: =SUM(C85:AI85) -> #REF!
A86: 08012 | B86: Huntington | C86: =+'Combined Rate'!E124 -> 0.0485 | D86: 0.0175 | E86: =+'Combined Rate'!G124 -> 0.01 | F86: =+'Combined Rate'!H124 -> 0.0025 | G86: =+'Combined Rate'!I124 -> 0 | H86: =+'Combined Rate'!J124 -> 0 | I86: =+'Combined Rate'!K124 -> 0 | J86: =+'Combined Rate'!L124 -> 0 | K86: =+'Combined Rate'!M124 -> 0 | L86: =+'Combined Rate'!N124 -> 0 | ... U86: =+'Combined Rate'!W124 -> 0 | V86: =+#REF! -> #REF! | W86: =+#REF! -> #REF! | X86: =+#REF! -> #REF! | Y86: =+#REF! -> #REF! | Z86: =+#REF! -> #REF! | AA86: =+#REF! -> #REF! | AB86: =+#REF! -> #REF! | AC86: =+#REF! -> #REF! | ... AI86: =+#REF! -> #REF! | AJ86: =SUM(C86:AI86) -> #REF!
A87: 08016 | B87: Orangeville | C87: =+'Combined Rate'!E125 -> 0.0485 | D87: 0.0175 | E87: =+'Combined Rate'!G125 -> 0.01 | F87: =+'Combined Rate'!H125 -> 0.0025 | G87: =+'Combined Rate'!I125 -> 0 | H87: =+'Combined Rate'!J125 -> 0 | I87: =+'Combined Rate'!K125 -> 0 | J87: =+'Combined Rate'!L125 -> 0 | K87: =+'Combined Rate'!M125 -> 0 | L87: =+'Combined Rate'!N125 -> 0 | ... U87: =+'Combined Rate'!W125 -> 0 | V87: =+#REF! -> #REF! | W87: =+#REF! -> #REF! | X87: =+#REF! -> #REF! | Y87: =+#REF! -> #REF! | Z87: =+#REF! -> #REF! | AA87: =+#REF! -> #REF! | AB87: =+#REF! -> #REF! | AC87: =+#REF! -> #REF! | ... AI87: =+#REF! -> #REF! | AJ87: =SUM(C87:AI87) -> #REF!
A88: 09000 | B88: Garfield County | C88: =+'Combined Rate'!E129 -> 0.0485 | D88: 0.0175 | E88: =+'Combined Rate'!G129 -> 0.01 | F88: =+'Combined Rate'!H129 -> 0.0025 | G88: =+'Combined Rate'!I129 -> 0 | H88: =+'Combined Rate'!J129 -> 0 | I88: =+'Combined Rate'!K129 -> 0 | J88: =+'Combined Rate'!L129 -> 0 | K88: =+'Combined Rate'!M129 -> 0 | L88: =+'Combined Rate'!N129 -> 0 | ... U88: =+'Combined Rate'!W129 -> 0 | V88: =+#REF! -> #REF! | W88: =+#REF! -> #REF! | X88: =+#REF! -> #REF! | Y88: =+#REF! -> #REF! | Z88: =+#REF! -> #REF! | AA88: =+#REF! -> #REF! | AB88: =+#REF! -> #REF! | AC88: =+#REF! -> #REF! | ... AI88: =+#REF! -> #REF! | AJ88: =SUM(C88:AI88) -> #REF!
A89: 09001 | B89: Antimony | C89: =+'Combined Rate'!E130 -> 0.0485 | D89: 0.0175 | E89: =+'Combined Rate'!G130 -> 0.01 | F89: =+'Combined Rate'!H130 -> 0.0025 | G89: =+'Combined Rate'!I130 -> 0 | H89: =+'Combined Rate'!J130 -> 0 | I89: =+'Combined Rate'!K130 -> 0 | J89: =+'Combined Rate'!L130 -> 0 | K89: =+'Combined Rate'!M130 -> 0 | L89: =+'Combined Rate'!N130 -> 0 | ... U89: =+'Combined Rate'!W130 -> 0 | V89: =+#REF! -> #REF! | W89: =+#REF! -> #REF! | X89: =+#REF! -> #REF! | Y89: =+#REF! -> #REF! | Z89: =+#REF! -> #REF! | AA89: =+#REF! -> #REF! | AB89: =+#REF! -> #REF! | AC89: =+#REF! -> #REF! | ... AI89: =+#REF! -> #REF! | AJ89: =SUM(C89:AI89) -> #REF!
A90: 09002 | B90: Boulder | C90: =+'Combined Rate'!E131 -> 0.0485 | D90: 0.0175 | E90: =+'Combined Rate'!G131 -> 0.01 | F90: =+'Combined Rate'!H131 -> 0.0025 | G90: =+'Combined Rate'!I131 -> 0 | H90: =+'Combined Rate'!J131 -> 0 | I90: =+'Combined Rate'!K131 -> 0 | J90: =+'Combined Rate'!L131 -> 0 | K90: =+'Combined Rate'!M131 -> 0 | L90: =+'Combined Rate'!N131 -> 0 | ... U90: =+'Combined Rate'!W131 -> 0 | V90: =+#REF! -> #REF! | W90: =+#REF! -> #REF! | X90: =+#REF! -> #REF! | Y90: =+#REF! -> #REF! | Z90: =+#REF! -> #REF! | AA90: =+#REF! -> #REF! | AB90: =+#REF! -> #REF! | AC90: =+#REF! -> #REF! | ... AI90: =+#REF! -> #REF! | AJ90: =SUM(C90:AI90) -> #REF!
A91: 09003 | B91: Bryce Canyon | C91: =+'Combined Rate'!E132 -> 0.0485 | D91: 0.0175 | E91: =+'Combined Rate'!G132 -> 0.01 | F91: =+'Combined Rate'!H132 -> 0.0025 | G91: =+'Combined Rate'!I132 -> 0 | H91: =+'Combined Rate'!J132 -> 0 | I91: =+'Combined Rate'!K132 -> 0 | J91: =+'Combined Rate'!L132 -> 0 | K91: =+'Combined Rate'!M132 -> 0 | L91: =+'Combined Rate'!N132 -> 0 | ... U91: =+'Combined Rate'!W132 -> 0 | V91: =+#REF! -> #REF! | W91: =+#REF! -> #REF! | X91: =+#REF! -> #REF! | Y91: =+#REF! -> #REF! | Z91: =+#REF! -> #REF! | AA91: =+#REF! -> #REF! | AB91: =+#REF! -> #REF! | AC91: =+#REF! -> #REF! | ... AI91: =+#REF! -> #REF! | AJ91: =SUM(C91:AI91) -> #REF!
A92: 09004 | B92: Cannonville | C92: =+'Combined Rate'!E133 -> 0.0485 | D92: 0.0175 | E92: =+'Combined Rate'!G133 -> 0.01 | F92: =+'Combined Rate'!H133 -> 0.0025 | G92: =+'Combined Rate'!I133 -> 0 | H92: =+'Combined Rate'!J133 -> 0 | I92: =+'Combined Rate'!K133 -> 0 | J92: =+'Combined Rate'!L133 -> 0 | K92: =+'Combined Rate'!M133 -> 0 | L92: =+'Combined Rate'!N133 -> 0 | ... U92: =+'Combined Rate'!W133 -> 0 | V92: =+#REF! -> #REF! | W92: =+#REF! -> #REF! | X92: =+#REF! -> #REF! | Y92: =+#REF! -> #REF! | Z92: =+#REF! -> #REF! | AA92: =+#REF! -> #REF! | AB92: =+#REF! -> #REF! | AC92: =+#REF! -> #REF! | ... AI92: =+#REF! -> #REF! | AJ92: =SUM(C92:AI92) -> #REF!
A93: 09005 | B93: Escalante | C93: =+'Combined Rate'!E134 -> 0.0485 | D93: 0.0175 | E93: =+'Combined Rate'!G134 -> 0.01 | F93: =+'Combined Rate'!H134 -> 0.0025 | G93: =+'Combined Rate'!I134 -> 0 | H93: =+'Combined Rate'!J134 -> 0 | I93: =+'Combined Rate'!K134 -> 0 | J93: =+'Combined Rate'!L134 -> 0 | K93: =+'Combined Rate'!M134 -> 0 | L93: =+'Combined Rate'!N134 -> 0 | ... U93: =+'Combined Rate'!W134 -> 0 | V93: =+#REF! -> #REF! | W93: =+#REF! -> #REF! | X93: =+#REF! -> #REF! | Y93: =+#REF! -> #REF! | Z93: =+#REF! -> #REF! | AA93: =+#REF! -> #REF! | AB93: =+#REF! -> #REF! | AC93: =+#REF! -> #REF! | ... AI93: =+#REF! -> #REF! | AJ93: =SUM(C93:AI93) -> #REF!
A94: 09006 | B94: Hatch | C94: =+'Combined Rate'!E135 -> 0.0485 | D94: 0.0175 | E94: =+'Combined Rate'!G135 -> 0.01 | F94: =+'Combined Rate'!H135 -> 0.0025 | G94: =+'Combined Rate'!I135 -> 0 | H94: =+'Combined Rate'!J135 -> 0 | I94: =+'Combined Rate'!K135 -> 0 | J94: =+'Combined Rate'!L135 -> 0 | K94: =+'Combined Rate'!M135 -> 0 | L94: =+'Combined Rate'!N135 -> 0 | ... U94: =+'Combined Rate'!W135 -> 0 | V94: =+#REF! -> #REF! | W94: =+#REF! -> #REF! | X94: =+#REF! -> #REF! | Y94: =+#REF! -> #REF! | Z94: =+#REF! -> #REF! | AA94: =+#REF! -> #REF! | AB94: =+#REF! -> #REF! | AC94: =+#REF! -> #REF! | ... AI94: =+#REF! -> #REF! | AJ94: =SUM(C94:AI94) -> #REF!
A95: 09008 | B95: Henrieville | C95: =+'Combined Rate'!E136 -> 0.0485 | D95: 0.0175 | E95: =+'Combined Rate'!G136 -> 0.01 | F95: =+'Combined Rate'!H136 -> 0.0025 | G95: =+'Combined Rate'!I136 -> 0 | H95: =+'Combined Rate'!J136 -> 0 | I95: =+'Combined Rate'!K136 -> 0 | J95: =+'Combined Rate'!L136 -> 0 | K95: =+'Combined Rate'!M136 -> 0 | L95: =+'Combined Rate'!N136 -> 0 | ... U95: =+'Combined Rate'!W136 -> 0 | V95: =+#REF! -> #REF! | W95: =+#REF! -> #REF! | X95: =+#REF! -> #REF! | Y95: =+#REF! -> #REF! | Z95: =+#REF! -> #REF! | AA95: =+#REF! -> #REF! | AB95: =+#REF! -> #REF! | AC95: =+#REF! -> #REF! | ... AI95: =+#REF! -> #REF! | AJ95: =SUM(C95:AI95) -> #REF!
A96: 09011 | B96: Panguitch | C96: =+'Combined Rate'!E137 -> 0.0485 | D96: 0.0175 | E96: =+'Combined Rate'!G137 -> 0.01 | F96: =+'Combined Rate'!H137 -> 0.0025 | G96: =+'Combined Rate'!I137 -> 0 | H96: =+'Combined Rate'!J137 -> 0 | I96: =+'Combined Rate'!K137 -> 0 | J96: =+'Combined Rate'!L137 -> 0 | K96: =+'Combined Rate'!M137 -> 0 | L96: =+'Combined Rate'!N137 -> 0 | ... U96: =+'Combined Rate'!W137 -> 0 | V96: =+#REF! -> #REF! | W96: =+#REF! -> #REF! | X96: =+#REF! -> #REF! | Y96: =+#REF! -> #REF! | Z96: =+#REF! -> #REF! | AA96: =+#REF! -> #REF! | AB96: =+#REF! -> #REF! | AC96: =+#REF! -> #REF! | ... AI96: =+#REF! -> #REF! | AJ96: =SUM(C96:AI96) -> #REF!
A97: 09015 | B97: Tropic | C97: =+'Combined Rate'!E138 -> 0.0485 | D97: 0.0175 | E97: =+'Combined Rate'!G138 -> 0.01 | F97: =+'Combined Rate'!H138 -> 0.0025 | G97: =+'Combined Rate'!I138 -> 0 | H97: =+'Combined Rate'!J138 -> 0 | I97: =+'Combined Rate'!K138 -> 0 | J97: =+'Combined Rate'!L138 -> 0 | K97: =+'Combined Rate'!M138 -> 0 | L97: =+'Combined Rate'!N138 -> 0 | ... U97: =+'Combined Rate'!W138 -> 0 | V97: =+#REF! -> #REF! | W97: =+#REF! -> #REF! | X97: =+#REF! -> #REF! | Y97: =+#REF! -> #REF! | Z97: =+#REF! -> #REF! | AA97: =+#REF! -> #REF! | AB97: =+#REF! -> #REF! | AC97: =+#REF! -> #REF! | ... AI97: =+#REF! -> #REF! | AJ97: =SUM(C97:AI97) -> #REF!
A98: 10000 | B98: Grand County | C98: =+'Combined Rate'!E140 -> 0.0485 | D98: 0.0175 | E98: =+'Combined Rate'!G140 -> 0.01 | F98: =+'Combined Rate'!H140 -> 0.0025 | G98: =+'Combined Rate'!I140 -> 0 | H98: =+'Combined Rate'!J140 -> 0 | I98: =+'Combined Rate'!K140 -> 0 | J98: =+'Combined Rate'!L140 -> 0 | K98: =+'Combined Rate'!M140 -> 0 | L98: =+'Combined Rate'!N140 -> 0 | ... U98: =+'Combined Rate'!W140 -> 0 | V98: =+#REF! -> #REF! | W98: =+#REF! -> #REF! | X98: =+#REF! -> #REF! | Y98: =+#REF! -> #REF! | Z98: =+#REF! -> #REF! | AA98: =+#REF! -> #REF! | AB98: =+#REF! -> #REF! | AC98: =+#REF! -> #REF! | ... AI98: =+#REF! -> #REF! | AJ98: =SUM(C98:AI98) -> #REF!
A99: 10005 | B99: Castle Valley | C99: =+'Combined Rate'!E141 -> 0.0485 | D99: 0.0175 | E99: =+'Combined Rate'!G141 -> 0.01 | F99: =+'Combined Rate'!H141 -> 0.0025 | G99: =+'Combined Rate'!I141 -> 0 | H99: =+'Combined Rate'!J141 -> 0 | I99: =+'Combined Rate'!K141 -> 0 | J99: =+'Combined Rate'!L141 -> 0 | K99: =+'Combined Rate'!M141 -> 0 | L99: =+'Combined Rate'!N141 -> 0 | ... U99: =+'Combined Rate'!W141 -> 0 | V99: =+#REF! -> #REF! | W99: =+#REF! -> #REF! | X99: =+#REF! -> #REF! | Y99: =+#REF! -> #REF! | Z99: =+#REF! -> #REF! | AA99: =+#REF! -> #REF! | AB99: =+#REF! -> #REF! | AC99: =+#REF! -> #REF! | ... AI99: =+#REF! -> #REF! | AJ99: =SUM(C99:AI99) -> #REF!
A100: 10011 | B100: Moab | C100: =+'Combined Rate'!E142 -> 0.0485 | D100: 0.0175 | E100: =+'Combined Rate'!G142 -> 0.01 | F100: =+'Combined Rate'!H142 -> 0.0025 | G100: =+'Combined Rate'!I142 -> 0 | H100: =+'Combined Rate'!J142 -> 0 | I100: =+'Combined Rate'!K142 -> 0 | J100: =+'Combined Rate'!L142 -> 0 | K100: =+'Combined Rate'!M142 -> 0.003 | L100: =+'Combined Rate'!N142 -> 0 | ... U100: =+'Combined Rate'!W142 -> 0 | V100: =+#REF! -> #REF! | W100: =+#REF! -> #REF! | X100: =+#REF! -> #REF! | Y100: =+#REF! -> #REF! | Z100: =+#REF! -> #REF! | AA100: =+#REF! -> #REF! | AB100: =+#REF! -> #REF! | AC100: =+#REF! -> #REF! | ... AI100: =+#REF! -> #REF! | AJ100: =SUM(C100:AI100) -> #REF!
A101: 11000 | B101: Iron County | C101: =+'Combined Rate'!E144 -> 0.0485 | D101: 0.0175 | E101: =+'Combined Rate'!G144 -> 0.01 | F101: =+'Combined Rate'!H144 -> 0.0025 | G101: =+'Combined Rate'!I144 -> 0 | H101: =+'Combined Rate'!J144 -> 0 | I101: =+'Combined Rate'!K144 -> 0.003 | J101: =+'Combined Rate'!L144 -> 0.0025 | K101: =+'Combined Rate'!M144 -> 0 | L101: =+'Combined Rate'!N144 -> 0 | ... U101: =+'Combined Rate'!W144 -> 0 | V101: =+#REF! -> #REF! | W101: =+#REF! -> #REF! | X101: =+#REF! -> #REF! | Y101: =+#REF! -> #REF! | Z101: =+#REF! -> #REF! | AA101: =+#REF! -> #REF! | AB101: =+#REF! -> #REF! | AC101: =+#REF! -> #REF! | ... AI101: =+#REF! -> #REF! | AJ101: =SUM(C101:AI101) -> #REF!
A102: 11003 | B102: Cedar City | C102: =+'Combined Rate'!E145 -> 0.0485 | D102: 0.0175 | E102: =+'Combined Rate'!G145 -> 0.01 | F102: =+'Combined Rate'!H145 -> 0.0025 | G102: =+'Combined Rate'!I145 -> 0 | H102: =+'Combined Rate'!J145 -> 0 | I102: =+'Combined Rate'!K145 -> 0.003 | J102: =+'Combined Rate'!L145 -> 0.0025 | K102: =+'Combined Rate'!M145 -> 0 | L102: =+'Combined Rate'!N145 -> 0 | ... U102: =+'Combined Rate'!W145 -> 0 | V102: =+#REF! -> #REF! | W102: =+#REF! -> #REF! | X102: =+#REF! -> #REF! | Y102: =+#REF! -> #REF! | Z102: =+#REF! -> #REF! | AA102: =+#REF! -> #REF! | AB102: =+#REF! -> #REF! | AC102: =+#REF! -> #REF! | ... AI102: =+#REF! -> #REF! | AJ102: =SUM(C102:AI102) -> #REF!
A103: 11005 | B103: Enoch | C103: =+'Combined Rate'!E146 -> 0.0485 | D103: 0.0175 | E103: =+'Combined Rate'!G146 -> 0.01 | F103: =+'Combined Rate'!H146 -> 0.0025 | G103: =+'Combined Rate'!I146 -> 0 | H103: =+'Combined Rate'!J146 -> 0 | I103: =+'Combined Rate'!K146 -> 0.003 | J103: =+'Combined Rate'!L146 -> 0.0025 | K103: =+'Combined Rate'!M146 -> 0 | L103: =+'Combined Rate'!N146 -> 0 | ... U103: =+'Combined Rate'!W146 -> 0 | V103: =+#REF! -> #REF! | W103: =+#REF! -> #REF! | X103: =+#REF! -> #REF! | Y103: =+#REF! -> #REF! | Z103: =+#REF! -> #REF! | AA103: =+#REF! -> #REF! | AB103: =+#REF! -> #REF! | AC103: =+#REF! -> #REF! | ... AI103: =+#REF! -> #REF! | AJ103: =SUM(C103:AI103) -> #REF!
A104: 11012 | B104: Kanarraville | C104: =+'Combined Rate'!E147 -> 0.0485 | D104: 0.0175 | E104: =+'Combined Rate'!G147 -> 0.01 | F104: =+'Combined Rate'!H147 -> 0.0025 | G104: =+'Combined Rate'!I147 -> 0 | H104: =+'Combined Rate'!J147 -> 0 | I104: =+'Combined Rate'!K147 -> 0.003 | J104: =+'Combined Rate'!L147 -> 0.0025 | K104: =+'Combined Rate'!M147 -> 0 | L104: =+'Combined Rate'!N147 -> 0 | ... U104: =+'Combined Rate'!W147 -> 0 | V104: =+#REF! -> #REF! | W104: =+#REF! -> #REF! | X104: =+#REF! -> #REF! | Y104: =+#REF! -> #REF! | Z104: =+#REF! -> #REF! | AA104: =+#REF! -> #REF! | AB104: =+#REF! -> #REF! | AC104: =+#REF! -> #REF! | ... AI104: =+#REF! -> #REF! | AJ104: =SUM(C104:AI104) -> #REF!
A105: 11018 | B105: Paragonah | C105: =+'Combined Rate'!E148 -> 0.0485 | D105: 0.0175 | E105: =+'Combined Rate'!G148 -> 0.01 | F105: =+'Combined Rate'!H148 -> 0.0025 | G105: =+'Combined Rate'!I148 -> 0 | H105: =+'Combined Rate'!J148 -> 0 | I105: =+'Combined Rate'!K148 -> 0.003 | J105: =+'Combined Rate'!L148 -> 0.0025 | K105: =+'Combined Rate'!M148 -> 0 | L105: =+'Combined Rate'!N148 -> 0 | ... U105: =+'Combined Rate'!W148 -> 0 | V105: =+#REF! -> #REF! | W105: =+#REF! -> #REF! | X105: =+#REF! -> #REF! | Y105: =+#REF! -> #REF! | Z105: =+#REF! -> #REF! | AA105: =+#REF! -> #REF! | AB105: =+#REF! -> #REF! | AC105: =+#REF! -> #REF! | ... AI105: =+#REF! -> #REF! | AJ105: =SUM(C105:AI105) -> #REF!
A106: 11019 | B106: Parowan | C106: =+'Combined Rate'!E149 -> 0.0485 | D106: 0.0175 | E106: =+'Combined Rate'!G149 -> 0.01 | F106: =+'Combined Rate'!H149 -> 0.0025 | G106: =+'Combined Rate'!I149 -> 0 | H106: =+'Combined Rate'!J149 -> 0 | I106: =+'Combined Rate'!K149 -> 0.003 | J106: =+'Combined Rate'!L149 -> 0.0025 | K106: =+'Combined Rate'!M149 -> 0 | L106: =+'Combined Rate'!N149 -> 0 | ... U106: =+'Combined Rate'!W149 -> 0 | V106: =+#REF! -> #REF! | W106: =+#REF! -> #REF! | X106: =+#REF! -> #REF! | Y106: =+#REF! -> #REF! | Z106: =+#REF! -> #REF! | AA106: =+#REF! -> #REF! | AB106: =+#REF! -> #REF! | AC106: =+#REF! -> #REF! | ... AI106: =+#REF! -> #REF! | AJ106: =SUM(C106:AI106) -> #REF!
A107: 11028 | B107: Brian Head | C107: =+'Combined Rate'!E150 -> 0.0485 | D107: 0.0175 | E107: =+'Combined Rate'!G150 -> 0.01 | F107: =+'Combined Rate'!H150 -> 0.0025 | G107: =+'Combined Rate'!I150 -> 0 | H107: =+'Combined Rate'!J150 -> 0 | I107: =+'Combined Rate'!K150 -> 0.003 | J107: =+'Combined Rate'!L150 -> 0.0025 | K107: =+'Combined Rate'!M150 -> 0.003 | L107: =+'Combined Rate'!N150 -> 0 | ... U107: =+'Combined Rate'!W150 -> 0 | V107: =+#REF! -> #REF! | W107: =+#REF! -> #REF! | X107: =+#REF! -> #REF! | Y107: =+#REF! -> #REF! | Z107: =+#REF! -> #REF! | AA107: =+#REF! -> #REF! | AB107: =+#REF! -> #REF! | AC107: =+#REF! -> #REF! | ... AI107: =+#REF! -> #REF! | AJ107: =SUM(C107:AI107) -> #REF!
A108: 11501 | B108: Inland Port Iron Springs | C108: =+'Combined Rate'!E152 -> 0.0485 | D108: 0.0175 | E108: =+'Combined Rate'!G152 -> 0.01 | F108: =+'Combined Rate'!H152 -> 0.0025 | G108: =+'Combined Rate'!I152 -> 0 | H108: =+'Combined Rate'!J152 -> 0 | I108: =+'Combined Rate'!K152 -> 0.003 | J108: =+'Combined Rate'!L152 -> 0.0025 | K108: =+'Combined Rate'!M152 -> 0 | L108: =+'Combined Rate'!N152 -> 0 | ... U108: =+'Combined Rate'!W152 -> 0 | V108: =+#REF! -> #REF! | W108: =+#REF! -> #REF! | X108: =+#REF! -> #REF! | Y108: =+#REF! -> #REF! | Z108: =+#REF! -> #REF! | AA108: =+#REF! -> #REF! | AB108: =+#REF! -> #REF! | AC108: =+#REF! -> #REF! | ... AI108: =+#REF! -> #REF! | AJ108: =SUM(C108:AI108) -> #REF!
A109: 12000 | B109: Juab County | C109: =+'Combined Rate'!E157 -> 0.0485 | D109: 0.0175 | E109: =+'Combined Rate'!G157 -> 0.01 | F109: =+'Combined Rate'!H157 -> 0.0025 | G109: =+'Combined Rate'!I157 -> 0 | H109: =+'Combined Rate'!J157 -> 0 | I109: =+'Combined Rate'!K157 -> 0.003 | J109: =+'Combined Rate'!L157 -> 0.0025 | K109: =+'Combined Rate'!M157 -> 0 | L109: =+'Combined Rate'!N157 -> 0 | ... U109: =+'Combined Rate'!W157 -> 0 | V109: =+#REF! -> #REF! | W109: =+#REF! -> #REF! | X109: =+#REF! -> #REF! | Y109: =+#REF! -> #REF! | Z109: =+#REF! -> #REF! | AA109: =+#REF! -> #REF! | AB109: =+#REF! -> #REF! | AC109: =+#REF! -> #REF! | ... AI109: =+#REF! -> #REF! | AJ109: =SUM(C109:AI109) -> #REF!
A110: 12009 | B110: Eureka | C110: =+'Combined Rate'!E158 -> 0.0485 | D110: 0.0175 | E110: =+'Combined Rate'!G158 -> 0.01 | F110: =+'Combined Rate'!H158 -> 0.0025 | G110: =+'Combined Rate'!I158 -> 0 | H110: =+'Combined Rate'!J158 -> 0 | I110: =+'Combined Rate'!K158 -> 0.003 | J110: =+'Combined Rate'!L158 -> 0.0025 | K110: =+'Combined Rate'!M158 -> 0.003 | L110: =+'Combined Rate'!N158 -> 0 | ... U110: =+'Combined Rate'!W158 -> 0 | V110: =+#REF! -> #REF! | W110: =+#REF! -> #REF! | X110: =+#REF! -> #REF! | Y110: =+#REF! -> #REF! | Z110: =+#REF! -> #REF! | AA110: =+#REF! -> #REF! | AB110: =+#REF! -> #REF! | AC110: =+#REF! -> #REF! | ... AI110: =+#REF! -> #REF! | AJ110: =SUM(C110:AI110) -> #REF!
A111: 12019 | B111: Levan | C111: =+'Combined Rate'!E159 -> 0.0485 | D111: 0.0175 | E111: =+'Combined Rate'!G159 -> 0.01 | F111: =+'Combined Rate'!H159 -> 0.0025 | G111: =+'Combined Rate'!I159 -> 0 | H111: =+'Combined Rate'!J159 -> 0 | I111: =+'Combined Rate'!K159 -> 0.003 | J111: =+'Combined Rate'!L159 -> 0.0025 | K111: =+'Combined Rate'!M159 -> 0 | L111: =+'Combined Rate'!N159 -> 0 | ... U111: =+'Combined Rate'!W159 -> 0 | V111: =+#REF! -> #REF! | W111: =+#REF! -> #REF! | X111: =+#REF! -> #REF! | Y111: =+#REF! -> #REF! | Z111: =+#REF! -> #REF! | AA111: =+#REF! -> #REF! | AB111: =+#REF! -> #REF! | AC111: =+#REF! -> #REF! | ... AI111: =+#REF! -> #REF! | AJ111: =SUM(C111:AI111) -> #REF!
A112: 12024 | B112: Mona | C112: =+'Combined Rate'!E160 -> 0.0485 | D112: 0.0175 | E112: =+'Combined Rate'!G160 -> 0.01 | F112: =+'Combined Rate'!H160 -> 0.0025 | G112: =+'Combined Rate'!I160 -> 0 | H112: =+'Combined Rate'!J160 -> 0 | I112: =+'Combined Rate'!K160 -> 0.003 | J112: =+'Combined Rate'!L160 -> 0.0025 | K112: =+'Combined Rate'!M160 -> 0.003 | L112: =+'Combined Rate'!N160 -> 0 | ... U112: =+'Combined Rate'!W160 -> 0 | V112: =+#REF! -> #REF! | W112: =+#REF! -> #REF! | X112: =+#REF! -> #REF! | Y112: =+#REF! -> #REF! | Z112: =+#REF! -> #REF! | AA112: =+#REF! -> #REF! | AB112: =+#REF! -> #REF! | AC112: =+#REF! -> #REF! | ... AI112: =+#REF! -> #REF! | AJ112: =SUM(C112:AI112) -> #REF!
A113: 12026 | B113: Nephi | C113: =+'Combined Rate'!E161 -> 0.0485 | D113: 0.0175 | E113: =+'Combined Rate'!G161 -> 0.01 | F113: =+'Combined Rate'!H161 -> 0.0025 | G113: =+'Combined Rate'!I161 -> 0 | H113: =+'Combined Rate'!J161 -> 0 | I113: =+'Combined Rate'!K161 -> 0.003 | J113: =+'Combined Rate'!L161 -> 0.0025 | K113: =+'Combined Rate'!M161 -> 0.003 | L113: =+'Combined Rate'!N161 -> 0 | ... U113: =+'Combined Rate'!W161 -> 0 | V113: =+#REF! -> #REF! | W113: =+#REF! -> #REF! | X113: =+#REF! -> #REF! | Y113: =+#REF! -> #REF! | Z113: =+#REF! -> #REF! | AA113: =+#REF! -> #REF! | AB113: =+#REF! -> #REF! | AC113: =+#REF! -> #REF! | ... AI113: =+#REF! -> #REF! | AJ113: =SUM(C113:AI113) -> #REF!
A114: 12030 | B114: Rocky Ridge Town | C114: =+'Combined Rate'!E162 -> 0.0485 | D114: 0.0175 | E114: =+'Combined Rate'!G162 -> 0.01 | F114: =+'Combined Rate'!H162 -> 0.0025 | G114: =+'Combined Rate'!I162 -> 0 | H114: =+'Combined Rate'!J162 -> 0 | I114: =+'Combined Rate'!K162 -> 0.003 | J114: =+'Combined Rate'!L162 -> 0.0025 | K114: =+'Combined Rate'!M162 -> 0 | L114: =+'Combined Rate'!N162 -> 0 | ... U114: =+'Combined Rate'!W162 -> 0 | V114: =+#REF! -> #REF! | W114: =+#REF! -> #REF! | X114: =+#REF! -> #REF! | Y114: =+#REF! -> #REF! | Z114: =+#REF! -> #REF! | AA114: =+#REF! -> #REF! | AB114: =+#REF! -> #REF! | AC114: =+#REF! -> #REF! | ... AI114: =+#REF! -> #REF! | AJ114: =SUM(C114:AI114) -> #REF!
A115: 12050 | B115: Santaquin South | C115: =+'Combined Rate'!E163 -> 0.0485 | D115: 0.0175 | E115: =+'Combined Rate'!G163 -> 0.01 | F115: =+'Combined Rate'!H163 -> 0.0025 | G115: =+'Combined Rate'!I163 -> 0 | H115: =+'Combined Rate'!J163 -> 0 | I115: =+'Combined Rate'!K163 -> 0.003 | J115: =+'Combined Rate'!L163 -> 0.0025 | K115: =+'Combined Rate'!M163 -> 0 | L115: =+'Combined Rate'!N163 -> 0 | ... U115: =+'Combined Rate'!W163 -> 0 | V115: =+#REF! -> #REF! | W115: =+#REF! -> #REF! | X115: =+#REF! -> #REF! | Y115: =+#REF! -> #REF! | Z115: =+#REF! -> #REF! | AA115: =+#REF! -> #REF! | AB115: =+#REF! -> #REF! | AC115: =+#REF! -> #REF! | ... AI115: =+#REF! -> #REF! | AJ115: =SUM(C115:AI115) -> #REF!
A116: 13000 | B116: Kane County | C116: =+'Combined Rate'!E167 -> 0.0485 | D116: 0.0175 | E116: =+'Combined Rate'!G167 -> 0.01 | F116: =+'Combined Rate'!H167 -> 0.0025 | G116: =+'Combined Rate'!I167 -> 0 | H116: =+'Combined Rate'!J167 -> 0 | I116: =+'Combined Rate'!K167 -> 0 | J116: =+'Combined Rate'!L167 -> 0 | K116: =+'Combined Rate'!M167 -> 0 | L116: =+'Combined Rate'!N167 -> 0 | ... U116: =+'Combined Rate'!W167 -> 0 | V116: =+#REF! -> #REF! | W116: =+#REF! -> #REF! | X116: =+#REF! -> #REF! | Y116: =+#REF! -> #REF! | Z116: =+#REF! -> #REF! | AA116: =+#REF! -> #REF! | AB116: =+#REF! -> #REF! | AC116: =+#REF! -> #REF! | ... AI116: =+#REF! -> #REF! | AJ116: =SUM(C116:AI116) -> #REF!
A117: 13001 | B117: Alton | C117: =+'Combined Rate'!E168 -> 0.0485 | D117: 0.0175 | E117: =+'Combined Rate'!G168 -> 0.01 | F117: =+'Combined Rate'!H168 -> 0.0025 | G117: =+'Combined Rate'!I168 -> 0 | H117: =+'Combined Rate'!J168 -> 0 | I117: =+'Combined Rate'!K168 -> 0 | J117: =+'Combined Rate'!L168 -> 0 | K117: =+'Combined Rate'!M168 -> 0 | L117: =+'Combined Rate'!N168 -> 0 | ... U117: =+'Combined Rate'!W168 -> 0 | V117: =+#REF! -> #REF! | W117: =+#REF! -> #REF! | X117: =+#REF! -> #REF! | Y117: =+#REF! -> #REF! | Z117: =+#REF! -> #REF! | AA117: =+#REF! -> #REF! | AB117: =+#REF! -> #REF! | AC117: =+#REF! -> #REF! | ... AI117: =+#REF! -> #REF! | AJ117: =SUM(C117:AI117) -> #REF!
...
