Workbook

Sheet Combined Rate
A1: PART 1 OF 2
E2: UTAH CODE TITLE 59, CHAPTER 12 - SALES & USE TAX ACT
E3: COMBINED SALES AND USE TAX RATES
E4: Tax Rates Subject to Streamline Sales Tax Rules
E5: OTHER TAXES APPLY TO CERTAIN TRANSACTIONS
E6: Rates In effect as of October 1, 2026
E7: Please see instructions below
C9: Cnty/ | D9: Code
C10: City | D10: for | E10: Common Rates | I10: Transit and Highways | R10: Hosp | S10: Arts & Zoo | T10: City/Town Opt. | V10: Impacted Comm. | Y10: Emergency | Z10: Combined
A11: Location | C11: Code | D11: P.S.D. | E11: ST* | G11: LS | H11: CO | I11: MT | J11: MA | K11: MF | L11: CT | M11: HT | N11: HH | O11: AT | P11: CP | Q11: SM | R11: RH | S11: CZ | T11: TO | U11: TN | V11: RR | W11: CF | X11: CR | Y11: FD | Z11: Sales Rate
A12: INSTRUCTIONS:
A13: The combined sales rate for the various localities in this section applies to all taxable sales in the state. Other taxes and fees, such as transient room, short-term vehicle leasing, restaurant, telecommunications and municipal energy are in addition to the combined rate. Please see the following section for these rates. Refer to Publication 25 for more information on the taxability of certain transactions.
A14: These rate charts should not be used for sourcing sales from out-of-state sellers to locations in Utah. Out-of-state sellers should source their sales based on the ZIP +4 of the customer's address. For more information, see https://tax.utah.gov/sales/non-nexus
A15: * The tax on food and food ingredients is 3.0% statewide. This includes the state rate of 1.75%, local option rate of 1.0% and county option rate of 0.25%.
A16: For sales of residential energy, the combined rate is reduced by 2.85%.
A18: Beaver County | C18: 01-000 | D18: 01-000 | E18: 0.0485 | F18: * | G18: 0.01 | H18: 0.0025 | O18: 0.0025 | Z18: 0.0635
A19: Beaver City | C19: 01-002 | D19: 01-002 | E19: 0.0485 | F19: * | G19: 0.01 | H19: 0.0025 | O19: 0.0025 | R19: 0.01 | Z19: 0.0735
A20: Milford | C20: 01-008 | D20: 01-000 | E20: 0.0485 | F20: * | G20: 0.01 | H20: 0.0025 | O20: 0.0025 | Z20: 0.0635
A21: Minersville | C21: 01-009 | D21: 01-000 | E21: 0.0485 | F21: * | G21: 0.01 | H21: 0.0025 | O21: 0.0025 | Z21: 0.0635
A22: UIPA Beaver County | B22: (a) | C22: 01-500 | E22: 0.0485 | F22: * | G22: 0.01 | H22: 0.0025 | O22: 0.0025 | Z22: 0.0635
A23: UIPA Beaver City | B23: (a) | C23: 01-501 | E23: 0.0485 | F23: * | G23: 0.01 | H23: 0.0025 | O23: 0.0025 | R23: 0.01 | Z23: 0.0735
A24: UIPA Milford | B24: (a) | C24: 01-502 | E24: 0.0485 | F24: * | G24: 0.01 | H24: 0.0025 | O24: 0.0025 | Z24: 0.0635
A26: Box Elder County | C26: 02-000 | D26: 02-000 | E26: 0.0485 | F26: * | G26: 0.01 | H26: 0.0025 | K26: 0.003 | O26: 0.0025 | Z26: 0.0665
A27: Bear River | C27: 02-004 | D27: 02-000 | E27: 0.0485 | F27: * | G27: 0.01 | H27: 0.0025 | K27: 0.003 | O27: 0.0025 | Z27: 0.0665
A28: Brigham | C28: 02-017 | D28: 02-017 | E28: 0.0485 | F28: * | G28: 0.01 | H28: 0.0025 | I28: 0.003 | K28: 0.003 | O28: 0.0025 | Z28: 0.0695
A29: Corinne | C29: 02-025 | D29: 02-000 | E29: 0.0485 | F29: * | G29: 0.01 | H29: 0.0025 | K29: 0.003 | O29: 0.0025 | Z29: 0.0665
A30: Deweyville | C30: 02-032 | D30: 02-000 | E30: 0.0485 | F30: * | G30: 0.01 | H30: 0.0025 | K30: 0.003 | O30: 0.0025 | Z30: 0.0665
A31: Elwood | C31: 02-035 | D31: 02-000 | E31: 0.0485 | F31: * | G31: 0.01 | H31: 0.0025 | K31: 0.003 | O31: 0.0025 | Z31: 0.0665
A32: Fielding | C32: 02-041 | D32: 02-000 | E32: 0.0485 | F32: * | G32: 0.01 | H32: 0.0025 | K32: 0.003 | O32: 0.0025 | Z32: 0.0665
A33: Garland | C33: 02-044 | D33: 02-000 | E33: 0.0485 | F33: * | G33: 0.01 | H33: 0.0025 | K33: 0.003 | O33: 0.0025 | Z33: 0.0665
A34: Honeyville | C34: 02-054 | D34: 02-000 | E34: 0.0485 | F34: * | G34: 0.01 | H34: 0.0025 | K34: 0.003 | O34: 0.0025 | Z34: 0.0665
A35: Howell | C35: 02-057 | D35: 02-000 | E35: 0.0485 | F35: * | G35: 0.01 | H35: 0.0025 | K35: 0.003 | O35: 0.0025 | Z35: 0.0665
A36: Mantua | C36: 02-069 | D36: 02-069 | E36: 0.0485 | F36: * | G36: 0.01 | H36: 0.0025 | K36: 0.003 | M36: 0.003 | O36: 0.0025 | Z36: 0.0695
A37: Perry | C37: 02-086 | D37: 02-086 | E37: 0.0485 | F37: * | G37: 0.01 | H37: 0.0025 | K37: 0.003 | M37: 0.003 | O37: 0.0025 | Z37: 0.0695
A38: Plymouth | C38: 02-090 | D38: 02-000 | E38: 0.0485 | F38: * | G38: 0.01 | H38: 0.0025 | K38: 0.003 | O38: 0.0025 | Z38: 0.0665
A39: Portage | C39: 02-092 | D39: 02-000 | E39: 0.0485 | F39: * | G39: 0.01 | H39: 0.0025 | K39: 0.003 | O39: 0.0025 | Z39: 0.0665
A40: Snowville | C40: 02-100 | D40: 02-100 | E40: 0.0485 | F40: * | G40: 0.01 | H40: 0.0025 | K40: 0.003 | O40: 0.0025 | T40: 0.01 | Z40: 0.0765
A41: Tremonton | C41: 02-113 | D41: 02-000 | E41: 0.0485 | F41: * | G41: 0.01 | H41: 0.0025 | K41: 0.003 | O41: 0.0025 | Z41: 0.0665
A42: Willard | C42: 02-120 | D42: 02-120 | E42: 0.0485 | F42: * | G42: 0.01 | H42: 0.0025 | K42: 0.003 | M42: 0.003 | O42: 0.0025 | Z42: 0.0695
A43: MIDA Brigham City | B43: (a) | C43: 02-301 | D43: 0 | E43: 0.0485 | F43: * | G43: 0.01 | H43: 0.0025 | I43: 0.003 | K43: 0.003 | O43: 0.0025 | Z43: 0.0695
...

Sheet P.O.D. Worksheet
B1: Cnty/ | C1: Code
B2: City | C2: for | D2: Combined
A3: Location | B3: Code | C3: P.O.D. | D3: Sales Rate | E3: County Rate | F3: Lookup Area | J3: County Rate
A4: =+'Combined Rate'!A18 -> Beaver County | B4: =+'Combined Rate'!C18 -> 01-000 | C4: =IF(D4=J4,LEFT(B4,3)&"000",B4) -> 01-000 | D4: =+'Combined Rate'!Z18 -> 0.0635 | E4: =IF(RIGHT(B4,3)="000",D4,0) -> 0.0635 | F4: =LEFT(B4,2) -> 01 | G4: =IF(E4<>0,LEFT(B4,2),"") -> 01 | H4: =IF(E4<>0,A4,"") -> Beaver County | I4: =IF(E4<>0,E4,"") -> 0.0635 | J4: =VLOOKUP(F4,$G$4:$I$342,3,FALSE) -> 0.0635
A5: =+'Combined Rate'!A19 -> Beaver City | B5: =+'Combined Rate'!C19 -> 01-002 | C5: =IF(D5=J5,LEFT(B5,3)&"000",B5) -> 01-002 | D5: =+'Combined Rate'!Z19 -> 0.0735 | E5: =IF(RIGHT(B5,3)="000",D5,0) -> 0 | F5: =LEFT(B5,2) -> 01 | G5: =IF(E5<>0,LEFT(B5,2),"") | H5: =IF(E5<>0,A5,"") | I5: =IF(E5<>0,E5,"") | J5: =VLOOKUP(F5,$G$4:$I$342,3,FALSE) -> 0.0635
A6: =+'Combined Rate'!A20 -> Milford | B6: =+'Combined Rate'!C20 -> 01-008 | C6: =IF(D6=J6,LEFT(B6,3)&"000",B6) -> 01-000 | D6: =+'Combined Rate'!Z20 -> 0.0635 | E6: =IF(RIGHT(B6,3)="000",D6,0) -> 0 | F6: =LEFT(B6,2) -> 01 | G6: =IF(E6<>0,LEFT(B6,2),"") | H6: =IF(E6<>0,A6,"") | I6: =IF(E6<>0,E6,"") | J6: =VLOOKUP(F6,$G$4:$I$342,3,FALSE) -> 0.0635
A7: =+'Combined Rate'!A21 -> Minersville | B7: =+'Combined Rate'!C21 -> 01-009 | C7: =IF(D7=J7,LEFT(B7,3)&"000",B7) -> 01-000 | D7: =+'Combined Rate'!Z21 -> 0.0635 | E7: =IF(RIGHT(B7,3)="000",D7,0) -> 0 | F7: =LEFT(B7,2) -> 01 | G7: =IF(E7<>0,LEFT(B7,2),"") | H7: =IF(E7<>0,A7,"") | I7: =IF(E7<>0,E7,"") | J7: =VLOOKUP(F7,$G$4:$I$342,3,FALSE) -> 0.0635
A9: =+'Combined Rate'!A26 -> Box Elder County | B9: =+'Combined Rate'!C26 -> 02-000 | C9: =IF(D9=J9,LEFT(B9,3)&"000",B9) -> 02-000 | D9: =+'Combined Rate'!Z26 -> 0.0665 | E9: =IF(RIGHT(B9,3)="000",D9,0) -> 0.0665 | F9: =LEFT(B9,2) -> 02 | G9: =IF(E9<>0,LEFT(B9,2),"") -> 02 | H9: =IF(E9<>0,A9,"") -> Box Elder County | I9: =IF(E9<>0,E9,"") -> 0.0665 | J9: =VLOOKUP(F9,$G$4:$I$342,3,FALSE) -> 0.0665
A10: =+'Combined Rate'!A27 -> Bear River | B10: =+'Combined Rate'!C27 -> 02-004 | C10: =IF(D10=J10,LEFT(B10,3)&"000",B10) -> 02-000 | D10: =+'Combined Rate'!Z27 -> 0.0665 | E10: =IF(RIGHT(B10,3)="000",D10,0) -> 0 | F10: =LEFT(B10,2) -> 02 | G10: =IF(E10<>0,LEFT(B10,2),"") | H10: =IF(E10<>0,A10,"") | I10: =IF(E10<>0,E10,"") | J10: =VLOOKUP(F10,$G$4:$I$342,3,FALSE) -> 0.0665
A11: =+'Combined Rate'!A28 -> Brigham | B11: =+'Combined Rate'!C28 -> 02-017 | C11: =IF(D11=J11,LEFT(B11,3)&"000",B11) -> 02-017 | D11: =+'Combined Rate'!Z28 -> 0.0695 | E11: =IF(RIGHT(B11,3)="000",D11,0) -> 0 | F11: =LEFT(B11,2) -> 02 | G11: =IF(E11<>0,LEFT(B11,2),"") | H11: =IF(E11<>0,A11,"") | I11: =IF(E11<>0,E11,"") | J11: =VLOOKUP(F11,$G$4:$I$342,3,FALSE) -> 0.0665
A12: =+'Combined Rate'!A29 -> Corinne | B12: =+'Combined Rate'!C29 -> 02-025 | C12: =IF(D12=J12,LEFT(B12,3)&"000",B12) -> 02-000 | D12: =+'Combined Rate'!Z29 -> 0.0665 | E12: =IF(RIGHT(B12,3)="000",D12,0) -> 0 | F12: =LEFT(B12,2) -> 02 | G12: =IF(E12<>0,LEFT(B12,2),"") | H12: =IF(E12<>0,A12,"") | I12: =IF(E12<>0,E12,"") | J12: =VLOOKUP(F12,$G$4:$I$342,3,FALSE) -> 0.0665
A13: =+'Combined Rate'!A30 -> Deweyville | B13: =+'Combined Rate'!C30 -> 02-032 | C13: =IF(D13=J13,LEFT(B13,3)&"000",B13) -> 02-000 | D13: =+'Combined Rate'!Z30 -> 0.0665 | E13: =IF(RIGHT(B13,3)="000",D13,0) -> 0 | F13: =LEFT(B13,2) -> 02 | G13: =IF(E13<>0,LEFT(B13,2),"") | H13: =IF(E13<>0,A13,"") | I13: =IF(E13<>0,E13,"") | J13: =VLOOKUP(F13,$G$4:$I$342,3,FALSE) -> 0.0665
A14: =+'Combined Rate'!A31 -> Elwood | B14: =+'Combined Rate'!C31 -> 02-035 | C14: =IF(D14=J14,LEFT(B14,3)&"000",B14) -> 02-000 | D14: =+'Combined Rate'!Z31 -> 0.0665 | E14: =IF(RIGHT(B14,3)="000",D14,0) -> 0 | F14: =LEFT(B14,2) -> 02 | G14: =IF(E14<>0,LEFT(B14,2),"") | H14: =IF(E14<>0,A14,"") | I14: =IF(E14<>0,E14,"") | J14: =VLOOKUP(F14,$G$4:$I$342,3,FALSE) -> 0.0665
A15: =+'Combined Rate'!A32 -> Fielding | B15: =+'Combined Rate'!C32 -> 02-041 | C15: =IF(D15=J15,LEFT(B15,3)&"000",B15) -> 02-000 | D15: =+'Combined Rate'!Z32 -> 0.0665 | E15: =IF(RIGHT(B15,3)="000",D15,0) -> 0 | F15: =LEFT(B15,2) -> 02 | G15: =IF(E15<>0,LEFT(B15,2),"") | H15: =IF(E15<>0,A15,"") | I15: =IF(E15<>0,E15,"") | J15: =VLOOKUP(F15,$G$4:$I$342,3,FALSE) -> 0.0665
A16: =+'Combined Rate'!A33 -> Garland | B16: =+'Combined Rate'!C33 -> 02-044 | C16: =IF(D16=J16,LEFT(B16,3)&"000",B16) -> 02-000 | D16: =+'Combined Rate'!Z33 -> 0.0665 | E16: =IF(RIGHT(B16,3)="000",D16,0) -> 0 | F16: =LEFT(B16,2) -> 02 | G16: =IF(E16<>0,LEFT(B16,2),"") | H16: =IF(E16<>0,A16,"") | I16: =IF(E16<>0,E16,"") | J16: =VLOOKUP(F16,$G$4:$I$342,3,FALSE) -> 0.0665
A17: =+'Combined Rate'!A34 -> Honeyville | B17: =+'Combined Rate'!C34 -> 02-054 | C17: =IF(D17=J17,LEFT(B17,3)&"000",B17) -> 02-000 | D17: =+'Combined Rate'!Z34 -> 0.0665 | E17: =IF(RIGHT(B17,3)="000",D17,0) -> 0 | F17: =LEFT(B17,2) -> 02 | G17: =IF(E17<>0,LEFT(B17,2),"") | H17: =IF(E17<>0,A17,"") | I17: =IF(E17<>0,E17,"") | J17: =VLOOKUP(F17,$G$4:$I$342,3,FALSE) -> 0.0665
A18: =+'Combined Rate'!A35 -> Howell | B18: =+'Combined Rate'!C35 -> 02-057 | C18: =IF(D18=J18,LEFT(B18,3)&"000",B18) -> 02-000 | D18: =+'Combined Rate'!Z35 -> 0.0665 | E18: =IF(RIGHT(B18,3)="000",D18,0) -> 0 | F18: =LEFT(B18,2) -> 02 | G18: =IF(E18<>0,LEFT(B18,2),"") | H18: =IF(E18<>0,A18,"") | I18: =IF(E18<>0,E18,"") | J18: =VLOOKUP(F18,$G$4:$I$342,3,FALSE) -> 0.0665
A19: =+'Combined Rate'!A36 -> Mantua | B19: =+'Combined Rate'!C36 -> 02-069 | C19: =IF(D19=J19,LEFT(B19,3)&"000",B19) -> 02-069 | D19: =+'Combined Rate'!Z36 -> 0.0695 | E19: =IF(RIGHT(B19,3)="000",D19,0) -> 0 | F19: =LEFT(B19,2) -> 02 | G19: =IF(E19<>0,LEFT(B19,2),"") | H19: =IF(E19<>0,A19,"") | I19: =IF(E19<>0,E19,"") | J19: =VLOOKUP(F19,$G$4:$I$342,3,FALSE) -> 0.0665
A20: =+'Combined Rate'!A37 -> Perry | B20: =+'Combined Rate'!C37 -> 02-086 | C20: =IF(D20=J20,LEFT(B20,3)&"000",B20) -> 02-086 | D20: =+'Combined Rate'!Z37 -> 0.0695 | E20: =IF(RIGHT(B20,3)="000",D20,0) -> 0 | F20: =LEFT(B20,2) -> 02 | G20: =IF(E20<>0,LEFT(B20,2),"") | H20: =IF(E20<>0,A20,"") | I20: =IF(E20<>0,E20,"") | J20: =VLOOKUP(F20,$G$4:$I$342,3,FALSE) -> 0.0665
... A25: =+'Combined Rate'!A42 -> Willard | B25: =+'Combined Rate'!C42 -> 02-120 | C25: =IF(D25=J25,LEFT(B25,3)&"000",B25) -> 02-120 | D25: =+'Combined Rate'!Z42 -> 0.0695 | E25: =IF(RIGHT(B25,3)="000",D25,0) -> 0 | F25: =LEFT(B25,2) -> 02 | G25: =IF(E25<>0,LEFT(B25,2),"") | H25: =IF(E25<>0,A25,"") | I25: =IF(E25<>0,E25,"") | J25: =VLOOKUP(F25,$G$4:$I$342,3,FALSE) -> 0.0665
A27: =+'Combined Rate'!A50 -> Cache County | B27: =+'Combined Rate'!C50 -> 03-000 | C27: =IF(D27=J27,LEFT(B27,3)&"000",B27) -> 03-000 | D27: =+'Combined Rate'!Z50 -> 0.07 | E27: =IF(RIGHT(B27,3)="000",D27,0) -> 0.07 | F27: =LEFT(B27,2) -> 03 | G27: =IF(E27<>0,LEFT(B27,2),"") -> 03 | H27: =IF(E27<>0,A27,"") -> Cache County | I27: =IF(E27<>0,E27,"") -> 0.07 | J27: =VLOOKUP(F27,$G$4:$I$342,3,FALSE) -> 0.07
A28: =+'Combined Rate'!A51 -> Amalga | B28: =+'Combined Rate'!C51 -> 03-001 | C28: =IF(D28=J28,LEFT(B28,3)&"000",B28) -> 03-000 | D28: =+'Combined Rate'!Z51 -> 0.07 | E28: =IF(RIGHT(B28,3)="000",D28,0) -> 0 | F28: =LEFT(B28,2) -> 03 | G28: =IF(E28<>0,LEFT(B28,2),"") | H28: =IF(E28<>0,A28,"") | I28: =IF(E28<>0,E28,"") | J28: =VLOOKUP(F28,$G$4:$I$342,3,FALSE) -> 0.07
A29: =+'Combined Rate'!A52 -> Clarkston | B29: =+'Combined Rate'!C52 -> 03-014 | C29: =IF(D29=J29,LEFT(B29,3)&"000",B29) -> 03-000 | D29: =+'Combined Rate'!Z52 -> 0.07 | E29: =IF(RIGHT(B29,3)="000",D29,0) -> 0 | F29: =LEFT(B29,2) -> 03 | G29: =IF(E29<>0,LEFT(B29,2),"") | H29: =IF(E29<>0,A29,"") | I29: =IF(E29<>0,E29,"") | J29: =VLOOKUP(F29,$G$4:$I$342,3,FALSE) -> 0.07
A30: =+'Combined Rate'!A53 -> Cornish | B30: =+'Combined Rate'!C53 -> 03-017 | C30: =IF(D30=J30,LEFT(B30,3)&"000",B30) -> 03-000 | D30: =+'Combined Rate'!Z53 -> 0.07 | E30: =IF(RIGHT(B30,3)="000",D30,0) -> 0 | F30: =LEFT(B30,2) -> 03 | G30: =IF(E30<>0,LEFT(B30,2),"") | H30: =IF(E30<>0,A30,"") | I30: =IF(E30<>0,E30,"") | J30: =VLOOKUP(F30,$G$4:$I$342,3,FALSE) -> 0.07
A31: =+'Combined Rate'!A54 -> Hyde Park | B31: =+'Combined Rate'!C54 -> 03-032 | C31: =IF(D31=J31,LEFT(B31,3)&"000",B31) -> 03-032 | D31: =+'Combined Rate'!Z54 -> 0.0725 | E31: =IF(RIGHT(B31,3)="000",D31,0) -> 0 | F31: =LEFT(B31,2) -> 03 | G31: =IF(E31<>0,LEFT(B31,2),"") | H31: =IF(E31<>0,A31,"") | I31: =IF(E31<>0,E31,"") | J31: =VLOOKUP(F31,$G$4:$I$342,3,FALSE) -> 0.07
A32: =+'Combined Rate'!A55 -> Hyrum | B32: =+'Combined Rate'!C55 -> 03-033 | C32: =IF(D32=J32,LEFT(B32,3)&"000",B32) -> 03-033 | D32: =+'Combined Rate'!Z55 -> 0.073 | E32: =IF(RIGHT(B32,3)="000",D32,0) -> 0 | F32: =LEFT(B32,2) -> 03 | G32: =IF(E32<>0,LEFT(B32,2),"") | H32: =IF(E32<>0,A32,"") | I32: =IF(E32<>0,E32,"") | J32: =VLOOKUP(F32,$G$4:$I$342,3,FALSE) -> 0.07
A33: =+'Combined Rate'!A56 -> Lewiston | B33: =+'Combined Rate'!C56 -> 03-036 | C33: =IF(D33=J33,LEFT(B33,3)&"000",B33) -> 03-036 | D33: =+'Combined Rate'!Z56 -> 0.0725 | E33: =IF(RIGHT(B33,3)="000",D33,0) -> 0 | F33: =LEFT(B33,2) -> 03 | G33: =IF(E33<>0,LEFT(B33,2),"") | H33: =IF(E33<>0,A33,"") | I33: =IF(E33<>0,E33,"") | J33: =VLOOKUP(F33,$G$4:$I$342,3,FALSE) -> 0.07
A34: =+'Combined Rate'!A57 -> Logan | B34: =+'Combined Rate'!C57 -> 03-038 | C34: =IF(D34=J34,LEFT(B34,3)&"000",B34) -> 03-038 | D34: =+'Combined Rate'!Z57 -> 0.073 | E34: =IF(RIGHT(B34,3)="000",D34,0) -> 0 | F34: =LEFT(B34,2) -> 03 | G34: =IF(E34<>0,LEFT(B34,2),"") | H34: =IF(E34<>0,A34,"") | I34: =IF(E34<>0,E34,"") | J34: =VLOOKUP(F34,$G$4:$I$342,3,FALSE) -> 0.07
A35: =+'Combined Rate'!A58 -> Mendon | B35: =+'Combined Rate'!C58 -> 03-041 | C35: =IF(D35=J35,LEFT(B35,3)&"000",B35) -> 03-000 | D35: =+'Combined Rate'!Z58 -> 0.07 | E35: =IF(RIGHT(B35,3)="000",D35,0) -> 0 | F35: =LEFT(B35,2) -> 03 | G35: =IF(E35<>0,LEFT(B35,2),"") | H35: =IF(E35<>0,A35,"") | I35: =IF(E35<>0,E35,"") | J35: =VLOOKUP(F35,$G$4:$I$342,3,FALSE) -> 0.07
A36: =+'Combined Rate'!A59 -> Millville | B36: =+'Combined Rate'!C59 -> 03-044 | C36: =IF(D36=J36,LEFT(B36,3)&"000",B36) -> 03-044 | D36: =+'Combined Rate'!Z59 -> 0.0725 | E36: =IF(RIGHT(B36,3)="000",D36,0) -> 0 | F36: =LEFT(B36,2) -> 03 | G36: =IF(E36<>0,LEFT(B36,2),"") | H36: =IF(E36<>0,A36,"") | I36: =IF(E36<>0,E36,"") | J36: =VLOOKUP(F36,$G$4:$I$342,3,FALSE) -> 0.07
A37: =+'Combined Rate'!A60 -> Newton | B37: =+'Combined Rate'!C60 -> 03-047 | C37: =IF(D37=J37,LEFT(B37,3)&"000",B37) -> 03-000 | D37: =+'Combined Rate'!Z60 -> 0.07 | E37: =IF(RIGHT(B37,3)="000",D37,0) -> 0 | F37: =LEFT(B37,2) -> 03 | G37: =IF(E37<>0,LEFT(B37,2),"") | H37: =IF(E37<>0,A37,"") | I37: =IF(E37<>0,E37,"") | J37: =VLOOKUP(F37,$G$4:$I$342,3,FALSE) -> 0.07
A38: =+'Combined Rate'!A61 -> North Logan | B38: =+'Combined Rate'!C61 -> 03-049 | C38: =IF(D38=J38,LEFT(B38,3)&"000",B38) -> 03-049 | D38: =+'Combined Rate'!Z61 -> 0.073 | E38: =IF(RIGHT(B38,3)="000",D38,0) -> 0 | F38: =LEFT(B38,2) -> 03 | G38: =IF(E38<>0,LEFT(B38,2),"") | H38: =IF(E38<>0,A38,"") | I38: =IF(E38<>0,E38,"") | J38: =VLOOKUP(F38,$G$4:$I$342,3,FALSE) -> 0.07
... A46: =+'Combined Rate'!A69 -> Nibley | B46: =+'Combined Rate'!C69 -> 03-098 | C46: =IF(D46=J46,LEFT(B46,3)&"000",B46) -> 03-098 | D46: =+'Combined Rate'!Z69 -> 0.073 | E46: =IF(RIGHT(B46,3)="000",D46,0) -> 0 | F46: =LEFT(B46,2) -> 03 | G46: =IF(E46<>0,LEFT(B46,2),"") | H46: =IF(E46<>0,A46,"") | I46: =IF(E46<>0,E46,"") | J46: =VLOOKUP(F46,$G$4:$I$342,3,FALSE) -> 0.07
A47: =+'Combined Rate'!A71 -> Cache Valley Transit | B47: =+'Combined Rate'!C71 -> 03-900 | C47: =IF(D47=J47,LEFT(B47,3)&"000",B47) -> 03-900 | D47: =+'Combined Rate'!Z71 -> 0.0725 | E47: =IF(RIGHT(B47,3)="000",D47,0) -> 0 | F47: =LEFT(B47,2) -> 03 | G47: =IF(E47<>0,LEFT(B47,2),"") | H47: =IF(E47<>0,A47,"") | I47: =IF(E47<>0,E47,"") | J47: =VLOOKUP(F47,$G$4:$I$342,3,FALSE) -> 0.07
A49: =+'Combined Rate'!A73 -> Carbon County | B49: =+'Combined Rate'!C73 -> 04-000 | C49: =IF(D49=J49,LEFT(B49,3)&"000",B49) -> 04-000 | D49: =+'Combined Rate'!Z73 -> 0.0635 | E49: =IF(RIGHT(B49,3)="000",D49,0) -> 0.0635 | F49: =LEFT(B49,2) -> 04 | G49: =IF(E49<>0,LEFT(B49,2),"") -> 04 | H49: =IF(E49<>0,A49,"") -> Carbon County | I49: =IF(E49<>0,E49,"") -> 0.0635 | J49: =VLOOKUP(F49,$G$4:$I$342,3,FALSE) -> 0.0635
A50: =+'Combined Rate'!A74 -> Helper | B50: =+'Combined Rate'!C74 -> 04-016 | C50: =IF(D50=J50,LEFT(B50,3)&"000",B50) -> 04-016 | D50: =+'Combined Rate'!Z74 -> 0.0645 | E50: =IF(RIGHT(B50,3)="000",D50,0) -> 0 | F50: =LEFT(B50,2) -> 04 | G50: =IF(E50<>0,LEFT(B50,2),"") | H50: =IF(E50<>0,A50,"") | I50: =IF(E50<>0,E50,"") | J50: =VLOOKUP(F50,$G$4:$I$342,3,FALSE) -> 0.0635
A51: =+'Combined Rate'!A75 -> Price | B51: =+'Combined Rate'!C75 -> 04-035 | C51: =IF(D51=J51,LEFT(B51,3)&"000",B51) -> 04-035 | D51: =+'Combined Rate'!Z75 -> 0.0675 | E51: =IF(RIGHT(B51,3)="000",D51,0) -> 0 | F51: =LEFT(B51,2) -> 04 | G51: =IF(E51<>0,LEFT(B51,2),"") | H51: =IF(E51<>0,A51,"") | I51: =IF(E51<>0,E51,"") | J51: =VLOOKUP(F51,$G$4:$I$342,3,FALSE) -> 0.0635
A52: =+'Combined Rate'!A76 -> Scofield | B52: =+'Combined Rate'!C76 -> 04-040 | C52: =IF(D52=J52,LEFT(B52,3)&"000",B52) -> 04-000 | D52: =+'Combined Rate'!Z76 -> 0.0635 | E52: =IF(RIGHT(B52,3)="000",D52,0) -> 0 | F52: =LEFT(B52,2) -> 04 | G52: =IF(E52<>0,LEFT(B52,2),"") | H52: =IF(E52<>0,A52,"") | I52: =IF(E52<>0,E52,"") | J52: =VLOOKUP(F52,$G$4:$I$342,3,FALSE) -> 0.0635
A53: =+'Combined Rate'!A77 -> Wellington | B53: =+'Combined Rate'!C77 -> 04-053 | C53: =IF(D53=J53,LEFT(B53,3)&"000",B53) -> 04-053 | D53: =+'Combined Rate'!Z77 -> 0.0665 | E53: =IF(RIGHT(B53,3)="000",D53,0) -> 0 | F53: =LEFT(B53,2) -> 04 | G53: =IF(E53<>0,LEFT(B53,2),"") | H53: =IF(E53<>0,A53,"") | I53: =IF(E53<>0,E53,"") | J53: =VLOOKUP(F53,$G$4:$I$342,3,FALSE) -> 0.0635
A54: =+'Combined Rate'!A78 -> East Carbon | B54: =+'Combined Rate'!C78 -> 04-058 | C54: =IF(D54=J54,LEFT(B54,3)&"000",B54) -> 04-000 | D54: =+'Combined Rate'!Z78 -> 0.0635 | E54: =IF(RIGHT(B54,3)="000",D54,0) -> 0 | F54: =LEFT(B54,2) -> 04 | G54: =IF(E54<>0,LEFT(B54,2),"") | H54: =IF(E54<>0,A54,"") | I54: =IF(E54<>0,E54,"") | J54: =VLOOKUP(F54,$G$4:$I$342,3,FALSE) -> 0.0635
...

Sheet Both
A1: Code | B1: Location | C1: ST | D1: SF | E1: LS | F1: CO | G1: MT | H1: MA | I1: MF | J1: CT | K1: HT | L1: HH | M1: AT | N1: CP | O1: SM | P1: RH | Q1: CZ | R1: TO | S1: TN | T1: RR | U1: CF | V1: TR | W1: SR | X1: TM | Y1: TT | Z1: MD | AA1: MV | AB1: FF | AC1: OH | AD1: FG | AE1: ES | AF1: SE | AG1: RN | AH1: TL | AI1: ET | AJ1: Locality Total
A2: 01000 | B2: Beaver County | C2: =+'Combined Rate'!E18 -> 0.0485 | D2: 0.0175 | E2: =+'Combined Rate'!G18 -> 0.01 | F2: =+'Combined Rate'!H18 -> 0.0025 | G2: =+'Combined Rate'!I18 -> 0 | H2: =+'Combined Rate'!J18 -> 0 | I2: =+'Combined Rate'!K18 -> 0 | J2: =+'Combined Rate'!L18 -> 0 | K2: =+'Combined Rate'!M18 -> 0 | L2: =+'Combined Rate'!N18 -> 0 | ... U2: =+'Combined Rate'!W18 -> 0 | V2: =+#REF! -> #REF! | W2: =+#REF! -> #REF! | X2: =+#REF! -> #REF! | Y2: =+#REF! -> #REF! | Z2: =+#REF! -> #REF! | AA2: =+#REF! -> #REF! | AB2: =+#REF! -> #REF! | AC2: =+#REF! -> #REF! | ... AI2: =+#REF! -> #REF! | AJ2: =SUM(C2:AI2) -> #REF!
A3: 01002 | B3: Beaver City | C3: =+'Combined Rate'!E19 -> 0.0485 | D3: 0.0175 | E3: =+'Combined Rate'!G19 -> 0.01 | F3: =+'Combined Rate'!H19 -> 0.0025 | G3: =+'Combined Rate'!I19 -> 0 | H3: =+'Combined Rate'!J19 -> 0 | I3: =+'Combined Rate'!K19 -> 0 | J3: =+'Combined Rate'!L19 -> 0 | K3: =+'Combined Rate'!M19 -> 0 | L3: =+'Combined Rate'!N19 -> 0 | ... U3: =+'Combined Rate'!W19 -> 0 | V3: =+#REF! -> #REF! | W3: =+#REF! -> #REF! | X3: =+#REF! -> #REF! | Y3: =+#REF! -> #REF! | Z3: =+#REF! -> #REF! | AA3: =+#REF! -> #REF! | AB3: =+#REF! -> #REF! | AC3: =+#REF! -> #REF! | ... AI3: =+#REF! -> #REF! | AJ3: =SUM(C3:AI3) -> #REF!
A4: 01008 | B4: Milford | C4: =+'Combined Rate'!E20 -> 0.0485 | D4: 0.0175 | E4: =+'Combined Rate'!G20 -> 0.01 | F4: =+'Combined Rate'!H20 -> 0.0025 | G4: =+'Combined Rate'!I20 -> 0 | H4: =+'Combined Rate'!J20 -> 0 | I4: =+'Combined Rate'!K20 -> 0 | J4: =+'Combined Rate'!L20 -> 0 | K4: =+'Combined Rate'!M20 -> 0 | L4: =+'Combined Rate'!N20 -> 0 | ... U4: =+'Combined Rate'!W20 -> 0 | V4: =+#REF! -> #REF! | W4: =+#REF! -> #REF! | X4: =+#REF! -> #REF! | Y4: =+#REF! -> #REF! | Z4: =+#REF! -> #REF! | AA4: =+#REF! -> #REF! | AB4: =+#REF! -> #REF! | AC4: =+#REF! -> #REF! | ... AI4: =+#REF! -> #REF! | AJ4: =SUM(C4:AI4) -> #REF!
A5: 01009 | B5: Minersville | C5: =+'Combined Rate'!E21 -> 0.0485 | D5: 0.0175 | E5: =+'Combined Rate'!G21 -> 0.01 | F5: =+'Combined Rate'!H21 -> 0.0025 | G5: =+'Combined Rate'!I21 -> 0 | H5: =+'Combined Rate'!J21 -> 0 | I5: =+'Combined Rate'!K21 -> 0 | J5: =+'Combined Rate'!L21 -> 0 | K5: =+'Combined Rate'!M21 -> 0 | L5: =+'Combined Rate'!N21 -> 0 | ... U5: =+'Combined Rate'!W21 -> 0 | V5: =+#REF! -> #REF! | W5: =+#REF! -> #REF! | X5: =+#REF! -> #REF! | Y5: =+#REF! -> #REF! | Z5: =+#REF! -> #REF! | AA5: =+#REF! -> #REF! | AB5: =+#REF! -> #REF! | AC5: =+#REF! -> #REF! | ... AI5: =+#REF! -> #REF! | AJ5: =SUM(C5:AI5) -> #REF!
A6: 02000 | B6: Box Elder County | C6: =+'Combined Rate'!E26 -> 0.0485 | D6: 0.0175 | E6: =+'Combined Rate'!G26 -> 0.01 | F6: =+'Combined Rate'!H26 -> 0.0025 | G6: =+'Combined Rate'!I26 -> 0 | H6: =+'Combined Rate'!J26 -> 0 | I6: =+'Combined Rate'!K26 -> 0.003 | J6: =+'Combined Rate'!L26 -> 0 | K6: =+'Combined Rate'!M26 -> 0 | L6: =+'Combined Rate'!N26 -> 0 | ... U6: =+'Combined Rate'!W26 -> 0 | V6: =+#REF! -> #REF! | W6: =+#REF! -> #REF! | X6: =+#REF! -> #REF! | Y6: =+#REF! -> #REF! | Z6: =+#REF! -> #REF! | AA6: =+#REF! -> #REF! | AB6: =+#REF! -> #REF! | AC6: =+#REF! -> #REF! | ... AI6: =+#REF! -> #REF! | AJ6: =SUM(C6:AI6) -> #REF!
A7: 02004 | B7: Bear River | C7: =+'Combined Rate'!E27 -> 0.0485 | D7: 0.0175 | E7: =+'Combined Rate'!G27 -> 0.01 | F7: =+'Combined Rate'!H27 -> 0.0025 | G7: =+'Combined Rate'!I27 -> 0 | H7: =+'Combined Rate'!J27 -> 0 | I7: =+'Combined Rate'!K27 -> 0.003 | J7: =+'Combined Rate'!L27 -> 0 | K7: =+'Combined Rate'!M27 -> 0 | L7: =+'Combined Rate'!N27 -> 0 | ... U7: =+'Combined Rate'!W27 -> 0 | V7: =+#REF! -> #REF! | W7: =+#REF! -> #REF! | X7: =+#REF! -> #REF! | Y7: =+#REF! -> #REF! | Z7: =+#REF! -> #REF! | AA7: =+#REF! -> #REF! | AB7: =+#REF! -> #REF! | AC7: =+#REF! -> #REF! | ... AI7: =+#REF! -> #REF! | AJ7: =SUM(C7:AI7) -> #REF!
A8: 02017 | B8: Brigham | C8: =+'Combined Rate'!E28 -> 0.0485 | D8: 0.0175 | E8: =+'Combined Rate'!G28 -> 0.01 | F8: =+'Combined Rate'!H28 -> 0.0025 | G8: =+'Combined Rate'!I28 -> 0.003 | H8: =+'Combined Rate'!J28 -> 0 | I8: =+'Combined Rate'!K28 -> 0.003 | J8: =+'Combined Rate'!L28 -> 0 | K8: =+'Combined Rate'!M28 -> 0 | L8: =+'Combined Rate'!N28 -> 0 | ... U8: =+'Combined Rate'!W28 -> 0 | V8: =+#REF! -> #REF! | W8: =+#REF! -> #REF! | X8: =+#REF! -> #REF! | Y8: =+#REF! -> #REF! | Z8: =+#REF! -> #REF! | AA8: =+#REF! -> #REF! | AB8: =+#REF! -> #REF! | AC8: =+#REF! -> #REF! | ... AI8: =+#REF! -> #REF! | AJ8: =SUM(C8:AI8) -> #REF!
A9: 02025 | B9: Corinne | C9: =+'Combined Rate'!E29 -> 0.0485 | D9: 0.0175 | E9: =+'Combined Rate'!G29 -> 0.01 | F9: =+'Combined Rate'!H29 -> 0.0025 | G9: =+'Combined Rate'!I29 -> 0 | H9: =+'Combined Rate'!J29 -> 0 | I9: =+'Combined Rate'!K29 -> 0.003 | J9: =+'Combined Rate'!L29 -> 0 | K9: =+'Combined Rate'!M29 -> 0 | L9: =+'Combined Rate'!N29 -> 0 | ... U9: =+'Combined Rate'!W29 -> 0 | V9: =+#REF! -> #REF! | W9: =+#REF! -> #REF! | X9: =+#REF! -> #REF! | Y9: =+#REF! -> #REF! | Z9: =+#REF! -> #REF! | AA9: =+#REF! -> #REF! | AB9: =+#REF! -> #REF! | AC9: =+#REF! -> #REF! | ... AI9: =+#REF! -> #REF! | AJ9: =SUM(C9:AI9) -> #REF!
A10: 02032 | B10: Deweyville | C10: =+'Combined Rate'!E30 -> 0.0485 | D10: 0.0175 | E10: =+'Combined Rate'!G30 -> 0.01 | F10: =+'Combined Rate'!H30 -> 0.0025 | G10: =+'Combined Rate'!I30 -> 0 | H10: =+'Combined Rate'!J30 -> 0 | I10: =+'Combined Rate'!K30 -> 0.003 | J10: =+'Combined Rate'!L30 -> 0 | K10: =+'Combined Rate'!M30 -> 0 | L10: =+'Combined Rate'!N30 -> 0 | ... U10: =+'Combined Rate'!W30 -> 0 | V10: =+#REF! -> #REF! | W10: =+#REF! -> #REF! | X10: =+#REF! -> #REF! | Y10: =+#REF! -> #REF! | Z10: =+#REF! -> #REF! | AA10: =+#REF! -> #REF! | AB10: =+#REF! -> #REF! | AC10: =+#REF! -> #REF! | ... AI10: =+#REF! -> #REF! | AJ10: =SUM(C10:AI10) -> #REF!
A11: 02035 | B11: Elwood | C11: =+'Combined Rate'!E31 -> 0.0485 | D11: 0.0175 | E11: =+'Combined Rate'!G31 -> 0.01 | F11: =+'Combined Rate'!H31 -> 0.0025 | G11: =+'Combined Rate'!I31 -> 0 | H11: =+'Combined Rate'!J31 -> 0 | I11: =+'Combined Rate'!K31 -> 0.003 | J11: =+'Combined Rate'!L31 -> 0 | K11: =+'Combined Rate'!M31 -> 0 | L11: =+'Combined Rate'!N31 -> 0 | ... U11: =+'Combined Rate'!W31 -> 0 | V11: =+#REF! -> #REF! | W11: =+#REF! -> #REF! | X11: =+#REF! -> #REF! | Y11: =+#REF! -> #REF! | Z11: =+#REF! -> #REF! | AA11: =+#REF! -> #REF! | AB11: =+#REF! -> #REF! | AC11: =+#REF! -> #REF! | ... AI11: =+#REF! -> #REF! | AJ11: =SUM(C11:AI11) -> #REF!
A12: 02041 | B12: Fielding | C12: =+'Combined Rate'!E32 -> 0.0485 | D12: 0.0175 | E12: =+'Combined Rate'!G32 -> 0.01 | F12: =+'Combined Rate'!H32 -> 0.0025 | G12: =+'Combined Rate'!I32 -> 0 | H12: =+'Combined Rate'!J32 -> 0 | I12: =+'Combined Rate'!K32 -> 0.003 | J12: =+'Combined Rate'!L32 -> 0 | K12: =+'Combined Rate'!M32 -> 0 | L12: =+'Combined Rate'!N32 -> 0 | ... U12: =+'Combined Rate'!W32 -> 0 | V12: =+#REF! -> #REF! | W12: =+#REF! -> #REF! | X12: =+#REF! -> #REF! | Y12: =+#REF! -> #REF! | Z12: =+#REF! -> #REF! | AA12: =+#REF! -> #REF! | AB12: =+#REF! -> #REF! | AC12: =+#REF! -> #REF! | ... AI12: =+#REF! -> #REF! | AJ12: =SUM(C12:AI12) -> #REF!
A13: 02044 | B13: Garland | C13: =+'Combined Rate'!E33 -> 0.0485 | D13: 0.0175 | E13: =+'Combined Rate'!G33 -> 0.01 | F13: =+'Combined Rate'!H33 -> 0.0025 | G13: =+'Combined Rate'!I33 -> 0 | H13: =+'Combined Rate'!J33 -> 0 | I13: =+'Combined Rate'!K33 -> 0.003 | J13: =+'Combined Rate'!L33 -> 0 | K13: =+'Combined Rate'!M33 -> 0 | L13: =+'Combined Rate'!N33 -> 0 | ... U13: =+'Combined Rate'!W33 -> 0 | V13: =+#REF! -> #REF! | W13: =+#REF! -> #REF! | X13: =+#REF! -> #REF! | Y13: =+#REF! -> #REF! | Z13: =+#REF! -> #REF! | AA13: =+#REF! -> #REF! | AB13: =+#REF! -> #REF! | AC13: =+#REF! -> #REF! | ... AI13: =+#REF! -> #REF! | AJ13: =SUM(C13:AI13) -> #REF!
A14: 02054 | B14: Honeyville | C14: =+'Combined Rate'!E34 -> 0.0485 | D14: 0.0175 | E14: =+'Combined Rate'!G34 -> 0.01 | F14: =+'Combined Rate'!H34 -> 0.0025 | G14: =+'Combined Rate'!I34 -> 0 | H14: =+'Combined Rate'!J34 -> 0 | I14: =+'Combined Rate'!K34 -> 0.003 | J14: =+'Combined Rate'!L34 -> 0 | K14: =+'Combined Rate'!M34 -> 0 | L14: =+'Combined Rate'!N34 -> 0 | ... U14: =+'Combined Rate'!W34 -> 0 | V14: =+#REF! -> #REF! | W14: =+#REF! -> #REF! | X14: =+#REF! -> #REF! | Y14: =+#REF! -> #REF! | Z14: =+#REF! -> #REF! | AA14: =+#REF! -> #REF! | AB14: =+#REF! -> #REF! | AC14: =+#REF! -> #REF! | ... AI14: =+#REF! -> #REF! | AJ14: =SUM(C14:AI14) -> #REF!
A15: 02057 | B15: Howell | C15: =+'Combined Rate'!E35 -> 0.0485 | D15: 0.0175 | E15: =+'Combined Rate'!G35 -> 0.01 | F15: =+'Combined Rate'!H35 -> 0.0025 | G15: =+'Combined Rate'!I35 -> 0 | H15: =+'Combined Rate'!J35 -> 0 | I15: =+'Combined Rate'!K35 -> 0.003 | J15: =+'Combined Rate'!L35 -> 0 | K15: =+'Combined Rate'!M35 -> 0 | L15: =+'Combined Rate'!N35 -> 0 | ... U15: =+'Combined Rate'!W35 -> 0 | V15: =+#REF! -> #REF! | W15: =+#REF! -> #REF! | X15: =+#REF! -> #REF! | Y15: =+#REF! -> #REF! | Z15: =+#REF! -> #REF! | AA15: =+#REF! -> #REF! | AB15: =+#REF! -> #REF! | AC15: =+#REF! -> #REF! | ... AI15: =+#REF! -> #REF! | AJ15: =SUM(C15:AI15) -> #REF!
A16: 02069 | B16: Mantua | C16: =+'Combined Rate'!E36 -> 0.0485 | D16: 0.0175 | E16: =+'Combined Rate'!G36 -> 0.01 | F16: =+'Combined Rate'!H36 -> 0.0025 | G16: =+'Combined Rate'!I36 -> 0 | H16: =+'Combined Rate'!J36 -> 0 | I16: =+'Combined Rate'!K36 -> 0.003 | J16: =+'Combined Rate'!L36 -> 0 | K16: =+'Combined Rate'!M36 -> 0.003 | L16: =+'Combined Rate'!N36 -> 0 | ... U16: =+'Combined Rate'!W36 -> 0 | V16: =+#REF! -> #REF! | W16: =+#REF! -> #REF! | X16: =+#REF! -> #REF! | Y16: =+#REF! -> #REF! | Z16: =+#REF! -> #REF! | AA16: =+#REF! -> #REF! | AB16: =+#REF! -> #REF! | AC16: =+#REF! -> #REF! | ... AI16: =+#REF! -> #REF! | AJ16: =SUM(C16:AI16) -> #REF!
A17: 02086 | B17: Perry | C17: =+'Combined Rate'!E37 -> 0.0485 | D17: 0.0175 | E17: =+'Combined Rate'!G37 -> 0.01 | F17: =+'Combined Rate'!H37 -> 0.0025 | G17: =+'Combined Rate'!I37 -> 0 | H17: =+'Combined Rate'!J37 -> 0 | I17: =+'Combined Rate'!K37 -> 0.003 | J17: =+'Combined Rate'!L37 -> 0 | K17: =+'Combined Rate'!M37 -> 0.003 | L17: =+'Combined Rate'!N37 -> 0 | ... U17: =+'Combined Rate'!W37 -> 0 | V17: =+#REF! -> #REF! | W17: =+#REF! -> #REF! | X17: =+#REF! -> #REF! | Y17: =+#REF! -> #REF! | Z17: =+#REF! -> #REF! | AA17: =+#REF! -> #REF! | AB17: =+#REF! -> #REF! | AC17: =+#REF! -> #REF! | ... AI17: =+#REF! -> #REF! | AJ17: =SUM(C17:AI17) -> #REF!
... A22: 02120 | B22: Willard | C22: =+'Combined Rate'!E42 -> 0.0485 | D22: 0.0175 | E22: =+'Combined Rate'!G42 -> 0.01 | F22: =+'Combined Rate'!H42 -> 0.0025 | G22: =+'Combined Rate'!I42 -> 0 | H22: =+'Combined Rate'!J42 -> 0 | I22: =+'Combined Rate'!K42 -> 0.003 | J22: =+'Combined Rate'!L42 -> 0 | K22: =+'Combined Rate'!M42 -> 0.003 | L22: =+'Combined Rate'!N42 -> 0 | ... U22: =+'Combined Rate'!W42 -> 0 | V22: =+#REF! -> #REF! | W22: =+#REF! -> #REF! | X22: =+#REF! -> #REF! | Y22: =+#REF! -> #REF! | Z22: =+#REF! -> #REF! | AA22: =+#REF! -> #REF! | AB22: =+#REF! -> #REF! | AC22: =+#REF! -> #REF! | ... AI22: =+#REF! -> #REF! | AJ22: =SUM(C22:AI22) -> #REF!
A23: 03000 | B23: Cache County | C23: =+'Combined Rate'!E50 -> 0.0485 | D23: 0.0175 | E23: =+'Combined Rate'!G50 -> 0.01 | F23: =+'Combined Rate'!H50 -> 0.0025 | G23: =+'Combined Rate'!I50 -> 0 | H23: =+'Combined Rate'!J50 -> 0 | I23: =+'Combined Rate'!K50 -> 0.003 | J23: =+'Combined Rate'!L50 -> 0.0025 | K23: =+'Combined Rate'!M50 -> 0 | L23: =+'Combined Rate'!N50 -> 0 | ... U23: =+'Combined Rate'!W50 -> 0 | V23: =+#REF! -> #REF! | W23: =+#REF! -> #REF! | X23: =+#REF! -> #REF! | Y23: =+#REF! -> #REF! | Z23: =+#REF! -> #REF! | AA23: =+#REF! -> #REF! | AB23: =+#REF! -> #REF! | AC23: =+#REF! -> #REF! | ... AI23: =+#REF! -> #REF! | AJ23: =SUM(C23:AI23) -> #REF!
A24: 03001 | B24: Amalga | C24: =+'Combined Rate'!E51 -> 0.0485 | D24: 0.0175 | E24: =+'Combined Rate'!G51 -> 0.01 | F24: =+'Combined Rate'!H51 -> 0.0025 | G24: =+'Combined Rate'!I51 -> 0 | H24: =+'Combined Rate'!J51 -> 0 | I24: =+'Combined Rate'!K51 -> 0.003 | J24: =+'Combined Rate'!L51 -> 0.0025 | K24: =+'Combined Rate'!M51 -> 0 | L24: =+'Combined Rate'!N51 -> 0 | ... U24: =+'Combined Rate'!W51 -> 0 | V24: =+#REF! -> #REF! | W24: =+#REF! -> #REF! | X24: =+#REF! -> #REF! | Y24: =+#REF! -> #REF! | Z24: =+#REF! -> #REF! | AA24: =+#REF! -> #REF! | AB24: =+#REF! -> #REF! | AC24: =+#REF! -> #REF! | ... AI24: =+#REF! -> #REF! | AJ24: =SUM(C24:AI24) -> #REF!
A25: 03014 | B25: Clarkston | C25: =+'Combined Rate'!E52 -> 0.0485 | D25: 0.0175 | E25: =+'Combined Rate'!G52 -> 0.01 | F25: =+'Combined Rate'!H52 -> 0.0025 | G25: =+'Combined Rate'!I52 -> 0 | H25: =+'Combined Rate'!J52 -> 0 | I25: =+'Combined Rate'!K52 -> 0.003 | J25: =+'Combined Rate'!L52 -> 0.0025 | K25: =+'Combined Rate'!M52 -> 0 | L25: =+'Combined Rate'!N52 -> 0 | ... U25: =+'Combined Rate'!W52 -> 0 | V25: =+#REF! -> #REF! | W25: =+#REF! -> #REF! | X25: =+#REF! -> #REF! | Y25: =+#REF! -> #REF! | Z25: =+#REF! -> #REF! | AA25: =+#REF! -> #REF! | AB25: =+#REF! -> #REF! | AC25: =+#REF! -> #REF! | ... AI25: =+#REF! -> #REF! | AJ25: =SUM(C25:AI25) -> #REF!
A26: 03017 | B26: Cornish | C26: =+'Combined Rate'!E53 -> 0.0485 | D26: 0.0175 | E26: =+'Combined Rate'!G53 -> 0.01 | F26: =+'Combined Rate'!H53 -> 0.0025 | G26: =+'Combined Rate'!I53 -> 0 | H26: =+'Combined Rate'!J53 -> 0 | I26: =+'Combined Rate'!K53 -> 0.003 | J26: =+'Combined Rate'!L53 -> 0.0025 | K26: =+'Combined Rate'!M53 -> 0 | L26: =+'Combined Rate'!N53 -> 0 | ... U26: =+'Combined Rate'!W53 -> 0 | V26: =+#REF! -> #REF! | W26: =+#REF! -> #REF! | X26: =+#REF! -> #REF! | Y26: =+#REF! -> #REF! | Z26: =+#REF! -> #REF! | AA26: =+#REF! -> #REF! | AB26: =+#REF! -> #REF! | AC26: =+#REF! -> #REF! | ... AI26: =+#REF! -> #REF! | AJ26: =SUM(C26:AI26) -> #REF!
A27: 03032 | B27: Hyde Park | C27: =+'Combined Rate'!E54 -> 0.0485 | D27: 0.0175 | E27: =+'Combined Rate'!G54 -> 0.01 | F27: =+'Combined Rate'!H54 -> 0.0025 | G27: =+'Combined Rate'!I54 -> 0.0025 | H27: =+'Combined Rate'!J54 -> 0 | I27: =+'Combined Rate'!K54 -> 0.003 | J27: =+'Combined Rate'!L54 -> 0.0025 | K27: =+'Combined Rate'!M54 -> 0 | L27: =+'Combined Rate'!N54 -> 0 | ... U27: =+'Combined Rate'!W54 -> 0 | V27: =+#REF! -> #REF! | W27: =+#REF! -> #REF! | X27: =+#REF! -> #REF! | Y27: =+#REF! -> #REF! | Z27: =+#REF! -> #REF! | AA27: =+#REF! -> #REF! | AB27: =+#REF! -> #REF! | AC27: =+#REF! -> #REF! | ... AI27: =+#REF! -> #REF! | AJ27: =SUM(C27:AI27) -> #REF!
A28: 03033 | B28: Hyrum | C28: =+'Combined Rate'!E55 -> 0.0485 | D28: 0.0175 | E28: =+'Combined Rate'!G55 -> 0.01 | F28: =+'Combined Rate'!H55 -> 0.0025 | G28: =+'Combined Rate'!I55 -> 0.003 | H28: =+'Combined Rate'!J55 -> 0 | I28: =+'Combined Rate'!K55 -> 0.003 | J28: =+'Combined Rate'!L55 -> 0.0025 | K28: =+'Combined Rate'!M55 -> 0 | L28: =+'Combined Rate'!N55 -> 0 | ... U28: =+'Combined Rate'!W55 -> 0 | V28: =+#REF! -> #REF! | W28: =+#REF! -> #REF! | X28: =+#REF! -> #REF! | Y28: =+#REF! -> #REF! | Z28: =+#REF! -> #REF! | AA28: =+#REF! -> #REF! | AB28: =+#REF! -> #REF! | AC28: =+#REF! -> #REF! | ... AI28: =+#REF! -> #REF! | AJ28: =SUM(C28:AI28) -> #REF!
A29: 03036 | B29: Lewiston | C29: =+'Combined Rate'!E56 -> 0.0485 | D29: 0.0175 | E29: =+'Combined Rate'!G56 -> 0.01 | F29: =+'Combined Rate'!H56 -> 0.0025 | G29: =+'Combined Rate'!I56 -> 0.0025 | H29: =+'Combined Rate'!J56 -> 0 | I29: =+'Combined Rate'!K56 -> 0.003 | J29: =+'Combined Rate'!L56 -> 0.0025 | K29: =+'Combined Rate'!M56 -> 0 | L29: =+'Combined Rate'!N56 -> 0 | ... U29: =+'Combined Rate'!W56 -> 0 | V29: =+#REF! -> #REF! | W29: =+#REF! -> #REF! | X29: =+#REF! -> #REF! | Y29: =+#REF! -> #REF! | Z29: =+#REF! -> #REF! | AA29: =+#REF! -> #REF! | AB29: =+#REF! -> #REF! | AC29: =+#REF! -> #REF! | ... AI29: =+#REF! -> #REF! | AJ29: =SUM(C29:AI29) -> #REF!
A30: 03038 | B30: Logan | C30: =+'Combined Rate'!E57 -> 0.0485 | D30: 0.0175 | E30: =+'Combined Rate'!G57 -> 0.01 | F30: =+'Combined Rate'!H57 -> 0.0025 | G30: =+'Combined Rate'!I57 -> 0.003 | H30: =+'Combined Rate'!J57 -> 0 | I30: =+'Combined Rate'!K57 -> 0.003 | J30: =+'Combined Rate'!L57 -> 0.0025 | K30: =+'Combined Rate'!M57 -> 0 | L30: =+'Combined Rate'!N57 -> 0 | ... U30: =+'Combined Rate'!W57 -> 0 | V30: =+#REF! -> #REF! | W30: =+#REF! -> #REF! | X30: =+#REF! -> #REF! | Y30: =+#REF! -> #REF! | Z30: =+#REF! -> #REF! | AA30: =+#REF! -> #REF! | AB30: =+#REF! -> #REF! | AC30: =+#REF! -> #REF! | ... AI30: =+#REF! -> #REF! | AJ30: =SUM(C30:AI30) -> #REF!
A31: 03041 | B31: Mendon | C31: =+'Combined Rate'!E58 -> 0.0485 | D31: 0.0175 | E31: =+'Combined Rate'!G58 -> 0.01 | F31: =+'Combined Rate'!H58 -> 0.0025 | G31: =+'Combined Rate'!I58 -> 0 | H31: =+'Combined Rate'!J58 -> 0 | I31: =+'Combined Rate'!K58 -> 0.003 | J31: =+'Combined Rate'!L58 -> 0.0025 | K31: =+'Combined Rate'!M58 -> 0 | L31: =+'Combined Rate'!N58 -> 0 | ... U31: =+'Combined Rate'!W58 -> 0 | V31: =+#REF! -> #REF! | W31: =+#REF! -> #REF! | X31: =+#REF! -> #REF! | Y31: =+#REF! -> #REF! | Z31: =+#REF! -> #REF! | AA31: =+#REF! -> #REF! | AB31: =+#REF! -> #REF! | AC31: =+#REF! -> #REF! | ... AI31: =+#REF! -> #REF! | AJ31: =SUM(C31:AI31) -> #REF!
A32: 03044 | B32: Millville | C32: =+'Combined Rate'!E59 -> 0.0485 | D32: 0.0175 | E32: =+'Combined Rate'!G59 -> 0.01 | F32: =+'Combined Rate'!H59 -> 0.0025 | G32: =+'Combined Rate'!I59 -> 0.0025 | H32: =+'Combined Rate'!J59 -> 0 | I32: =+'Combined Rate'!K59 -> 0.003 | J32: =+'Combined Rate'!L59 -> 0.0025 | K32: =+'Combined Rate'!M59 -> 0 | L32: =+'Combined Rate'!N59 -> 0 | ... U32: =+'Combined Rate'!W59 -> 0 | V32: =+#REF! -> #REF! | W32: =+#REF! -> #REF! | X32: =+#REF! -> #REF! | Y32: =+#REF! -> #REF! | Z32: =+#REF! -> #REF! | AA32: =+#REF! -> #REF! | AB32: =+#REF! -> #REF! | AC32: =+#REF! -> #REF! | ... AI32: =+#REF! -> #REF! | AJ32: =SUM(C32:AI32) -> #REF!
A33: 03047 | B33: Newton | C33: =+'Combined Rate'!E60 -> 0.0485 | D33: 0.0175 | E33: =+'Combined Rate'!G60 -> 0.01 | F33: =+'Combined Rate'!H60 -> 0.0025 | G33: =+'Combined Rate'!I60 -> 0 | H33: =+'Combined Rate'!J60 -> 0 | I33: =+'Combined Rate'!K60 -> 0.003 | J33: =+'Combined Rate'!L60 -> 0.0025 | K33: =+'Combined Rate'!M60 -> 0 | L33: =+'Combined Rate'!N60 -> 0 | ... U33: =+'Combined Rate'!W60 -> 0 | V33: =+#REF! -> #REF! | W33: =+#REF! -> #REF! | X33: =+#REF! -> #REF! | Y33: =+#REF! -> #REF! | Z33: =+#REF! -> #REF! | AA33: =+#REF! -> #REF! | AB33: =+#REF! -> #REF! | AC33: =+#REF! -> #REF! | ... AI33: =+#REF! -> #REF! | AJ33: =SUM(C33:AI33) -> #REF!
A34: 03049 | B34: North Logan | C34: =+'Combined Rate'!E61 -> 0.0485 | D34: 0.0175 | E34: =+'Combined Rate'!G61 -> 0.01 | F34: =+'Combined Rate'!H61 -> 0.0025 | G34: =+'Combined Rate'!I61 -> 0.003 | H34: =+'Combined Rate'!J61 -> 0 | I34: =+'Combined Rate'!K61 -> 0.003 | J34: =+'Combined Rate'!L61 -> 0.0025 | K34: =+'Combined Rate'!M61 -> 0 | L34: =+'Combined Rate'!N61 -> 0 | ... U34: =+'Combined Rate'!W61 -> 0 | V34: =+#REF! -> #REF! | W34: =+#REF! -> #REF! | X34: =+#REF! -> #REF! | Y34: =+#REF! -> #REF! | Z34: =+#REF! -> #REF! | AA34: =+#REF! -> #REF! | AB34: =+#REF! -> #REF! | AC34: =+#REF! -> #REF! | ... AI34: =+#REF! -> #REF! | AJ34: =SUM(C34:AI34) -> #REF!
... A42: 03098 | B42: Nibley | C42: =+'Combined Rate'!E69 -> 0.0485 | D42: 0.0175 | E42: =+'Combined Rate'!G69 -> 0.01 | F42: =+'Combined Rate'!H69 -> 0.0025 | G42: =+'Combined Rate'!I69 -> 0.003 | H42: =+'Combined Rate'!J69 -> 0 | I42: =+'Combined Rate'!K69 -> 0.003 | J42: =+'Combined Rate'!L69 -> 0.0025 | K42: =+'Combined Rate'!M69 -> 0 | L42: =+'Combined Rate'!N69 -> 0 | ... U42: =+'Combined Rate'!W69 -> 0 | V42: =+#REF! -> #REF! | W42: =+#REF! -> #REF! | X42: =+#REF! -> #REF! | Y42: =+#REF! -> #REF! | Z42: =+#REF! -> #REF! | AA42: =+#REF! -> #REF! | AB42: =+#REF! -> #REF! | AC42: =+#REF! -> #REF! | ... AI42: =+#REF! -> #REF! | AJ42: =SUM(C42:AI42) -> #REF!
A43: 03900 | B43: Cache Valley Transit | C43: =+'Combined Rate'!E71 -> 0.0485 | D43: 0.0175 | E43: =+'Combined Rate'!G71 -> 0.01 | F43: =+'Combined Rate'!H71 -> 0.0025 | G43: =+'Combined Rate'!I71 -> 0.0025 | H43: =+'Combined Rate'!J71 -> 0 | I43: =+'Combined Rate'!K71 -> 0.003 | J43: =+'Combined Rate'!L71 -> 0.0025 | K43: =+'Combined Rate'!M71 -> 0 | L43: =+'Combined Rate'!N71 -> 0 | ... U43: =+'Combined Rate'!W71 -> 0 | V43: =+#REF! -> #REF! | W43: =+#REF! -> #REF! | X43: =+#REF! -> #REF! | Y43: =+#REF! -> #REF! | Z43: =+#REF! -> #REF! | AA43: =+#REF! -> #REF! | AB43: =+#REF! -> #REF! | AC43: =+#REF! -> #REF! | ... AI43: =+#REF! -> #REF! | AJ43: =SUM(C43:AI43) -> #REF!
A44: 04000 | B44: Carbon County | C44: =+'Combined Rate'!E73 -> 0.0485 | D44: 0.0175 | E44: =+'Combined Rate'!G73 -> 0.01 | F44: =+'Combined Rate'!H73 -> 0.0025 | G44: =+'Combined Rate'!I73 -> 0 | H44: =+'Combined Rate'!J73 -> 0 | I44: =+'Combined Rate'!K73 -> 0 | J44: =+'Combined Rate'!L73 -> 0 | K44: =+'Combined Rate'!M73 -> 0 | L44: =+'Combined Rate'!N73 -> 0 | ... U44: =+'Combined Rate'!W73 -> 0 | V44: =+#REF! -> #REF! | W44: =+#REF! -> #REF! | X44: =+#REF! -> #REF! | Y44: =+#REF! -> #REF! | Z44: =+#REF! -> #REF! | AA44: =+#REF! -> #REF! | AB44: =+#REF! -> #REF! | AC44: =+#REF! -> #REF! | ... AI44: =+#REF! -> #REF! | AJ44: =SUM(C44:AI44) -> #REF!
A45: 04016 | B45: Helper | C45: =+'Combined Rate'!E74 -> 0.0485 | D45: 0.0175 | E45: =+'Combined Rate'!G74 -> 0.01 | F45: =+'Combined Rate'!H74 -> 0.0025 | G45: =+'Combined Rate'!I74 -> 0 | H45: =+'Combined Rate'!J74 -> 0 | I45: =+'Combined Rate'!K74 -> 0 | J45: =+'Combined Rate'!L74 -> 0 | K45: =+'Combined Rate'!M74 -> 0 | L45: =+'Combined Rate'!N74 -> 0 | ... U45: =+'Combined Rate'!W74 -> 0 | V45: =+#REF! -> #REF! | W45: =+#REF! -> #REF! | X45: =+#REF! -> #REF! | Y45: =+#REF! -> #REF! | Z45: =+#REF! -> #REF! | AA45: =+#REF! -> #REF! | AB45: =+#REF! -> #REF! | AC45: =+#REF! -> #REF! | ... AI45: =+#REF! -> #REF! | AJ45: =SUM(C45:AI45) -> #REF!
A46: 04035 | B46: Price | C46: =+'Combined Rate'!E75 -> 0.0485 | D46: 0.0175 | E46: =+'Combined Rate'!G75 -> 0.01 | F46: =+'Combined Rate'!H75 -> 0.0025 | G46: =+'Combined Rate'!I75 -> 0 | H46: =+'Combined Rate'!J75 -> 0 | I46: =+'Combined Rate'!K75 -> 0 | J46: =+'Combined Rate'!L75 -> 0 | K46: =+'Combined Rate'!M75 -> 0.003 | L46: =+'Combined Rate'!N75 -> 0 | ... U46: =+'Combined Rate'!W75 -> 0 | V46: =+#REF! -> #REF! | W46: =+#REF! -> #REF! | X46: =+#REF! -> #REF! | Y46: =+#REF! -> #REF! | Z46: =+#REF! -> #REF! | AA46: =+#REF! -> #REF! | AB46: =+#REF! -> #REF! | AC46: =+#REF! -> #REF! | ... AI46: =+#REF! -> #REF! | AJ46: =SUM(C46:AI46) -> #REF!
A47: 04040 | B47: Scofield | C47: =+'Combined Rate'!E76 -> 0.0485 | D47: 0.0175 | E47: =+'Combined Rate'!G76 -> 0.01 | F47: =+'Combined Rate'!H76 -> 0.0025 | G47: =+'Combined Rate'!I76 -> 0 | H47: =+'Combined Rate'!J76 -> 0 | I47: =+'Combined Rate'!K76 -> 0 | J47: =+'Combined Rate'!L76 -> 0 | K47: =+'Combined Rate'!M76 -> 0 | L47: =+'Combined Rate'!N76 -> 0 | ... U47: =+'Combined Rate'!W76 -> 0 | V47: =+#REF! -> #REF! | W47: =+#REF! -> #REF! | X47: =+#REF! -> #REF! | Y47: =+#REF! -> #REF! | Z47: =+#REF! -> #REF! | AA47: =+#REF! -> #REF! | AB47: =+#REF! -> #REF! | AC47: =+#REF! -> #REF! | ... AI47: =+#REF! -> #REF! | AJ47: =SUM(C47:AI47) -> #REF!
A48: 04053 | B48: Wellington | C48: =+'Combined Rate'!E77 -> 0.0485 | D48: 0.0175 | E48: =+'Combined Rate'!G77 -> 0.01 | F48: =+'Combined Rate'!H77 -> 0.0025 | G48: =+'Combined Rate'!I77 -> 0 | H48: =+'Combined Rate'!J77 -> 0 | I48: =+'Combined Rate'!K77 -> 0 | J48: =+'Combined Rate'!L77 -> 0 | K48: =+'Combined Rate'!M77 -> 0.003 | L48: =+'Combined Rate'!N77 -> 0 | ... U48: =+'Combined Rate'!W77 -> 0 | V48: =+#REF! -> #REF! | W48: =+#REF! -> #REF! | X48: =+#REF! -> #REF! | Y48: =+#REF! -> #REF! | Z48: =+#REF! -> #REF! | AA48: =+#REF! -> #REF! | AB48: =+#REF! -> #REF! | AC48: =+#REF! -> #REF! | ... AI48: =+#REF! -> #REF! | AJ48: =SUM(C48:AI48) -> #REF!
A49: 04058 | B49: East Carbon | C49: =+'Combined Rate'!E78 -> 0.0485 | D49: 0.0175 | E49: =+'Combined Rate'!G78 -> 0.01 | F49: =+'Combined Rate'!H78 -> 0.0025 | G49: =+'Combined Rate'!I78 -> 0 | H49: =+'Combined Rate'!J78 -> 0 | I49: =+'Combined Rate'!K78 -> 0 | J49: =+'Combined Rate'!L78 -> 0 | K49: =+'Combined Rate'!M78 -> 0 | L49: =+'Combined Rate'!N78 -> 0 | ... U49: =+'Combined Rate'!W78 -> 0 | V49: =+#REF! -> #REF! | W49: =+#REF! -> #REF! | X49: =+#REF! -> #REF! | Y49: =+#REF! -> #REF! | Z49: =+#REF! -> #REF! | AA49: =+#REF! -> #REF! | AB49: =+#REF! -> #REF! | AC49: =+#REF! -> #REF! | ... AI49: =+#REF! -> #REF! | AJ49: =SUM(C49:AI49) -> #REF!
A50: 05000 | B50: Daggett County | C50: =+'Combined Rate'!E83 -> 0.0485 | D50: 0.0175 | E50: =+'Combined Rate'!G83 -> 0.01 | F50: =+'Combined Rate'!H83 -> 0.0025 | G50: =+'Combined Rate'!I83 -> 0 | H50: =+'Combined Rate'!J83 -> 0 | I50: =+'Combined Rate'!K83 -> 0.003 | J50: =+'Combined Rate'!L83 -> 0 | K50: =+'Combined Rate'!M83 -> 0 | L50: =+'Combined Rate'!N83 -> 0 | ... U50: =+'Combined Rate'!W83 -> 0 | V50: =+#REF! -> #REF! | W50: =+#REF! -> #REF! | X50: =+#REF! -> #REF! | Y50: =+#REF! -> #REF! | Z50: =+#REF! -> #REF! | AA50: =+#REF! -> #REF! | AB50: =+#REF! -> #REF! | AC50: =+#REF! -> #REF! | ... AI50: =+#REF! -> #REF! | AJ50: =SUM(C50:AI50) -> #REF!
A51: 05002 | B51: Dutch John | C51: =+'Combined Rate'!E84 -> 0.0485 | D51: 0.0175 | E51: =+'Combined Rate'!G84 -> 0.01 | F51: =+'Combined Rate'!H84 -> 0.0025 | G51: =+'Combined Rate'!I84 -> 0 | H51: =+'Combined Rate'!J84 -> 0 | I51: =+'Combined Rate'!K84 -> 0.003 | J51: =+'Combined Rate'!L84 -> 0 | K51: =+'Combined Rate'!M84 -> 0 | L51: =+'Combined Rate'!N84 -> 0 | ... U51: =+'Combined Rate'!W84 -> 0 | V51: =+#REF! -> #REF! | W51: =+#REF! -> #REF! | X51: =+#REF! -> #REF! | Y51: =+#REF! -> #REF! | Z51: =+#REF! -> #REF! | AA51: =+#REF! -> #REF! | AB51: =+#REF! -> #REF! | AC51: =+#REF! -> #REF! | ... AI51: =+#REF! -> #REF! | AJ51: =SUM(C51:AI51) -> #REF!
...
